Workbook
Name date: #REF!
Name SeaLiceData2016: '[1]2016'!$A$2:$DT$286
Name SeaLiceData2017: #REF!

Sheet 2017 Report
B2: SEA LICE REPORT 2017 | E2: Implementation date 26/10/2016
I3: 1 | J3: =A10
A4: Site No: | C4: Site Name | E4: =IF(ISBLANK($B$4),"",VLOOKUP($B$4,#REF!,2,FALSE)) | I4: 2 | J4: =B10
I5: 3 | J5: =C10
A6: Business No: | B6: =IF(ISBLANK($B$4),"",VLOOKUP($B$4,#REF!,4,FALSE)) | C6: Business Name | E6: =IF(ISBLANK($B$4),"",VLOOKUP($B$4,#REF!,3,FALSE)) | I6: 4 | J6: =D10
I7: 5 | J7: =E10
I8: 6 | J8: =F10
A9: Week 1 | B9: Week 2 | C9: Week 3 | D9: Week 4 | E9: Week 5 | F9: Week 6 | G9: Week 7 | I9: 7 | J9: =G10
A10: =IF(ISBLANK($B$4),"",(IF(ISBLANK(VLOOKUP($B$4,#REF!,12,FALSE)),"No Data",VLOOKUP($B$4,#REF!,12,FALSE)))) | B10: =IF(ISBLANK($B$4),"",(IF(ISBLANK(VLOOKUP($B$4,#REF!,15,FALSE)),"No Data",VLOOKUP($B$4,#REF!,15,FALSE)))) | C10: =IF(ISBLANK($B$4),"",(IF(ISBLANK(VLOOKUP($B$4,#REF!,18,FALSE)),"No Data",VLOOKUP($B$4,#REF!,18,FALSE)))) | D10: =IF(ISBLANK($B$4),"",(IF(ISBLANK(VLOOKUP($B$4,#REF!,21,FALSE)),"No Data",VLOOKUP($B$4,#REF!,21,FALSE)))) | E10: =IF(ISBLANK($B$4),"",(IF(ISBLANK(VLOOKUP($B$4,#REF!,24,FALSE)),"No Data",VLOOKUP($B$4,#REF!,24,FALSE)))) | F10: =IF(ISBLANK($B$4),"",(IF(ISBLANK(VLOOKUP($B$4,#REF!,27,FALSE)),"No Data",VLOOKUP($B$4,#REF!,27,FALSE)))) | G10: =IF(ISBLANK($B$4),"",(IF(ISBLANK(VLOOKUP($B$4,#REF!,30,FALSE)),"No Data",VLOOKUP($B$4,#REF!,30,FALSE)))) | I10: 8 | J10: =A13
I11: 9 | J11: =B13
A12: Week 8 | B12: Week 9 | C12: Week 10 | D12: Week 11 | E12: Week 12 | F12: Week 13 | G12: Week 14 | I12: 10 | J12: =C13
A13: =IF(ISBLANK($B$4),"",(IF(ISBLANK(VLOOKUP($B$4,#REF!,33,FALSE)),"No Data",VLOOKUP($B$4,#REF!,33,FALSE)))) | B13: =IF(ISBLANK($B$4),"",(IF(ISBLANK(VLOOKUP($B$4,#REF!,36,FALSE)),"No Data",VLOOKUP($B$4,#REF!,36,FALSE)))) | C13: =IF(ISBLANK($B$4),"",(IF(ISBLANK(VLOOKUP($B$4,#REF!,39,FALSE)),"No Data",VLOOKUP($B$4,#REF!,39,FALSE)))) | D13: =IF(ISBLANK($B$4),"",(IF(ISBLANK(VLOOKUP($B$4,#REF!,42,FALSE)),"No Data",VLOOKUP($B$4,#REF!,42,FALSE)))) | E13: =IF(ISBLANK($B$4),"",(IF(ISBLANK(VLOOKUP($B$4,#REF!,45,FALSE)),"No Data",VLOOKUP($B$4,#REF!,45,FALSE)))) | F13: =IF(ISBLANK($B$4),"",(IF(ISBLANK(VLOOKUP($B$4,#REF!,48,FALSE)),"No Data",VLOOKUP($B$4,#REF!,48,FALSE)))) | G13: =IF(ISBLANK($B$4),"",(IF(ISBLANK(VLOOKUP($B$4,#REF!,51,FALSE)),"No Data",VLOOKUP($B$4,#REF!,51,FALSE)))) | I13: 11 | J13: =D13
I14: 12 | J14: =E13
A15: Week 15 | B15: Week 16 | C15: Week 17 | D15: Week 18 | E15: Week 19 | F15: Week 20 | G15: Week 21 | I15: 13 | J15: =F13
A16: =IF(ISBLANK($B$4),"",(IF(ISBLANK(VLOOKUP($B$4,#REF!,54,FALSE)),"No Data",VLOOKUP($B$4,#REF!,54,FALSE)))) | B16: =IF(ISBLANK($B$4),"",(IF(ISBLANK(VLOOKUP($B$4,#REF!,57,FALSE)),"No Data",VLOOKUP($B$4,#REF!,57,FALSE)))) | C16: =IF(ISBLANK($B$4),"",(IF(ISBLANK(VLOOKUP($B$4,#REF!,60,FALSE)),"No Data",VLOOKUP($B$4,#REF!,60,FALSE)))) | D16: =IF(ISBLANK($B$4),"",(IF(ISBLANK(VLOOKUP($B$4,#REF!,63,FALSE)),"No Data",VLOOKUP($B$4,#REF!,63,FALSE)))) | E16: =IF(ISBLANK($B$4),"",(IF(ISBLANK(VLOOKUP($B$4,#REF!,66,FALSE)),"No Data",VLOOKUP($B$4,#REF!,66,FALSE)))) | F16: =IF(ISBLANK($B$4),"",(IF(ISBLANK(VLOOKUP($B$4,#REF!,69,FALSE)),"No Data",VLOOKUP($B$4,#REF!,69,FALSE)))) | G16: =IF(ISBLANK($B$4),"",(IF(ISBLANK(VLOOKUP($B$4,#REF!,72,FALSE)),"No Data", VLOOKUP($B$4,#REF!,72,FALSE)))) | I16: 14 | J16: =G13
I17: 15 | J17: =A16
A18: Week 22 | B18: Week 23 | C18: Week 24 | D18: Week 25 | E18: Week 26 | F18: Week 27 | G18: Week 28 | I18: 16 | J18: =B16
A19: =IF(ISBLANK($B$4),"",(IF(ISBLANK(VLOOKUP($B$4,#REF!,75,FALSE)),"No Data", VLOOKUP($B$4,#REF!,75,FALSE)))) | B19: =IF(ISBLANK($B$4),"",(IF(ISBLANK(VLOOKUP($B$4,#REF!,78,FALSE)),"No Data", VLOOKUP($B$4,#REF!,78,FALSE)))) | C19: =IF(ISBLANK($B$4),"",(IF(ISBLANK(VLOOKUP($B$4,#REF!,81,FALSE)),"No Data", VLOOKUP($B$4,#REF!,81,FALSE)))) | D19: =IF(ISBLANK($B$4),"",(IF(ISBLANK(VLOOKUP($B$4,#REF!,84,FALSE)),"No Data", VLOOKUP($B$4,#REF!,84,FALSE)))) | E19: =IF(ISBLANK($B$4),"",(IF(ISBLANK(VLOOKUP($B$4,#REF!,87,FALSE)),"No Data", VLOOKUP($B$4,#REF!,87,FALSE)))) | F19: =IF(ISBLANK($B$4),"",(IF(ISBLANK(VLOOKUP($B$4,#REF!,90,FALSE)),"No Data", VLOOKUP($B$4,#REF!,90,FALSE)))) | G19: =IF(ISBLANK($B$4),"",(IF(ISBLANK(VLOOKUP($B$4,#REF!,93,FALSE)),"No Data", VLOOKUP($B$4,#REF!,93,FALSE)))) | I19: 17 | J19: =C16
I20: 18 | J20: =D16
A21: Week 29 | B21: Week 30 | C21: Week 31 | D21: Week 32 | E21: Week 33 | F21: Week 34 | G21: Week 35 | I21: 19 | J21: =E16
A22: =IF(ISBLANK($B$4),"",(IF(ISBLANK(VLOOKUP($B$4,#REF!,96,FALSE)),"No Data", VLOOKUP($B$4,#REF!,96,FALSE)))) | B22: =IF(ISBLANK($B$4),"",(IF(ISBLANK(VLOOKUP($B$4,#REF!,99,FALSE)),"No Data", VLOOKUP($B$4,#REF!,99,FALSE)))) | C22: =IF(ISBLANK($B$4),"",(IF(ISBLANK(VLOOKUP($B$4,#REF!,102,FALSE)),"No Data", VLOOKUP($B$4,#REF!,102,FALSE)))) | D22: =IF(ISBLANK($B$4),"",(IF(ISBLANK(VLOOKUP($B$4,#REF!,105,FALSE)),"No Data", VLOOKUP($B$4,#REF!,105,FALSE)))) | E22: =IF(ISBLANK($B$4),"",(IF(ISBLANK(VLOOKUP($B$4,#REF!,108,FALSE)),"No Data", VLOOKUP($B$4,#REF!,108,FALSE)))) | F22: =IF(ISBLANK($B$4),"",(IF(ISBLANK(VLOOKUP($B$4,#REF!,111,FALSE)),"No Data", VLOOKUP($B$4,#REF!,111,FALSE)))) | G22: =IF(ISBLANK($B$4),"",(IF(ISBLANK(VLOOKUP($B$4,#REF!,114,FALSE)),"No Data",VLOOKUP($B$4,#REF!,114,FALSE)))) | I22: 20 | J22: =F16
I23: 21 | J23: =G16
A24: Week 36 | B24: Week 37 | C24: Week 38 | D24: Week 39 | E24: Week 40 | F24: Week 41 | G24: Week 42 | I24: 22 | J24: =A19
A25: =IF(ISBLANK($B$4),"",(IF(ISBLANK(VLOOKUP($B$4,#REF!,117,FALSE)),"No Data",VLOOKUP($B$4,#REF!,117,FALSE)))) | B25: =IF(ISBLANK($B$4),"",(IF(ISBLANK(VLOOKUP($B$4,#REF!,120,FALSE)),"No Data",VLOOKUP($B$4,#REF!,120,FALSE)))) | C25: =IF(ISBLANK($B$4),"",(IF(ISBLANK(VLOOKUP($B$4,#REF!,123,FALSE)),"No Data",VLOOKUP($B$4,#REF!,123,FALSE)))) | D25: =IF(ISBLANK($B$4),"",(IF(ISBLANK(VLOOKUP($B$4,#REF!,126,FALSE)),"No Data",VLOOKUP($B$4,#REF!,126,FALSE)))) | E25: =IF(ISBLANK($B$4),"",(IF(ISBLANK(VLOOKUP($B$4,#REF!,129,FALSE)),"No Data",VLOOKUP($B$4,#REF!,129,FALSE)))) | F25: =IF(ISBLANK($B$4),"",(IF(ISBLANK(VLOOKUP($B$4,#REF!,132,FALSE)),"No Data",VLOOKUP($B$4,#REF!,132,FALSE)))) | G25: =IF(ISBLANK($B$4),"",(IF(ISBLANK(VLOOKUP($B$4,#REF!,135,FALSE)),"No Data",VLOOKUP($B$4,#REF!,135,FALSE)))) | I25: 23 | J25: =B19
I26: 24 | J26: =C19
A27: Week 43 | B27: Week 44 | C27: Week 45 | D27: Week 46 | E27: Week 47 | F27: Week 48 | G27: Week 49 | I27: 25 | J27: =D19
A28: =IF(ISBLANK($B$4),"",(IF(ISBLANK(VLOOKUP($B$4,#REF!,138,FALSE)),"No Data",VLOOKUP($B$4,#REF!,138,FALSE)))) | B28: =IF(ISBLANK($B$4),"",(IF(ISBLANK(VLOOKUP($B$4,#REF!,141,FALSE)),"No Data",VLOOKUP($B$4,#REF!,141,FALSE)))) | C28: =IF(ISBLANK($B$4),"",(IF(ISBLANK(VLOOKUP($B$4,#REF!,144,FALSE)),"No Data",VLOOKUP($B$4,#REF!,144,FALSE)))) | D28: =IF(ISBLANK($B$4),"",(IF(ISBLANK(VLOOKUP($B$4,#REF!,147,FALSE)),"No Data",VLOOKUP($B$4,#REF!,147,FALSE)))) | E28: =IF(ISBLANK($B$4),"",(IF(ISBLANK(VLOOKUP($B$4,#REF!,150,FALSE)),"No Data",VLOOKUP($B$4,#REF!,150,FALSE)))) | F28: =IF(ISBLANK($B$4),"",(IF(ISBLANK(VLOOKUP($B$4,#REF!,153,FALSE)),"No Data",VLOOKUP($B$4,#REF!,153,FALSE)))) | G28: =IF(ISBLANK($B$4),"",(IF(ISBLANK(VLOOKUP($B$4,#REF!,156,FALSE)),"No Data",VLOOKUP($B$4,#REF!,156,FALSE)))) | I28: 26 | J28: =E19
I29: 27 | J29: =F19
A30: Week 50 | B30: Week 51 | C30: Week 52 | I30: 28 | J30: =G19
A31: =IF(ISBLANK($B$4),"",(IF(ISBLANK(VLOOKUP($B$4,#REF!,159,FALSE)),"No Data",VLOOKUP($B$4,#REF!,159,FALSE)))) | B31: =IF(ISBLANK($B$4),"",(IF(ISBLANK(VLOOKUP($B$4,#REF!,162,FALSE)),"No Data",VLOOKUP($B$4,#REF!,162,FALSE)))) | C31: =IF(ISBLANK($B$4),"",(IF(ISBLANK(VLOOKUP($B$4,#REF!,165,FALSE)),"No Data",VLOOKUP($B$4,#REF!,165,FALSE)))) | I31: 29 | J31: =A22
I32: 30 | J32: =B22
A33: Graph | I33: 31 | J33: =C22
I34: 32 | J34: =D22
I35: 33 | J35: =E22
I36: 34 | J36: =F22
I37: 35 | J37: =G22
I38: 36 | J38: =A25
I39: 37 | J39: =B25
I40: 38 | J40: =C25
I41: 39 | J41: =D25
I42: 40 | J42: =E25
I43: 41 | J43: =F25
I44: 42 | J44: =G25
I45: 43 | J45: =A28
I46: 44 | J46: =B28
I47: 45 | J47: =C28
I48: 46 | J48: =D28
I49: 47 | J49: =E28
I50: 48 | J50: =F28
I51: 49 | J51: =G28
I52: 50 | J52: =A31
I53: 51 | J53: =B31
I54: 52 | J54: =C31

Sheet 2017 Interventions
B2: SEA LICE REPORT 2017 | E2: Implementation date 26/10/2016
A4: Site No: | C4: Site Name | E4: =IF(ISBLANK(B4),"",VLOOKUP(B4,#REF!,2,FALSE))
A6: Business No: | B6: =IF(ISBLANK(B4),"",VLOOKUP(B4,#REF!,4,FALSE)) | C6: Business Name | E6: =IF(ISBLANK(B4),"",VLOOKUP(B4,#REF!,3,FALSE))
A9: Week 1 | B9: Week 2 | C9: Week 3 | D9: Week 4 | E9: Week 5 | F9: Week 6 | G9: Week 7
A10: =IF(ISBLANK($B$4),"",(IF(ISBLANK(VLOOKUP($B$4,#REF!,12,FALSE)),"No Data",VLOOKUP($B$4,#REF!,12,FALSE)))) | B10: =IF(ISBLANK($B$4),"",(IF(ISBLANK(VLOOKUP($B$4,#REF!,15,FALSE)),"No Data",VLOOKUP($B$4,#REF!,15,FALSE)))) | C10: =IF(ISBLANK($B$4),"",(IF(ISBLANK(VLOOKUP($B$4,#REF!,18,FALSE)),"No Data",VLOOKUP($B$4,#REF!,18,FALSE)))) | D10: =IF(ISBLANK($B$4),"",(IF(ISBLANK(VLOOKUP($B$4,#REF!,21,FALSE)),"No Data",VLOOKUP($B$4,#REF!,21,FALSE)))) | E10: =IF(ISBLANK($B$4),"",(IF(ISBLANK(VLOOKUP($B$4,#REF!,24,FALSE)),"No Data",VLOOKUP($B$4,#REF!,24,FALSE)))) | F10: =IF(ISBLANK($B$4),"",(IF(ISBLANK(VLOOKUP($B$4,#REF!,27,FALSE)),"No Data",VLOOKUP($B$4,#REF!,27,FALSE)))) | G10: =IF(ISBLANK($B$4),"",(IF(ISBLANK(VLOOKUP($B$4,#REF!,30,FALSE)),"No Data",VLOOKUP($B$4,#REF!,30,FALSE))))
A11: =IF(ISBLANK($B$4),"",(IF(ISBLANK(VLOOKUP($B$4,#REF!,13,FALSE)),"No Data",VLOOKUP($B$4,#REF!,13,FALSE)))) | B11: =IF(ISBLANK($B$4),"",(IF(ISBLANK(VLOOKUP($B$4,#REF!,16,FALSE)),"No Data",VLOOKUP($B$4,#REF!,16,FALSE)))) | C11: =IF(ISBLANK($B$4),"",(IF(ISBLANK(VLOOKUP($B$4,#REF!,19,FALSE)),"No Data",VLOOKUP($B$4,#REF!,19,FALSE)))) | D11: =IF(ISBLANK($B$4),"",(IF(ISBLANK(VLOOKUP($B$4,#REF!,22,FALSE)),"No Data",VLOOKUP($B$4,#REF!,22,FALSE)))) | E11: =IF(ISBLANK($B$4),"",(IF(ISBLANK(VLOOKUP($B$4,#REF!,25,FALSE)),"No Data",VLOOKUP($B$4,#REF!,25,FALSE)))) | F11: =IF(ISBLANK($B$4),"",(IF(ISBLANK(VLOOKUP($B$4,#REF!,28,FALSE)),"No Data",VLOOKUP($B$4,#REF!,28,FALSE)))) | G11: =IF(ISBLANK($B$4),"",(IF(ISBLANK(VLOOKUP($B$4,#REF!,31,FALSE)),"No Data",VLOOKUP($B$4,#REF!,31,FALSE))))
A13: Week 8 | B13: Week 9 | C13: Week 10 | D13: Week 11 | E13: Week 12 | F13: Week 13 | G13: Week 14
A14: =IF(ISBLANK($B$4),"",(IF(ISBLANK(VLOOKUP($B$4,#REF!,33,FALSE)),"No Data",VLOOKUP($B$4,#REF!,33,FALSE)))) | B14: =IF(ISBLANK($B$4),"",(IF(ISBLANK(VLOOKUP($B$4,#REF!,36,FALSE)),"No Data",VLOOKUP($B$4,#REF!,36,FALSE)))) | C14: =IF(ISBLANK($B$4),"",(IF(ISBLANK(VLOOKUP($B$4,#REF!,39,FALSE)),"No Data",VLOOKUP($B$4,#REF!,39,FALSE)))) | D14: =IF(ISBLANK($B$4),"",(IF(ISBLANK(VLOOKUP($B$4,#REF!,42,FALSE)),"No Data",VLOOKUP($B$4,#REF!,42,FALSE)))) | E14: =IF(ISBLANK($B$4),"",(IF(ISBLANK(VLOOKUP($B$4,#REF!,45,FALSE)),"No Data",VLOOKUP($B$4,#REF!,45,FALSE)))) | F14: =IF(ISBLANK($B$4),"",(IF(ISBLANK(VLOOKUP($B$4,#REF!,48,FALSE)),"No Data",VLOOKUP($B$4,#REF!,48,FALSE)))) | G14: =IF(ISBLANK($B$4),"",(IF(ISBLANK(VLOOKUP($B$4,#REF!,51,FALSE)),"No Data",VLOOKUP($B$4,#REF!,51,FALSE))))
A15: =IF(ISBLANK($B$4),"",(IF(ISBLANK(VLOOKUP($B$4,#REF!,34,FALSE)),"No Data",VLOOKUP($B$4,#REF!,34,FALSE)))) | B15: =IF(ISBLANK($B$4),"",(IF(ISBLANK(VLOOKUP($B$4,#REF!,37,FALSE)),"No Data",VLOOKUP($B$4,#REF!,37,FALSE)))) | C15: =IF(ISBLANK($B$4),"",(IF(ISBLANK(VLOOKUP($B$4,#REF!,40,FALSE)),"No Data",VLOOKUP($B$4,#REF!,40,FALSE)))) | D15: =IF(ISBLANK($B$4),"",(IF(ISBLANK(VLOOKUP($B$4,#REF!,43,FALSE)),"No Data",VLOOKUP($B$4,#REF!,43,FALSE)))) | E15: =IF(ISBLANK($B$4),"",(IF(ISBLANK(VLOOKUP($B$4,#REF!,46,FALSE)),"No Data",VLOOKUP($B$4,#REF!,46,FALSE)))) | F15: =IF(ISBLANK($B$4),"",(IF(ISBLANK(VLOOKUP($B$4,#REF!,49,FALSE)),"No Data",VLOOKUP($B$4,#REF!,49,FALSE)))) | G15: =IF(ISBLANK($B$4),"",(IF(ISBLANK(VLOOKUP($B$4,#REF!,52,FALSE)),"No Data",VLOOKUP($B$4,#REF!,52,FALSE))))
A17: Week 15 | B17: Week 16 | C17: Week 17 | D17: Week 18 | E17: Week 19 | F17: Week 20 | G17: Week 21
A18: =IF(ISBLANK($B$4),"",(IF(ISBLANK(VLOOKUP($B$4,#REF!,54,FALSE)),"No Data",VLOOKUP($B$4,#REF!,54,FALSE)))) | B18: =IF(ISBLANK($B$4),"",(IF(ISBLANK(VLOOKUP($B$4,#REF!,57,FALSE)),"No Data",VLOOKUP($B$4,#REF!,57,FALSE)))) | C18: =IF(ISBLANK($B$4),"",(IF(ISBLANK(VLOOKUP($B$4,#REF!,60,FALSE)),"No Data",VLOOKUP($B$4,#REF!,60,FALSE)))) | D18: =IF(ISBLANK($B$4),"",(IF(ISBLANK(VLOOKUP($B$4,#REF!,63,FALSE)),"No Data",VLOOKUP($B$4,#REF!,63,FALSE)))) | E18: =IF(ISBLANK($B$4),"",(IF(ISBLANK(VLOOKUP($B$4,#REF!,66,FALSE)),"No Data",VLOOKUP($B$4,#REF!,66,FALSE)))) | F18: =IF(ISBLANK($B$4),"",(IF(ISBLANK(VLOOKUP($B$4,#REF!,69,FALSE)),"No Data",VLOOKUP($B$4,#REF!,69,FALSE)))) | G18: =IF(ISBLANK($B$4),"",(IF(ISBLANK(VLOOKUP($B$4,#REF!,72,FALSE)),"No Data", VLOOKUP($B$4,#REF!,72,FALSE))))
A19: =IF(ISBLANK($B$4),"",(IF(ISBLANK(VLOOKUP($B$4,#REF!,55,FALSE)),"No Data",VLOOKUP($B$4,#REF!,55,FALSE)))) | B19: =IF(ISBLANK($B$4),"",(IF(ISBLANK(VLOOKUP($B$4,#REF!,58,FALSE)),"No Data",VLOOKUP($B$4,#REF!,58,FALSE)))) | C19: =IF(ISBLANK($B$4),"",(IF(ISBLANK(VLOOKUP($B$4,#REF!,61,FALSE)),"No Data",VLOOKUP($B$4,#REF!,61,FALSE)))) | D19: =IF(ISBLANK($B$4),"",(IF(ISBLANK(VLOOKUP($B$4,#REF!,64,FALSE)),"No Data",VLOOKUP($B$4,#REF!,64,FALSE)))) | E19: =IF(ISBLANK($B$4),"",(IF(ISBLANK(VLOOKUP($B$4,#REF!,67,FALSE)),"No Data",VLOOKUP($B$4,#REF!,67,FALSE)))) | F19: =IF(ISBLANK($B$4),"",(IF(ISBLANK(VLOOKUP($B$4,#REF!,70,FALSE)),"No Data",VLOOKUP($B$4,#REF!,70,FALSE)))) | G19: =IF(ISBLANK($B$4),"",(IF(ISBLANK(VLOOKUP($B$4,#REF!,73,FALSE)),"No Data", VLOOKUP($B$4,#REF!,73,FALSE))))
A21: Week 22 | B21: Week 23 | C21: Week 24 | D21: Week 25 | E21: Week 26 | F21: Week 27 | G21: Week 28
A22: =IF(ISBLANK($B$4),"",(IF(ISBLANK(VLOOKUP($B$4,#REF!,75,FALSE)),"No Data", VLOOKUP($B$4,#REF!,75,FALSE)))) | B22: =IF(ISBLANK($B$4),"",(IF(ISBLANK(VLOOKUP($B$4,#REF!,78,FALSE)),"No Data", VLOOKUP($B$4,#REF!,78,FALSE)))) | C22: =IF(ISBLANK($B$4),"",(IF(ISBLANK(VLOOKUP($B$4,#REF!,81,FALSE)),"No Data", VLOOKUP($B$4,#REF!,81,FALSE)))) | D22: =IF(ISBLANK($B$4),"",(IF(ISBLANK(VLOOKUP($B$4,#REF!,84,FALSE)),"No Data", VLOOKUP($B$4,#REF!,84,FALSE)))) | E22: =IF(ISBLANK($B$4),"",(IF(ISBLANK(VLOOKUP($B$4,#REF!,87,FALSE)),"No Data", VLOOKUP($B$4,#REF!,87,FALSE)))) | F22: =IF(ISBLANK($B$4),"",(IF(ISBLANK(VLOOKUP($B$4,#REF!,90,FALSE)),"No Data", VLOOKUP($B$4,#REF!,90,FALSE)))) | G22: =IF(ISBLANK($B$4),"",(IF(ISBLANK(VLOOKUP($B$4,#REF!,93,FALSE)),"No Data", VLOOKUP($B$4,#REF!,93,FALSE))))
A23: =IF(ISBLANK($B$4),"",(IF(ISBLANK(VLOOKUP($B$4,#REF!,76,FALSE)),"No Data", VLOOKUP($B$4,#REF!,76,FALSE)))) | B23: =IF(ISBLANK($B$4),"",(IF(ISBLANK(VLOOKUP($B$4,#REF!,79,FALSE)),"No Data", VLOOKUP($B$4,#REF!,79,FALSE)))) | C23: =IF(ISBLANK($B$4),"",(IF(ISBLANK(VLOOKUP($B$4,#REF!,82,FALSE)),"No Data", VLOOKUP($B$4,#REF!,82,FALSE)))) | D23: =IF(ISBLANK($B$4),"",(IF(ISBLANK(VLOOKUP($B$4,#REF!,85,FALSE)),"No Data", VLOOKUP($B$4,#REF!,85,FALSE)))) | E23: =IF(ISBLANK($B$4),"",(IF(ISBLANK(VLOOKUP($B$4,#REF!,88,FALSE)),"No Data", VLOOKUP($B$4,#REF!,88,FALSE)))) | F23: =IF(ISBLANK($B$4),"",(IF(ISBLANK(VLOOKUP($B$4,#REF!,91,FALSE)),"No Data", VLOOKUP($B$4,#REF!,91,FALSE)))) | G23: =IF(ISBLANK($B$4),"",(IF(ISBLANK(VLOOKUP($B$4,#REF!,94,FALSE)),"No Data", VLOOKUP($B$4,#REF!,94,FALSE))))
A25: Week 29 | B25: Week 30 | C25: Week 31 | D25: Week 32 | E25: Week 33 | F25: Week 34 | G25: Week 35
A26: =IF(ISBLANK($B$4),"",(IF(ISBLANK(VLOOKUP($B$4,#REF!,96,FALSE)),"No Data", VLOOKUP($B$4,#REF!,96,FALSE)))) | B26: =IF(ISBLANK($B$4),"",(IF(ISBLANK(VLOOKUP($B$4,#REF!,99,FALSE)),"No Data", VLOOKUP($B$4,#REF!,99,FALSE)))) | C26: =IF(ISBLANK($B$4),"",(IF(ISBLANK(VLOOKUP($B$4,#REF!,102,FALSE)),"No Data", VLOOKUP($B$4,#REF!,102,FALSE)))) | D26: =IF(ISBLANK($B$4),"",(IF(ISBLANK(VLOOKUP($B$4,#REF!,105,FALSE)),"No Data", VLOOKUP($B$4,#REF!,105,FALSE)))) | E26: =IF(ISBLANK($B$4),"",(IF(ISBLANK(VLOOKUP($B$4,#REF!,108,FALSE)),"No Data", VLOOKUP($B$4,#REF!,108,FALSE)))) | F26: =IF(ISBLANK($B$4),"",(IF(ISBLANK(VLOOKUP($B$4,#REF!,111,FALSE)),"No Data", VLOOKUP($B$4,#REF!,111,FALSE)))) | G26: =IF(ISBLANK($B$4),"",(IF(ISBLANK(VLOOKUP($B$4,#REF!,114,FALSE)),"No Data",VLOOKUP($B$4,#REF!,114,FALSE))))
A27: =IF(ISBLANK($B$4),"",(IF(ISBLANK(VLOOKUP($B$4,#REF!,97,FALSE)),"No Data", VLOOKUP($B$4,#REF!,97,FALSE)))) | B27: =IF(ISBLANK($B$4),"",(IF(ISBLANK(VLOOKUP($B$4,#REF!,100,FALSE)),"No Data", VLOOKUP($B$4,#REF!,100,FALSE)))) | C27: =IF(ISBLANK($B$4),"",(IF(ISBLANK(VLOOKUP($B$4,#REF!,103,FALSE)),"No Data", VLOOKUP($B$4,#REF!,103,FALSE)))) | D27: =IF(ISBLANK($B$4),"",(IF(ISBLANK(VLOOKUP($B$4,#REF!,106,FALSE)),"No Data", VLOOKUP($B$4,#REF!,106,FALSE)))) | E27: =IF(ISBLANK($B$4),"",(IF(ISBLANK(VLOOKUP($B$4,#REF!,109,FALSE)),"No Data", VLOOKUP($B$4,#REF!,109,FALSE)))) | F27: =IF(ISBLANK($B$4),"",(IF(ISBLANK(VLOOKUP($B$4,#REF!,112,FALSE)),"No Data", VLOOKUP($B$4,#REF!,112,FALSE)))) | G27: =IF(ISBLANK($B$4),"",(IF(ISBLANK(VLOOKUP($B$4,#REF!,115,FALSE)),"No Data",VLOOKUP($B$4,#REF!,115,FALSE))))
A29: Week 36 | B29: Week 37 | C29: Week 38 | D29: Week 39 | E29: Week 40 | F29: Week 41 | G29: Week 42
A30: =IF(ISBLANK($B$4),"",(IF(ISBLANK(VLOOKUP($B$4,#REF!,117,FALSE)),"No Data",VLOOKUP($B$4,#REF!,117,FALSE)))) | B30: =IF(ISBLANK($B$4),"",(IF(ISBLANK(VLOOKUP($B$4,#REF!,120,FALSE)),"No Data",VLOOKUP($B$4,#REF!,120,FALSE)))) | C30: =IF(ISBLANK($B$4),"",(IF(ISBLANK(VLOOKUP($B$4,#REF!,123,FALSE)),"No Data",VLOOKUP($B$4,#REF!,123,FALSE)))) | D30: =IF(ISBLANK($B$4),"",(IF(ISBLANK(VLOOKUP($B$4,#REF!,126,FALSE)),"No Data",VLOOKUP($B$4,#REF!,126,FALSE)))) | E30: =IF(ISBLANK($B$4),"",(IF(ISBLANK(VLOOKUP($B$4,#REF!,129,FALSE)),"No Data",VLOOKUP($B$4,#REF!,129,FALSE)))) | F30: =IF(ISBLANK($B$4),"",(IF(ISBLANK(VLOOKUP($B$4,#REF!,132,FALSE)),"No Data",VLOOKUP($B$4,#REF!,132,FALSE)))) | G30: =IF(ISBLANK($B$4),"",(IF(ISBLANK(VLOOKUP($B$4,#REF!,135,FALSE)),"No Data",VLOOKUP($B$4,#REF!,135,FALSE))))
A31: =IF(ISBLANK($B$4),"",(IF(ISBLANK(VLOOKUP($B$4,#REF!,118,FALSE)),"No Data",VLOOKUP($B$4,#REF!,118,FALSE)))) | B31: =IF(ISBLANK($B$4),"",(IF(ISBLANK(VLOOKUP($B$4,#REF!,121,FALSE)),"No Data",VLOOKUP($B$4,#REF!,121,FALSE)))) | C31: =IF(ISBLANK($B$4),"",(IF(ISBLANK(VLOOKUP($B$4,#REF!,124,FALSE)),"No Data",VLOOKUP($B$4,#REF!,124,FALSE)))) | D31: =IF(ISBLANK($B$4),"",(IF(ISBLANK(VLOOKUP($B$4,#REF!,127,FALSE)),"No Data",VLOOKUP($B$4,#REF!,127,FALSE)))) | E31: =IF(ISBLANK($B$4),"",(IF(ISBLANK(VLOOKUP($B$4,#REF!,130,FALSE)),"No Data",VLOOKUP($B$4,#REF!,130,FALSE)))) | F31: =IF(ISBLANK($B$4),"",(IF(ISBLANK(VLOOKUP($B$4,#REF!,133,FALSE)),"No Data",VLOOKUP($B$4,#REF!,133,FALSE)))) | G31: =IF(ISBLANK($B$4),"",(IF(ISBLANK(VLOOKUP($B$4,#REF!,136,FALSE)),"No Data",VLOOKUP($B$4,#REF!,136,FALSE))))
A33: Week 43 | B33: Week 44 | C33: Week 45 | D33: Week 46 | E33: Week 47 | F33: Week 48 | G33: Week 49
A34: =IF(ISBLANK($B$4),"",(IF(ISBLANK(VLOOKUP($B$4,#REF!,138,FALSE)),"No Data",VLOOKUP($B$4,#REF!,138,FALSE)))) | B34: =IF(ISBLANK($B$4),"",(IF(ISBLANK(VLOOKUP($B$4,#REF!,141,FALSE)),"No Data",VLOOKUP($B$4,#REF!,141,FALSE)))) | C34: =IF(ISBLANK($B$4),"",(IF(ISBLANK(VLOOKUP($B$4,#REF!,144,FALSE)),"No Data",VLOOKUP($B$4,#REF!,144,FALSE)))) | D34: =IF(ISBLANK($B$4),"",(IF(ISBLANK(VLOOKUP($B$4,#REF!,147,FALSE)),"No Data",VLOOKUP($B$4,#REF!,147,FALSE)))) | E34: =IF(ISBLANK($B$4),"",(IF(ISBLANK(VLOOKUP($B$4,#REF!,150,FALSE)),"No Data",VLOOKUP($B$4,#REF!,150,FALSE)))) | F34: =IF(ISBLANK($B$4),"",(IF(ISBLANK(VLOOKUP($B$4,#REF!,153,FALSE)),"No Data",VLOOKUP($B$4,#REF!,153,FALSE)))) | G34: =IF(ISBLANK($B$4),"",(IF(ISBLANK(VLOOKUP($B$4,#REF!,156,FALSE)),"No Data",VLOOKUP($B$4,#REF!,156,FALSE))))
A35: =IF(ISBLANK($B$4),"",(IF(ISBLANK(VLOOKUP($B$4,#REF!,139,FALSE)),"No Data",VLOOKUP($B$4,#REF!,139,FALSE)))) | B35: =IF(ISBLANK($B$4),"",(IF(ISBLANK(VLOOKUP($B$4,#REF!,142,FALSE)),"No Data",VLOOKUP($B$4,#REF!,142,FALSE)))) | C35: =IF(ISBLANK($B$4),"",(IF(ISBLANK(VLOOKUP($B$4,#REF!,145,FALSE)),"No Data",VLOOKUP($B$4,#REF!,145,FALSE)))) | D35: =IF(ISBLANK($B$4),"",(IF(ISBLANK(VLOOKUP($B$4,#REF!,148,FALSE)),"No Data",VLOOKUP($B$4,#REF!,148,FALSE)))) | E35: =IF(ISBLANK($B$4),"",(IF(ISBLANK(VLOOKUP($B$4,#REF!,151,FALSE)),"No Data",VLOOKUP($B$4,#REF!,151,FALSE)))) | F35: =IF(ISBLANK($B$4),"",(IF(ISBLANK(VLOOKUP($B$4,#REF!,154,FALSE)),"No Data",VLOOKUP($B$4,#REF!,154,FALSE)))) | G35: =IF(ISBLANK($B$4),"",(IF(ISBLANK(VLOOKUP($B$4,#REF!,157,FALSE)),"No Data",VLOOKUP($B$4,#REF!,157,FALSE))))
A37: Week 50 | B37: Week 51 | C37: Week 52
A38: =IF(ISBLANK($B$4),"",(IF(ISBLANK(VLOOKUP($B$4,#REF!,159,FALSE)),"No Data",VLOOKUP($B$4,#REF!,159,FALSE)))) | B38: =IF(ISBLANK($B$4),"",(IF(ISBLANK(VLOOKUP($B$4,#REF!,162,FALSE)),"No Data",VLOOKUP($B$4,#REF!,162,FALSE)))) | C38: =IF(ISBLANK($B$4),"",(IF(ISBLANK(VLOOKUP($B$4,#REF!,165,FALSE)),"No Data",VLOOKUP($B$4,#REF!,165,FALSE))))
A39: =IF(ISBLANK($B$4),"",(IF(ISBLANK(VLOOKUP($B$4,#REF!,160,FALSE)),"No Data",VLOOKUP($B$4,#REF!,160,FALSE)))) | B39: =IF(ISBLANK($B$4),"",(IF(ISBLANK(VLOOKUP($B$4,#REF!,163,FALSE)),"No Data",VLOOKUP($B$4,#REF!,163,FALSE)))) | C39: =IF(ISBLANK($B$4),"",(IF(ISBLANK(VLOOKUP($B$4,#REF!,166,FALSE)),"No Data",VLOOKUP($B$4,#REF!,166,FALSE))))

Sheet 2016 Report
B2: SEA LICE REPORT 2016 | E2: Implementation date 26/10/2016
A4: Site No: | C4: Site Name | E4: =IF(ISBLANK(B4),"",VLOOKUP(B4,#REF!,2,FALSE))
J5: 1 | K5: =A10 -> No Data
A6: Business No: | B6: =IF(ISBLANK(B4),"",VLOOKUP(B4,#REF!,4,FALSE)) | C6: Business Name | E6: =IF(ISBLANK(B4),"",VLOOKUP(B4,#REF!,3,FALSE)) | J6: 2 | K6: =B10 -> No Data
J7: 3 | K7: =C10 -> No Data
J8: 4 | K8: =D10 -> No Data
A9: Week 1 | B9: Week 2 | C9: Week 3 | D9: Week 4 | E9: Week 5 | F9: Week 6 | G9: Week 7 | J9: 5 | K9: =E10 -> No Data
A10: No Data | B10: No Data | C10: No Data | D10: No Data | E10: No Data | F10: No Data | G10: No Data | J10: 6 | K10: =F10 -> No Data
J11: 7 | K11: =G10 -> No Data
A12: Week 8 | B12: Week 9 | C12: Week 10 | D12: Week 11 | E12: Week 12 | F12: Week 13 | G12: Week 14 | J12: 8 | K12: =A13 -> No Data
A13: No Data | B13: No Data | C13: No Data | D13: No Data | E13: No Data | F13: No Data | G13: No Data | J13: 9 | K13: =B13 -> No Data
J14: 10 | K14: =C13 -> No Data
A15: Week 15 | B15: Week 16 | C15: Week 17 | D15: Week 18 | E15: Week 19 | F15: Week 20 | G15: Week 21 | J15: 11 | K15: =D13 -> No Data
A16: No Data | B16: No Data | C16: No Data | D16: No Data | E16: No Data | F16: No Data | G16: No Data | J16: 12 | K16: =E13 -> No Data
J17: 13 | K17: =F13 -> No Data
A18: Week 22 | B18: Week 23 | C18: Week 24 | D18: Week 25 | E18: Week 26 | F18: Week 27 | G18: Week 28 | J18: 14 | K18: =G13 -> No Data
A19: No Data | B19: No Data | C19: No Data | D19: No Data | E19: No Data | F19: No Data | G19: No Data | J19: 15 | K19: =A16 -> No Data
J20: 16 | K20: =B16 -> No Data
A21: Week 29 | B21: Week 30 | C21: Week 31 | D21: Week 32 | E21: Week 33 | F21: Week 34 | G21: Week 35 | J21: 17 | K21: =C16 -> No Data
A22: No Data | B22: No Data | C22: No Data | D22: No Data | E22: No Data | F22: No Data | G22: No Data | J22: 18 | K22: =D16 -> No Data
J23: 19 | K23: =E16 -> No Data
A24: Week 36 | B24: Week 37 | C24: Week 38 | D24: Week 39 | E24: Week 40 | F24: Week 41 | G24: Week 42 | J24: 20 | K24: =F16 -> No Data
A25: No Data | B25: No Data | C25: No Data | D25: No Data | E25: No Data | F25: No Data | G25: No Data | J25: 21 | K25: =G16 -> No Data
J26: 22 | K26: =A19 -> No Data
A27: Week 43 | B27: Week 44 | C27: Week 45 | D27: Week 46 | E27: Week 47 | F27: Week 48 | G27: Week 49 | J27: 23 | K27: =B19 -> No Data
A28: =IF(ISBLANK(B4),"",(IF(ISBLANK(VLOOKUP(B4,#REF!,8,FALSE)),"No Data", VLOOKUP(B4,#REF!,8,FALSE)))) | B28: =IF(ISBLANK(B4),"",(IF(ISBLANK(VLOOKUP(B4,#REF!,10,FALSE)),"No Data", VLOOKUP(B4,#REF!,10,FALSE)))) | C28: =IF(ISBLANK(B4),"",(IF(ISBLANK(VLOOKUP(B4,#REF!,12,FALSE)),"No Data", VLOOKUP(B4,#REF!,12,FALSE)))) | D28: =IF(ISBLANK(B4),"",(IF(ISBLANK(VLOOKUP(B4,#REF!,14,FALSE)),"No Data", VLOOKUP(B4,#REF!,14,FALSE)))) | E28: =IF(ISBLANK(B4),"",(IF(ISBLANK(VLOOKUP(B4,#REF!,16,FALSE)),"No Data", VLOOKUP(B4,#REF!,16,FALSE)))) | F28: =IF(ISBLANK(B4),"",(IF(ISBLANK(VLOOKUP(B4,#REF!,18,FALSE)),"No Data", VLOOKUP(B4,#REF!,18,FALSE)))) | G28: =IF(ISBLANK(B4),"",(IF(ISBLANK(VLOOKUP(B4,#REF!,20,FALSE)),"No Data", VLOOKUP(B4,#REF!,20,FALSE)))) | J28: 24 | K28: =C19 -> No Data
J29: 25 | K29: =D19 -> No Data
A30: Week 50 | B30: Week 51 | C30: Week 52 | J30: 26 | K30: =E19 -> No Data
A31: =IF(ISBLANK(B4),"",(IF(ISBLANK(VLOOKUP(B4,#REF!,22,FALSE)),"No Data", VLOOKUP(B4,#REF!,22,FALSE)))) | B31: =IF(ISBLANK(B4),"",(IF(ISBLANK(VLOOKUP(B4,#REF!,24,FALSE)),"No Data", VLOOKUP(B4,#REF!,24,FALSE)))) | C31: =IF(ISBLANK(B4),"",(IF(ISBLANK(VLOOKUP(B4,#REF!,26,FALSE)),"No Data", VLOOKUP(B4,#REF!,26,FALSE)))) | J31: 27 | K31: =F19 -> No Data
J32: 28 | K32: =G19 -> No Data
A33: Graph | J33: 29 | K33: =A22 -> No Data
J34: 30 | K34: =B22 -> No Data
J35: 31 | K35: =C22 -> No Data
J36: 32 | K36: =D22 -> No Data
J37: 33 | K37: =E22 -> No Data
J38: 34 | K38: =F22 -> No Data
J39: 35 | K39: =G22 -> No Data
J40: 36 | K40: =A25 -> No Data
J41: 37 | K41: =B25 -> No Data
J42: 38 | K42: =C25 -> No Data
J43: 39 | K43: =D25 -> No Data
J44: 40 | K44: =E25 -> No Data
J45: 41 | K45: =F25 -> No Data
J46: 42 | K46: =G25 -> No Data
J47: 43 | K47: =A28
J48: 44 | K48: =B28
J49: 45 | K49: =C28
J50: 46 | K50: =D28
J51: 47 | K51: =E28
J52: 48 | K52: =F28
J53: 49 | K53: =G28
J54: 50 | K54: =A31
J55: 51 | K55: =B31
J56: 52 | K56: =C31

Sheet 2016 Interventions
B2: SEA LICE REPORT 2016 | E2: Implementation date 26/10/2016
A4: Site No: | C4: Site Name | E4: =IF(ISBLANK(B4),"",VLOOKUP(B4,#REF!,2,FALSE))
A6: Business No: | B6: =IF(ISBLANK(B4),"",VLOOKUP(B4,#REF!,4,FALSE)) | C6: Business Name | E6: =IF(ISBLANK(B4),"",VLOOKUP(B4,#REF!,3,FALSE))
A9: Week 1 | B9: Week 2 | C9: Week 3 | D9: Week 4 | E9: Week 5 | F9: Week 6 | G9: Week 7
A10: No Data | B10: No Data | C10: No Data | D10: No Data | E10: No Data | F10: No Data | G10: No Data
A11: No Data | B11: No Data | C11: No Data | D11: No Data | E11: No Data | F11: No Data | G11: No Data
A13: Week 8 | B13: Week 9 | C13: Week 10 | D13: Week 11 | E13: Week 12 | F13: Week 13 | G13: Week 14
A14: No Data | B14: No Data | C14: No Data | D14: No Data | E14: No Data | F14: No Data | G14: No Data
A15: No Data | B15: No Data | C15: No Data | D15: No Data | E15: No Data | F15: No Data | G15: No Data
A17: Week 15 | B17: Week 16 | C17: Week 17 | D17: Week 18 | E17: Week 19 | F17: Week 20 | G17: Week 21
A18: No Data | B18: No Data | C18: No Data | D18: No Data | E18: No Data | F18: No Data | G18: No Data
A19: No Data | B19: No Data | C19: No Data | D19: No Data | E19: No Data | F19: No Data | G19: No Data
A21: Week 22 | B21: Week 23 | C21: Week 24 | D21: Week 25 | E21: Week 26 | F21: Week 27 | G21: Week 28
A22: No Data | B22: No Data | C22: No Data | D22: No Data | E22: No Data | F22: No Data | G22: No Data
A23: No Data | B23: No Data | C23: No Data | D23: No Data | E23: No Data | F23: No Data | G23: No Data
... A33: Week 43 | B33: Week 44 | C33: Week 45 | D33: Week 46 | E33: Week 47 | F33: Week 48 | G33: Week 49
A34: =IF(ISBLANK(B4),"",(IF(ISBLANK(VLOOKUP(B4,#REF!,7,FALSE)),"No Data", VLOOKUP(B4,#REF!,7,FALSE)))) | B34: =IF(ISBLANK(B4),"",(IF(ISBLANK(VLOOKUP(B4,#REF!,9,FALSE)),"No Data", VLOOKUP(B4,#REF!,9,FALSE)))) | C34: =IF(ISBLANK(B4),"",(IF(ISBLANK(VLOOKUP(B4,#REF!,11,FALSE)),"No Data", VLOOKUP(B4,#REF!,11,FALSE)))) | D34: =IF(ISBLANK(B4),"",(IF(ISBLANK(VLOOKUP(B4,#REF!,13,FALSE)),"No Data", VLOOKUP(B4,#REF!,13,FALSE)))) | E34: =IF(ISBLANK(B4),"",(IF(ISBLANK(VLOOKUP(B4,#REF!,15,FALSE)),"No Data", VLOOKUP(B4,#REF!,15,FALSE)))) | F34: =IF(ISBLANK(B4),"",(IF(ISBLANK(VLOOKUP(B4,#REF!,17,FALSE)),"No Data", VLOOKUP(B4,#REF!,17,FALSE)))) | G34: =IF(ISBLANK(B4),"",(IF(ISBLANK(VLOOKUP(B4,#REF!,19,FALSE)),"No Data", VLOOKUP(B4,#REF!,19,FALSE))))
A35: =IF(ISBLANK(B4),"",(IF(ISBLANK(VLOOKUP(B4,#REF!,8,FALSE)),"No Data", VLOOKUP(B4,#REF!,8,FALSE)))) | B35: =IF(ISBLANK(B4),"",(IF(ISBLANK(VLOOKUP(B4,#REF!,10,FALSE)),"No Data", VLOOKUP(B4,#REF!,10,FALSE)))) | C35: =IF(ISBLANK(B4),"",(IF(ISBLANK(VLOOKUP(B4,#REF!,12,FALSE)),"No Data",VLOOKUP(B4,#REF!,12,FALSE)))) | D35: =IF(ISBLANK(B4),"",(IF(ISBLANK(VLOOKUP(B4,#REF!,14,FALSE)),"No Data", VLOOKUP(B4,#REF!,14,FALSE)))) | E35: =IF(ISBLANK(B4),"",(IF(ISBLANK(VLOOKUP(B4,#REF!,16,FALSE)),"No Data", VLOOKUP(B4,#REF!,16,FALSE)))) | F35: =IF(ISBLANK(B4),"",(IF(ISBLANK(VLOOKUP(B4,#REF!,18,FALSE)),"No Data", VLOOKUP(B4,#REF!,18,FALSE)))) | G35: =IF(ISBLANK(B4),"",(IF(ISBLANK(VLOOKUP(B4,#REF!,20,FALSE)),"No Data", VLOOKUP(B4,#REF!,20,FALSE))))
A37: Week 50 | B37: Week 51 | C37: Week 52
A38: =IF(ISBLANK(B4),"",(IF(ISBLANK(VLOOKUP(B4,#REF!,21,FALSE)),"No Data", VLOOKUP(B4,#REF!,21,FALSE)))) | B38: =IF(ISBLANK(B4),"",(IF(ISBLANK(VLOOKUP(B4,#REF!,23,FALSE)),"No Data", VLOOKUP(B4,#REF!,23,FALSE)))) | C38: =IF(ISBLANK(B4),"",(IF(ISBLANK(VLOOKUP(B4,#REF!,25,FALSE)),"No Data", VLOOKUP(B4,#REF!,25,FALSE))))
A39: =IF(ISBLANK(B4),"",(IF(ISBLANK(VLOOKUP(B4,#REF!,22,FALSE)),"No Data", VLOOKUP(B4,#REF!,22,FALSE)))) | B39: =IF(ISBLANK(B4),"",(IF(ISBLANK(VLOOKUP(B4,#REF!,24,FALSE)),"No Data", VLOOKUP(B4,#REF!,24,FALSE)))) | C39: =IF(ISBLANK(B4),"",(IF(ISBLANK(VLOOKUP(B4,#REF!,26,FALSE)),"No Data", VLOOKUP(B4,#REF!,26,FALSE))))

Sheet List
A1: FS0001 | B1: Evanachan Salt Water | C1: Otter Ferry Seafish Ltd., | D1: FB0012 | E1: M-42 | F1: Bath | G1: EoC
A2: FS0015 | B2: Loch Greshornish | C2: Marine Harvest (Scotland) Ltd | D2: FB0119 | E2: M-24 | F2: Bio Reduction | G2: Breach
A3: FS0016 | B3: Loch Alsh (Sron) | C3: Marine Harvest (Scotland) Ltd | D3: FB0119 | E3: M-21 | F3: Cleanerfish | G3: EN
A4: FS0031 | B4: Pegal Bay | C4: Cooke Aquaculture Scotland Ltd | D4: FB0095 | E4: O-3 | F4: Harvesting | G4: Warning Letter
A5: FS0033 | B5: Dury Voe | C5: Scottish Sea Farms Ltd | D5: FB0125 | E5: S-5 | F5: In Feed
A6: FS0039 | B6: Pobie Sukka | C6: Scottish Sea Farms Ltd | D6: FB0125 | E6: S-7 | F6: Physical
A7: FS0050 | B7: Kenmore Loch Torridon | C7: The Scottish Salmon Company | D7: FB0169 | E7: M-17 | F7: EoC
A8: FS0051 | B8: Bagh Chlann Neill | C8: The Scottish Salmon Company | D8: FB0169 | E8: W-14
A9: FS0054 | B9: Lyrawa Bay | C9: Cooke Aquaculture Scotland Ltd | D9: FB0095 | E9: O-3
A10: FS0056 | B10: Ardmair | C10: Wester Ross Fisheries Ltd | D10: FB0447 | E10: M-11
A11: FS0057 | B11: Corry Farm | C11: Wester Ross Fisheries Ltd | D11: FB0447 | E11: M-12
A12: FS0065 | B12: Loch Laxford | C12: Loch Duart Ltd | D12: FB0398 | E12: M-3
A13: FS0067 | B13: Badcall Bay | C13: Loch Duart Ltd | D13: FB0398 | E13: M-4
A14: FS0068 | B14: Calva Bay (Calbha Beag) | C14: Loch Duart Ltd | D14: FB0398 | E14: M-5
A15: FS0088 | B15: Cloudin | C15: Cooke Aquaculture Scotland Ltd | D15: FB0095 | E15: S-10
A16: FS0090 | B16: Ormsary Broodstock Unit | C16: Landcatch Natural Selection Ltd | D16: FB0061 | E16: M-44
A17: FS0091 | B17: Meall Mhor Loch Fyne | C17: The Scottish Salmon Company | D17: FB0169 | E17: M-42
A18: FS0122 | B18: Bay of Ham | C18: Cooke Aquaculture Scotland Ltd | D18: FB0095 | E18: O-2
A19: FS0129 | B19: Nedd | C19: Loch Duart Ltd | D19: FB0398 | E19: M-7
... A256: FS1306 | B256: Machrihanish Hanger | C256: NIRI Scotland Ltd | D256: FB0565 | E256: M-49

Sheet 2017
I1: Week 47 | J1: Week 47 | K1: Week 47 | L1: Week 48 | M1: Week 48 | N1: Week 48 | O1: Week 49 | P1: Week 49 | Q1: Week 49 | R1: Week 50 | S1: Week 50 | T1: Week 50 | U1: Week 51 | V1: Week 51 | W1: Week 51 | X1: Week 52 | Y1: Week 52 | Z1: Week 52
I2: 1 | L2: 1 | O2: 1 | R2: 1 | U2: 1 | X2: 1
A3: Site No | B3: Site Name | C3: Business Name | D3: Business No | E3: CoGP MA | I3: Count | J3: Treatment | K3: FHI Action | L3: Count | M3: Treatment | N3: FHI Action | O3: Count | P3: Treatment | Q3: FHI Action | R3: Count | S3: Treatment | T3: FHI Action | U3: Count | V3: Treatment | W3: FHI Action | X3: Count | Y3: Treatment | Z3: FHI Action
A4: FS0242 | B4: =IF(ISBLANK(A4),"",VLOOKUP(A4,List!A:E,2,FALSE)) -> Loch Odhairn | C4: =IF(ISBLANK(A4),"",VLOOKUP(A4,List!A:E,3,FALSE)) -> The Scottish Salmon Company | D4: =IF(ISBLANK(A4),"",VLOOKUP(A4,List!A:E,4,FALSE)) -> FB0169 | E4: =IF(ISBLANK(A4),"",VLOOKUP(A4,List!A:E,5,FALSE)) -> W-4 | I4: 4.86 | O4: >3<8 | R4: >3<8 | U4: >3<8 | X4: No count | Y4: Physical
A5: FS0570 | B5: =IF(ISBLANK(A5),"",VLOOKUP(A5,List!A:E,2,FALSE)) -> Strome | C5: =IF(ISBLANK(A5),"",VLOOKUP(A5,List!A:E,3,FALSE)) -> The Scottish Salmon Company | D5: =IF(ISBLANK(A5),"",VLOOKUP(A5,List!A:E,4,FALSE)) -> FB0169 | E5: =IF(ISBLANK(A5),"",VLOOKUP(A5,List!A:E,5,FALSE)) -> M-20 | I5: 2.82 | L5: 12.62 | M5: Physical | O5: no count | R5: >3<8 | U5: >3<8 | X5: >8 | Y5: Physical
A6: FS1267 | B6: =IF(ISBLANK(A6),"",VLOOKUP(A6,List!A:E,2,FALSE)) -> Gometra | C6: =IF(ISBLANK(A6),"",VLOOKUP(A6,List!A:E,3,FALSE)) -> The Scottish Salmon Company | D6: =IF(ISBLANK(A6),"",VLOOKUP(A6,List!A:E,4,FALSE)) -> FB0169 | E6: =IF(ISBLANK(A6),"",VLOOKUP(A6,List!A:E,5,FALSE)) -> M-37 | O6: >3<8 | P6: Harvesting | R6: <3 | U6: <3 | X6: <3
A7: FS1118 | B7: =IF(ISBLANK(A7),"",VLOOKUP(A7,List!A:E,2,FALSE)) -> Trilleachan Mor | C7: =IF(ISBLANK(A7),"",VLOOKUP(A7,List!A:E,3,FALSE)) -> The Scottish Salmon Company | D7: =IF(ISBLANK(A7),"",VLOOKUP(A7,List!A:E,4,FALSE)) -> FB0169 | E7: =IF(ISBLANK(A7),"",VLOOKUP(A7,List!A:E,5,FALSE)) -> W-6 | U7: >3<8 | X7: >3<8 | Y7: Physical
A8: FS0593 | B8: =IF(ISBLANK(A8),"",VLOOKUP(A8,List!A:E,2,FALSE)) -> Inch Kenneth | C8: =IF(ISBLANK(A8),"",VLOOKUP(A8,List!A:E,3,FALSE)) -> The Scottish Salmon Company | D8: =IF(ISBLANK(A8),"",VLOOKUP(A8,List!A:E,4,FALSE)) -> FB0169 | E8: =IF(ISBLANK(A8),"",VLOOKUP(A8,List!A:E,5,FALSE)) -> M-37 | U8: >3<8 | V8: Physical | X8: <3
A9: FS0016 | B9: =IF(ISBLANK(A9),"",VLOOKUP(A9,List!A:E,2,FALSE)) -> Loch Alsh (Sron) | C9: =IF(ISBLANK(A9),"",VLOOKUP(A9,List!A:E,3,FALSE)) -> Marine Harvest (Scotland) Ltd | D9: =IF(ISBLANK(A9),"",VLOOKUP(A9,List!A:E,4,FALSE)) -> FB0119 | E9: =IF(ISBLANK(A9),"",VLOOKUP(A9,List!A:E,5,FALSE)) -> M-21 | I9: 4.56 | L9: 4.29
A10: FS0805 | B10: =IF(ISBLANK(A10),"",VLOOKUP(A10,List!A:E,2,FALSE)) -> Bagh Dail Nan Cean | C10: =IF(ISBLANK(A10),"",VLOOKUP(A10,List!A:E,3,FALSE)) -> Marine Harvest (Scotland) Ltd | D10: =IF(ISBLANK(A10),"",VLOOKUP(A10,List!A:E,4,FALSE)) -> FB0119 | E10: =IF(ISBLANK(A10),"",VLOOKUP(A10,List!A:E,5,FALSE)) -> M-40 | I10: 9.48 | L10: 7.68
A11: FS1033 | B11: =IF(ISBLANK(A11),"",VLOOKUP(A11,List!A:E,2,FALSE)) -> North Shore | C11: =IF(ISBLANK(A11),"",VLOOKUP(A11,List!A:E,3,FALSE)) -> Marine Harvest (Scotland) Ltd | D11: =IF(ISBLANK(A11),"",VLOOKUP(A11,List!A:E,4,FALSE)) -> FB0119 | E11: =IF(ISBLANK(A11),"",VLOOKUP(A11,List!A:E,5,FALSE)) -> W-3 | O11: 1.17 | R11: 3.52 | U11: 0.42
A12: FS0413 | B12: =IF(ISBLANK(A12),"",VLOOKUP(A12,List!A:E,2,FALSE)) -> Camas Glas | C12: =IF(ISBLANK(A12),"",VLOOKUP(A12,List!A:E,3,FALSE)) -> Marine Harvest (Scotland) Ltd | D12: =IF(ISBLANK(A12),"",VLOOKUP(A12,List!A:E,4,FALSE)) -> FB0119 | E12: =IF(ISBLANK(A12),"",VLOOKUP(A12,List!A:E,5,FALSE)) -> M-34 | L12: 3.34
A13: FS1290 | B13: =IF(ISBLANK(A13),"",VLOOKUP(A13,List!A:E,2,FALSE)) -> Shuna SW (Rubh'an Trilleachain) | C13: =IF(ISBLANK(A13),"",VLOOKUP(A13,List!A:E,3,FALSE)) -> Kames Fish Farming Ltd | D13: =IF(ISBLANK(A13),"",VLOOKUP(A13,List!A:E,4,FALSE)) -> FB0134 | E13: =IF(ISBLANK(A13),"",VLOOKUP(A13,List!A:E,5,FALSE)) -> M-40 | I13: 5.41 | L13: 3.39
A14: FS0489 | B14: =IF(ISBLANK(A14),"",VLOOKUP(A14,List!A:E,2,FALSE)) -> Cole Deep | C14: =IF(ISBLANK(A14),"",VLOOKUP(A14,List!A:E,3,FALSE)) -> Grieg Seafood Shetland Ltd | D14: =IF(ISBLANK(A14),"",VLOOKUP(A14,List!A:E,4,FALSE)) -> FB0440 | E14: =IF(ISBLANK(A14),"",VLOOKUP(A14,List!A:E,5,FALSE)) -> S-8b | I14: 7.5 | J14: Harvesting | L14: 10.37 | M14: Harvesting | O14: no count | P14: Harvesting | R14: EoC | S14: EoC | T14: EoC
A15: FS1278 | B15: =IF(ISBLANK(A15),"",VLOOKUP(A15,List!A:E,2,FALSE)) -> East of Papa Little | C15: =IF(ISBLANK(A15),"",VLOOKUP(A15,List!A:E,3,FALSE)) -> Grieg Seafood Shetland Ltd | D15: =IF(ISBLANK(A15),"",VLOOKUP(A15,List!A:E,4,FALSE)) -> FB0440 | E15: =IF(ISBLANK(A15),"",VLOOKUP(A15,List!A:E,5,FALSE)) -> S-8b | I15: 3.47 | J15: Bath | L15: 4.1 | O15: no count | R15: no count | U15: no count | X15: EoC | Y15: EoC | Z15: EoC
A16: FS0451 | B16: =IF(ISBLANK(A16),"",VLOOKUP(A16,List!A:E,2,FALSE)) -> Turness | C16: =IF(ISBLANK(A16),"",VLOOKUP(A16,List!A:E,3,FALSE)) -> Cooke Aquaculture Scotland Ltd | D16: =IF(ISBLANK(A16),"",VLOOKUP(A16,List!A:E,4,FALSE)) -> FB0095 | E16: =IF(ISBLANK(A16),"",VLOOKUP(A16,List!A:E,5,FALSE)) -> S-2 | L16: 4.2 | R16: 4.56 | S16: Bath | U16: <3
