Workbook

Sheet GENERAL GUIDELINES & SITE INFO
C3: SEPA DATA RETURNS - 2011
C5: SPRI
C6: Regulation 26(2) of the Pollution Prevention and Control (Scotland) Regulations is being used to require operators to provide mass emission data for the Scottish Pollutant Release Inventory (SPRI). Before submitting the spreadsheet please ensure you have completed the declaration in the worksheet entitled "SPRI DECLARATION"
C8: CAR
C9: Under Schedule 6 of the CAR licence, the discharger is required to keep, maintain and provide records of biomass and chemical use and to submit them to SEPA as required. This form provides a means of recording the information required.
C12: Please note the following:
C13: 1. The site information has been entered for your company.
C14: 2. This file is for the year 2011 only. Following years will have a separate file.
C15: 3. The information is required on a monthly basis and the returns should be made quarterly - see schedule below.
C16: 4. Each site has a small questionnaire for chemical use (other than those to treat sea lice infestations) appended as a separate spreadsheet (Chem-SiteID). Please ensure that you maintain the necessary records in order to complete the questionnaire on an annual basis.
C18: 5. The questionnaire should be completed along with the December biomass return. A reminder is attached to the October, November and December sheets.
C19: 6. If you acquire or open a new site, please enter Site Name, Licence Number and Licensed Biomass in the spreadsheet for the month that you began site operations, in the next available row. Following months will update automatically.
... C25: 10. Please ensure that the correct species is listed in the site information table below, entered as "salmon", "cod","haddock","halibut" or "trout".
C27: Company | D27: : | E27: Scottish Seafarms Ltd
C28: Contact name | D28: : | E28: Sally Davies
C29: Phone number | D29: : | E29: 01680 300533
C30: Email address | D30: : | E30: sally.davies@scottishseafarms.com
C32: 2011 Submission dates | E32: : | F32: 15 Apr 2011; | G32: 15 July 2011; | H32: 14 Oct 2011; | I32: 20 Jan 2012;
C34: RETURN ALL FILES TO: FFBiomass@SEPA.ORG.UK
C36: Please enter the following information for each of the sites below:
G37: Date(s) of fish input(s) | I37: Date Self Monitoring submitted to SEPA | K37: Comments
K38: (Please enter any | N38: Check
K39: pertinent information) | N39: Species
C40: Bring Head | D40: SCAP1 | E40: CAR/L/1015854 | G40: 27/11/10 | I40: 40308 | N40: salmon
C41: Eday Sound | D41: EDA1 | E41: CAR/L/1003956 | K41: fallow | N41: salmon
C42: Kirk Taing | D42: MILL1 | E42: CAR/L/1003952 | K42: fallow | N42: salmon
C43: Mill Bay, Stronsay | D43: MIL1 | E43: CAR/L/1034607 | K43: fallow | N43: salmon
C44: Puldrite Bay | D44: PUL1 | E44: CAR/L/1003954 | G44: 26/10/11 | I44: 40604 | N44: salmon
C45: Toy Ness | D45: TOYN1 | E45: CAR/L/1015855 | G45: 24/04/10 | I45: 40484 | N45: salmon
C46: Veantrow Bay | D46: VEA1 | E46: CAR/L/1003931 | G46: 19/10/10 | I46: 40435 | N46: salmon

Sheet SPRI DECLARATION
A1: =CONCATENATE('GENERAL GUIDELINES & SITE INFO'!E27," - SPRI DECLARATION") -> Scottish Seafarms Ltd - SPRI DECLARATION
A2: The information contained in the table below will be derived from the figures entered in the monthly worksheets. Please complete the declaration, in rows 13-15 below, that you agree that the information displayed in this table is true and accurate.
A5: Note: In the worksheet entilted "CALCULATIONS", the white cells contain formulae and are locked. Default figures for FCR and total phosphorous content in food have been entered. These cells, which are coloured yellow, are not locked and you may amend these in light of more accurate input data.
A8: Declaration:
A9: It is an offence under Regulation 30 of the PPC (Scotland) Regulations 2000 for a person to make a statement which that person knows to be false or misleading in a material particular, or recklessly to make a statement which is false or misleading in a material particular, where the statement is made in purpoted compliance with a requirement to furnish information imposed under Regulation 26(2) of those Regulations.
A12: I declare that the information provided in this form is correct, to the best of my knowledge.
A14: Sign off by typing name here: | B14: Sally Davies
A15: Position: | B15: Environment Manager
A16: Date: | B16: 40928
A19: Data Protection Notice
A20: The Scottish Environment Protection Agency is responsible for maintaining and improving the environment and regulating environmental emissions. It has a duty to protect and enhance the environment and to promote conservation and recreation.
A22: The information provided will be processed by the Scottish Environment Protection Agency and will be placed on SEPA’s website and used to monitor compliance with licence/permit conditions. We may also process and/or disclose any of the information you give us in connection with the following:
A24: • Offering/providing you with our information/services relating to environmental matters;
A25: • Consulting with the public, public bodies and other organisations (e.g. Health and Safety Executive, Local Authorities, Emergency Services, Scottish Executive) on environmental issues;
A26: • Carrying out statistical analysis, research and development on environmental issues;
A27: • Providing public register information to enquirers;
A28: • Investigating possible breaches of environmental law and taking any resulting action;
A29: • Preventing breaches of environmental law;
A30: • Accessing customer service satisfaction and improving our service.
A31: We may pass on the information to our agents/representatives to do these things on our behalf.
A32: Individuals have a right to see the information we hold about them. We will correct it if it is inaccurate.
... A34: Note that the materials required by SPRI that are below the threshold will be displayed as BRT (Below Reporting Threshold).
A35: Site Name | B35: Site ID | C35: SEPA Team Area | D35: Excis (litres) | E35: Cypermethrin (kgs) Threshold = 0.005kg | F35: Salmosan (grams) | G35: Azamethiphos (kgs) Threshold = 0.001kg | H35: Calicide (grams) | I35: Teflubenzuron (kgs) Threshold = 0.001kg | J35: Slice (grams) | K35: Emamectin salts and derivatives (kg) Threshold = 0.001kg | L35: Copper from nets (active ingredient copper-oxide, kg) | M35: Copper from feed (kgs) | N35: Total Copper (kg) | O35: Zinc from feed (kg) | P35: Nitrogen (kg) | Q35: Phosphorus (kg) | R35: Total Organic Carbon (kg) | S35: AMX (litres) | T35: Deltamethrin (kg) Threshold = 0.002kg
A36: =IF(Jan!B8="","",Jan!B8) -> Bring Head | B36: =IF(Jan!B8="","",Jan!C8) -> SCAP1 | C36: =IF(Jan!B8="","",Jan!E8) -> ORK | D36: =(SUM(Jan!I8,Feb!I8,Mar!I8,Apr!I8,May!I8,June!I8,July!I8,Aug!I8,Sept!I8,Oct!I8,Nov!I8,Dec!I8)) -> 0 | E36: =IF(Dec!K8="","",Dec!K8/1000) -> 0 | F36: =(SUM(Jan!L8,Feb!L8,Mar!L8,Apr!L8,May!L8,June!L8,July!L8,Aug!L8,Sept!L8,Oct!L8,Nov!L8,Dec!L8)) -> 0 | G36: =IF(Dec!N8="","",Dec!N8/1000) -> 0 | H36: =(SUM(Jan!O8,Feb!O8,Mar!O8,Apr!O8,May!O8,June!O8,July!O8,Aug!O8,Sept!O8,Oct!O8,Nov!O8,Dec!O8)) -> 0 | I36: =IF(Dec!Q8="","",Dec!Q8/1000) -> 0 | J36: =(SUM(Jan!R8,Feb!R8,Mar!R8,Apr!R8,May!R8,June!R8,July!R8,Aug!R8,Sept!R8,Oct!R8,Nov!R8,Dec!R8)) -> 0 | K36: =IF(Dec!T8="","",Dec!T8/1000) -> 0 | L36: =('Chem-SCAP1'!H15)/1000 -> 0 | M36: =CALCULATIONS!Q2 -> 10.94596 | N36: =IF(ISNUMBER(L36),L36,0)+M36 -> 10.94596 | O36: =CALCULATIONS!O2 -> 229.06031 | P36: =CALCULATIONS!H2 -> 81128.88 | Q36: =CALCULATIONS!K2 -> 11203.512 | R36: =CALCULATIONS!M2 -> 260288.49 | S36: =(SUM(Jan!U8,Feb!U8,Mar!U8,Apr!U8,May!U8,June!U8,July!U8,Aug!U8,Sept!U8,Oct!U8,Nov!U8,Dec!U8)) -> 0 | T36: =IF(Dec!W8="","",Dec!W8/1000) -> 0
A37: =IF(Jan!B9="","",Jan!B9) -> Eday Sound | B37: =IF(Jan!B9="","",Jan!C9) -> EDA1 | C37: =IF(Jan!B9="","",Jan!E9) -> ORK | D37: =(SUM(Jan!I9,Feb!I9,Mar!I9,Apr!I9,May!I9,June!I9,July!I9,Aug!I9,Sept!I9,Oct!I9,Nov!I9,Dec!I9)) -> 0 | E37: =IF(Dec!K9="","",Dec!K9/1000) -> 0 | F37: =(SUM(Jan!L9,Feb!L9,Mar!L9,Apr!L9,May!L9,June!L9,July!L9,Aug!L9,Sept!L9,Oct!L9,Nov!L9,Dec!L9)) -> 0 | G37: =IF(Dec!N9="","",Dec!N9/1000) -> 0 | H37: =(SUM(Jan!O9,Feb!O9,Mar!O9,Apr!O9,May!O9,June!O9,July!O9,Aug!O9,Sept!O9,Oct!O9,Nov!O9,Dec!O9)) -> 0 | I37: =IF(Dec!Q9="","",Dec!Q9/1000) -> 0 | J37: =(SUM(Jan!R9,Feb!R9,Mar!R9,Apr!R9,May!R9,June!R9,July!R9,Aug!R9,Sept!R9,Oct!R9,Nov!R9,Dec!R9)) -> 0 | K37: =IF(Dec!T9="","",Dec!T9/1000) -> 0 | L37: =('Chem-EDA1'!H15)/1000 -> 0 | M37: =CALCULATIONS!Q3 -> 0 | N37: =IF(ISNUMBER(L37),L37,0)+M37 -> 0 | O37: =CALCULATIONS!O3 -> 0 | P37: =CALCULATIONS!H3 -> 0 | Q37: =CALCULATIONS!K3 -> 0 | R37: =CALCULATIONS!M3 -> 0 | S37: =(SUM(Jan!U9,Feb!U9,Mar!U9,Apr!U9,May!U9,June!U9,July!U9,Aug!U9,Sept!U9,Oct!U9,Nov!U9,Dec!U9)) -> 0 | T37: =IF(Dec!W9="","",Dec!W9/1000) -> 0
A38: =IF(Jan!B10="","",Jan!B10) -> Kirk Taing | B38: =IF(Jan!B10="","",Jan!C10) -> MILL1 | C38: =IF(Jan!B10="","",Jan!E10) -> ORK | D38: =(SUM(Jan!I10,Feb!I10,Mar!I10,Apr!I10,May!I10,June!I10,July!I10,Aug!I10,Sept!I10,Oct!I10,Nov!I10,Dec!I10)) -> 0 | E38: =IF(Dec!K10="","",Dec!K10/1000) -> 0 | F38: =(SUM(Jan!L10,Feb!L10,Mar!L10,Apr!L10,May!L10,June!L10,July!L10,Aug!L10,Sept!L10,Oct!L10,Nov!L10,Dec!L10)) -> 0 | G38: =IF(Dec!N10="","",Dec!N10/1000) -> 0 | H38: =(SUM(Jan!O10,Feb!O10,Mar!O10,Apr!O10,May!O10,June!O10,July!O10,Aug!O10,Sept!O10,Oct!O10,Nov!O10,Dec!O10)) -> 0 | I38: =IF(Dec!Q10="","",Dec!Q10/1000) -> 0 | J38: =(SUM(Jan!R10,Feb!R10,Mar!R10,Apr!R10,May!R10,June!R10,July!R10,Aug!R10,Sept!R10,Oct!R10,Nov!R10,Dec!R10)) -> 0 | K38: =IF(Dec!T10="","",Dec!T10/1000) -> 0 | L38: =('Chem-MILL1'!H15)/1000 -> 0 | M38: =CALCULATIONS!Q4 -> 0 | N38: =IF(ISNUMBER(L38),L38,0)+M38 -> 0 | O38: =CALCULATIONS!O4 -> 0 | P38: =CALCULATIONS!H4 -> 0 | Q38: =CALCULATIONS!K4 -> 0 | R38: =CALCULATIONS!M4 -> 0 | S38: =(SUM(Jan!U10,Feb!U10,Mar!U10,Apr!U10,May!U10,June!U10,July!U10,Aug!U10,Sept!U10,Oct!U10,Nov!U10,Dec!U10)) -> 0 | T38: =IF(Dec!W10="","",Dec!W10/1000) -> 0
A39: =IF(Jan!B11="","",Jan!B11) -> Mill Bay, Stronsay | B39: =IF(Jan!B11="","",Jan!C11) -> MIL1 | C39: =IF(Jan!B11="","",Jan!E11) -> ORK | D39: =(SUM(Jan!I11,Feb!I11,Mar!I11,Apr!I11,May!I11,June!I11,July!I11,Aug!I11,Sept!I11,Oct!I11,Nov!I11,Dec!I11)) -> 0 | E39: =IF(Dec!K11="","",Dec!K11/1000) -> 0 | F39: =(SUM(Jan!L11,Feb!L11,Mar!L11,Apr!L11,May!L11,June!L11,July!L11,Aug!L11,Sept!L11,Oct!L11,Nov!L11,Dec!L11)) -> 0 | G39: =IF(Dec!N11="","",Dec!N11/1000) -> 0 | H39: =(SUM(Jan!O11,Feb!O11,Mar!O11,Apr!O11,May!O11,June!O11,July!O11,Aug!O11,Sept!O11,Oct!O11,Nov!O11,Dec!O11)) -> 0 | I39: =IF(Dec!Q11="","",Dec!Q11/1000) -> 0 | J39: =(SUM(Jan!R11,Feb!R11,Mar!R11,Apr!R11,May!R11,June!R11,July!R11,Aug!R11,Sept!R11,Oct!R11,Nov!R11,Dec!R11)) -> 0 | K39: =IF(Dec!T11="","",Dec!T11/1000) -> 0 | L39: =('Chem-MIL1'!H15)/1000 -> 0 | M39: =CALCULATIONS!Q5 -> 0 | N39: =IF(ISNUMBER(L39),L39,0)+M39 -> 0 | O39: =CALCULATIONS!O5 -> 0 | P39: =CALCULATIONS!H5 -> 0 | Q39: =CALCULATIONS!K5 -> 0 | R39: =CALCULATIONS!M5 -> 0 | S39: =(SUM(Jan!U11,Feb!U11,Mar!U11,Apr!U11,May!U11,June!U11,July!U11,Aug!U11,Sept!U11,Oct!U11,Nov!U11,Dec!U11)) -> 0 | T39: =IF(Dec!W11="","",Dec!W11/1000) -> 0
A40: =IF(Jan!B12="","",Jan!B12) -> Puldrite Bay | B40: =IF(Jan!B12="","",Jan!C12) -> PUL1 | C40: =IF(Jan!B12="","",Jan!E12) -> ORK | D40: =(SUM(Jan!I12,Feb!I12,Mar!I12,Apr!I12,May!I12,June!I12,July!I12,Aug!I12,Sept!I12,Oct!I12,Nov!I12,Dec!I12)) -> 0 | E40: =IF(Dec!K12="","",Dec!K12/1000) -> 0 | F40: =(SUM(Jan!L12,Feb!L12,Mar!L12,Apr!L12,May!L12,June!L12,July!L12,Aug!L12,Sept!L12,Oct!L12,Nov!L12,Dec!L12)) -> 0 | G40: =IF(Dec!N12="","",Dec!N12/1000) -> 0 | H40: =(SUM(Jan!O12,Feb!O12,Mar!O12,Apr!O12,May!O12,June!O12,July!O12,Aug!O12,Sept!O12,Oct!O12,Nov!O12,Dec!O12)) -> 0 | I40: =IF(Dec!Q12="","",Dec!Q12/1000) -> 0 | J40: =(SUM(Jan!R12,Feb!R12,Mar!R12,Apr!R12,May!R12,June!R12,July!R12,Aug!R12,Sept!R12,Oct!R12,Nov!R12,Dec!R12)) -> 0 | K40: =IF(Dec!T12="","",Dec!T12/1000) -> 0 | L40: =('Chem-PUL1'!H15)/1000 -> 640 | M40: =CALCULATIONS!Q6 -> 1.7411196 | N40: =IF(ISNUMBER(L40),L40,0)+M40 -> 641.74112 | O40: =CALCULATIONS!O6 -> 36.435488 | P40: =CALCULATIONS!H6 -> 12904.769 | Q40: =CALCULATIONS!K6 -> 1782.0871 | R40: =CALCULATIONS!M6 -> 41402.8 | S40: =(SUM(Jan!U12,Feb!U12,Mar!U12,Apr!U12,May!U12,June!U12,July!U12,Aug!U12,Sept!U12,Oct!U12,Nov!U12,Dec!U12)) -> 0 | T40: =IF(Dec!W12="","",Dec!W12/1000) -> 0
A41: =IF(Jan!B13="","",Jan!B13) -> Toy Ness | B41: =IF(Jan!B13="","",Jan!C13) -> TOYN1 | C41: =IF(Jan!B13="","",Jan!E13) -> ORK | D41: =(SUM(Jan!I13,Feb!I13,Mar!I13,Apr!I13,May!I13,June!I13,July!I13,Aug!I13,Sept!I13,Oct!I13,Nov!I13,Dec!I13)) -> 0 | E41: =IF(Dec!K13="","",Dec!K13/1000) -> 0 | F41: =(SUM(Jan!L13,Feb!L13,Mar!L13,Apr!L13,May!L13,June!L13,July!L13,Aug!L13,Sept!L13,Oct!L13,Nov!L13,Dec!L13)) -> 0 | G41: =IF(Dec!N13="","",Dec!N13/1000) -> 0 | H41: =(SUM(Jan!O13,Feb!O13,Mar!O13,Apr!O13,May!O13,June!O13,July!O13,Aug!O13,Sept!O13,Oct!O13,Nov!O13,Dec!O13)) -> 0 | I41: =IF(Dec!Q13="","",Dec!Q13/1000) -> 0 | J41: =(SUM(Jan!R13,Feb!R13,Mar!R13,Apr!R13,May!R13,June!R13,July!R13,Aug!R13,Sept!R13,Oct!R13,Nov!R13,Dec!R13)) -> 0 | K41: =IF(Dec!T13="","",Dec!T13/1000) -> 0 | L41: =('Chem-TOYN1'!H15)/1000 -> 875 | M41: =CALCULATIONS!Q7 -> 9.54958 | N41: =IF(ISNUMBER(L41),L41,0)+M41 -> 884.54958 | O41: =CALCULATIONS!O7 -> 199.839 | P41: =CALCULATIONS!H7 -> 70779.24 | Q41: =CALCULATIONS!K7 -> 9774.276 | R41: =CALCULATIONS!M7 -> 227083.39 | S41: =(SUM(Jan!U13,Feb!U13,Mar!U13,Apr!U13,May!U13,June!U13,July!U13,Aug!U13,Sept!U13,Oct!U13,Nov!U13,Dec!U13)) -> 0 | T41: =IF(Dec!W13="","",Dec!W13/1000) -> 0
A42: =IF(Jan!B14="","",Jan!B14) -> Veantrow Bay | B42: =IF(Jan!B14="","",Jan!C14) -> VEA1 | C42: =IF(Jan!B14="","",Jan!E14) -> ORK | D42: =(SUM(Jan!I14,Feb!I14,Mar!I14,Apr!I14,May!I14,June!I14,July!I14,Aug!I14,Sept!I14,Oct!I14,Nov!I14,Dec!I14)) -> 0 | E42: =IF(Dec!K14="","",Dec!K14/1000) -> 0 | F42: =(SUM(Jan!L14,Feb!L14,Mar!L14,Apr!L14,May!L14,June!L14,July!L14,Aug!L14,Sept!L14,Oct!L14,Nov!L14,Dec!L14)) -> 0 | G42: =IF(Dec!N14="","",Dec!N14/1000) -> 0 | H42: =(SUM(Jan!O14,Feb!O14,Mar!O14,Apr!O14,May!O14,June!O14,July!O14,Aug!O14,Sept!O14,Oct!O14,Nov!O14,Dec!O14)) -> 0 | I42: =IF(Dec!Q14="","",Dec!Q14/1000) -> 0 | J42: =(SUM(Jan!R14,Feb!R14,Mar!R14,Apr!R14,May!R14,June!R14,July!R14,Aug!R14,Sept!R14,Oct!R14,Nov!R14,Dec!R14)) -> 0 | K42: =IF(Dec!T14="","",Dec!T14/1000) -> 0 | L42: =('Chem-VEA1'!H15)/1000 -> 900 | M42: =CALCULATIONS!Q8 -> 10.653805 | N42: =IF(ISNUMBER(L42),L42,0)+M42 -> 910.6538 | O42: =CALCULATIONS!O8 -> 222.94653 | P42: =CALCULATIONS!H8 -> 78963.494 | Q42: =CALCULATIONS!K8 -> 10904.483 | R42: =CALCULATIONS!M8 -> 253341.21 | S42: =(SUM(Jan!U14,Feb!U14,Mar!U14,Apr!U14,May!U14,June!U14,July!U14,Aug!U14,Sept!U14,Oct!U14,Nov!U14,Dec!U14)) -> 0 | T42: =IF(Dec!W14="","",Dec!W14/1000) -> 0
A43: =IF(Jan!B15="","",Jan!B15) | B43: =IF(Jan!B15="","",Jan!C15) | C43: =IF(Jan!B15="","",Jan!E15) | D43: =(SUM(Jan!I15,Feb!I15,Mar!I15,Apr!I15,May!I15,June!I15,July!I15,Aug!I15,Sept!I15,Oct!I15,Nov!I15,Dec!I15)) -> 0 | E43: =IF(Dec!K15="","",Dec!K15/1000) | F43: =(SUM(Jan!L15,Feb!L15,Mar!L15,Apr!L15,May!L15,June!L15,July!L15,Aug!L15,Sept!L15,Oct!L15,Nov!L15,Dec!L15)) -> 0 | G43: =IF(Dec!N15="","",Dec!N15/1000) | H43: =(SUM(Jan!O15,Feb!O15,Mar!O15,Apr!O15,May!O15,June!O15,July!O15,Aug!O15,Sept!O15,Oct!O15,Nov!O15,Dec!O15)) -> 0 | I43: =IF(Dec!Q15="","",Dec!Q15/1000) | J43: =(SUM(Jan!R15,Feb!R15,Mar!R15,Apr!R15,May!R15,June!R15,July!R15,Aug!R15,Sept!R15,Oct!R15,Nov!R15,Dec!R15)) -> 0 | K43: =IF(Dec!T15="","",Dec!T15/1000) | L43: =('Chem-SiteID1'!H15)/1000 -> 0 | M43: =CALCULATIONS!Q9 -> 0 | N43: =IF(ISNUMBER(L43),L43,0)+M43 -> 0 | O43: =CALCULATIONS!O9 -> 0 | P43: =CALCULATIONS!H9 -> 0 | Q43: =CALCULATIONS!K9 -> 0 | R43: =CALCULATIONS!M9 -> 0 | S43: =(SUM(Jan!U15,Feb!U15,Mar!U15,Apr!U15,May!U15,June!U15,July!U15,Aug!U15,Sept!U15,Oct!U15,Nov!U15,Dec!U15)) -> 0 | T43: =IF(Dec!W15="","",Dec!W15/1000)
A44: =IF(Jan!B16="","",Jan!B16) | B44: =IF(Jan!B16="","",Jan!C16) | C44: =IF(Jan!B16="","",Jan!E16) | D44: =(SUM(Jan!I16,Feb!I16,Mar!I16,Apr!I16,May!I16,June!I16,July!I16,Aug!I16,Sept!I16,Oct!I16,Nov!I16,Dec!I16)) -> 0 | E44: =IF(Dec!K16="","",Dec!K16/1000) | F44: =(SUM(Jan!L16,Feb!L16,Mar!L16,Apr!L16,May!L16,June!L16,July!L16,Aug!L16,Sept!L16,Oct!L16,Nov!L16,Dec!L16)) -> 0 | G44: =IF(Dec!N16="","",Dec!N16/1000) | H44: =(SUM(Jan!O16,Feb!O16,Mar!O16,Apr!O16,May!O16,June!O16,July!O16,Aug!O16,Sept!O16,Oct!O16,Nov!O16,Dec!O16)) -> 0 | I44: =IF(Dec!Q16="","",Dec!Q16/1000) | J44: =(SUM(Jan!R16,Feb!R16,Mar!R16,Apr!R16,May!R16,June!R16,July!R16,Aug!R16,Sept!R16,Oct!R16,Nov!R16,Dec!R16)) -> 0 | K44: =IF(Dec!T16="","",Dec!T16/1000) | L44: =('Chem-SiteID2'!H15)/1000 -> 0 | M44: =CALCULATIONS!Q10 -> 0 | N44: =IF(ISNUMBER(L44),L44,0)+M44 -> 0 | O44: =CALCULATIONS!O10 -> 0 | P44: =CALCULATIONS!H10 -> 0 | Q44: =CALCULATIONS!K10 -> 0 | R44: =CALCULATIONS!M10 -> 0 | S44: =(SUM(Jan!U16,Feb!U16,Mar!U16,Apr!U16,May!U16,June!U16,July!U16,Aug!U16,Sept!U16,Oct!U16,Nov!U16,Dec!U16)) -> 0 | T44: =IF(Dec!W16="","",Dec!W16/1000)
A45: =IF(Jan!B17="","",Jan!B17) | B45: =IF(Jan!B17="","",Jan!C17) | C45: =IF(Jan!B17="","",Jan!E17) | D45: =(SUM(Jan!I17,Feb!I17,Mar!I17,Apr!I17,May!I17,June!I17,July!I17,Aug!I17,Sept!I17,Oct!I17,Nov!I17,Dec!I17)) -> 0 | E45: =IF(Dec!K17="","",Dec!K17/1000) | F45: =(SUM(Jan!L17,Feb!L17,Mar!L17,Apr!L17,May!L17,June!L17,July!L17,Aug!L17,Sept!L17,Oct!L17,Nov!L17,Dec!L17)) -> 0 | G45: =IF(Dec!N17="","",Dec!N17/1000) | H45: =(SUM(Jan!O17,Feb!O17,Mar!O17,Apr!O17,May!O17,June!O17,July!O17,Aug!O17,Sept!O17,Oct!O17,Nov!O17,Dec!O17)) -> 0 | I45: =IF(Dec!Q17="","",Dec!Q17/1000) | J45: =(SUM(Jan!R17,Feb!R17,Mar!R17,Apr!R17,May!R17,June!R17,July!R17,Aug!R17,Sept!R17,Oct!R17,Nov!R17,Dec!R17)) -> 0 | K45: =IF(Dec!T17="","",Dec!T17/1000) | L45: =('Chem-SiteID3'!H15)/1000 -> 0 | M45: =CALCULATIONS!Q11 -> 0 | N45: =IF(ISNUMBER(L45),L45,0)+M45 -> 0 | O45: =CALCULATIONS!O11 -> 0 | P45: =CALCULATIONS!H11 -> 0 | Q45: =CALCULATIONS!K11 -> 0 | R45: =CALCULATIONS!M11 -> 0 | S45: =(SUM(Jan!U17,Feb!U17,Mar!U17,Apr!U17,May!U17,June!U17,July!U17,Aug!U17,Sept!U17,Oct!U17,Nov!U17,Dec!U17)) -> 0 | T45: =IF(Dec!W17="","",Dec!W17/1000)
A46: =IF(Jan!B18="","",Jan!B18) | B46: =IF(Jan!B18="","",Jan!C18) | C46: =IF(Jan!B18="","",Jan!E18) | D46: =(SUM(Jan!I18,Feb!I18,Mar!I18,Apr!I18,May!I18,June!I18,July!I18,Aug!I18,Sept!I18,Oct!I18,Nov!I18,Dec!I18)) -> 0 | E46: =IF(Dec!K18="","",Dec!K18/1000) | F46: =(SUM(Jan!L18,Feb!L18,Mar!L18,Apr!L18,May!L18,June!L18,July!L18,Aug!L18,Sept!L18,Oct!L18,Nov!L18,Dec!L18)) -> 0 | G46: =IF(Dec!N18="","",Dec!N18/1000) | H46: =(SUM(Jan!O18,Feb!O18,Mar!O18,Apr!O18,May!O18,June!O18,July!O18,Aug!O18,Sept!O18,Oct!O18,Nov!O18,Dec!O18)) -> 0 | I46: =IF(Dec!Q18="","",Dec!Q18/1000) | J46: =(SUM(Jan!R18,Feb!R18,Mar!R18,Apr!R18,May!R18,June!R18,July!R18,Aug!R18,Sept!R18,Oct!R18,Nov!R18,Dec!R18)) -> 0 | K46: =IF(Dec!T18="","",Dec!T18/1000) | L46: =('Chem-SiteID4'!H15)/1000 -> 0 | M46: =CALCULATIONS!Q12 -> 0 | N46: =IF(ISNUMBER(L46),L46,0)+M46 -> 0 | O46: =CALCULATIONS!O12 -> 0 | P46: =CALCULATIONS!H12 -> 0 | Q46: =CALCULATIONS!K12 -> 0 | R46: =CALCULATIONS!M12 -> 0 | S46: =(SUM(Jan!U18,Feb!U18,Mar!U18,Apr!U18,May!U18,June!U18,July!U18,Aug!U18,Sept!U18,Oct!U18,Nov!U18,Dec!U18)) -> 0 | T46: =IF(Dec!W18="","",Dec!W18/1000)
A47: =IF(Jan!B19="","",Jan!B19) | B47: =IF(Jan!B19="","",Jan!C19) | C47: =IF(Jan!B19="","",Jan!E19) | D47: =(SUM(Jan!I19,Feb!I19,Mar!I19,Apr!I19,May!I19,June!I19,July!I19,Aug!I19,Sept!I19,Oct!I19,Nov!I19,Dec!I19)) -> 0 | E47: =IF(Dec!K19="","",Dec!K19/1000) | F47: =(SUM(Jan!L19,Feb!L19,Mar!L19,Apr!L19,May!L19,June!L19,July!L19,Aug!L19,Sept!L19,Oct!L19,Nov!L19,Dec!L19)) -> 0 | G47: =IF(Dec!N19="","",Dec!N19/1000) | H47: =(SUM(Jan!O19,Feb!O19,Mar!O19,Apr!O19,May!O19,June!O19,July!O19,Aug!O19,Sept!O19,Oct!O19,Nov!O19,Dec!O19)) -> 0 | I47: =IF(Dec!Q19="","",Dec!Q19/1000) | J47: =(SUM(Jan!R19,Feb!R19,Mar!R19,Apr!R19,May!R19,June!R19,July!R19,Aug!R19,Sept!R19,Oct!R19,Nov!R19,Dec!R19)) -> 0 | K47: =IF(Dec!T19="","",Dec!T19/1000) | L47: =('Chem-SiteID5'!H15)/1000 -> 0 | M47: =CALCULATIONS!Q13 -> 0 | N47: =IF(ISNUMBER(L47),L47,0)+M47 -> 0 | O47: =CALCULATIONS!O13 -> 0 | P47: =CALCULATIONS!H13 -> 0 | Q47: =CALCULATIONS!K13 -> 0 | R47: =CALCULATIONS!M13 -> 0 | S47: =(SUM(Jan!U19,Feb!U19,Mar!U19,Apr!U19,May!U19,June!U19,July!U19,Aug!U19,Sept!U19,Oct!U19,Nov!U19,Dec!U19)) -> 0 | T47: =IF(Dec!W19="","",Dec!W19/1000)
A48: =IF(Jan!B20="","",Jan!B20) | B48: =IF(Jan!B20="","",Jan!C20) | C48: =IF(Jan!B20="","",Jan!E20) | D48: =(SUM(Jan!I20,Feb!I20,Mar!I20,Apr!I20,May!I20,June!I20,July!I20,Aug!I20,Sept!I20,Oct!I20,Nov!I20,Dec!I20)) -> 0 | E48: =IF(Dec!K20="","",Dec!K20/1000) | F48: =(SUM(Jan!L20,Feb!L20,Mar!L20,Apr!L20,May!L20,June!L20,July!L20,Aug!L20,Sept!L20,Oct!L20,Nov!L20,Dec!L20)) -> 0 | G48: =IF(Dec!N20="","",Dec!N20/1000) | H48: =(SUM(Jan!O20,Feb!O20,Mar!O20,Apr!O20,May!O20,June!O20,July!O20,Aug!O20,Sept!O20,Oct!O20,Nov!O20,Dec!O20)) -> 0 | I48: =IF(Dec!Q20="","",Dec!Q20/1000) | J48: =(SUM(Jan!R20,Feb!R20,Mar!R20,Apr!R20,May!R20,June!R20,July!R20,Aug!R20,Sept!R20,Oct!R20,Nov!R20,Dec!R20)) -> 0 | K48: =IF(Dec!T20="","",Dec!T20/1000) | M48: =CALCULATIONS!Q14 -> 0 | N48: =IF(ISNUMBER(L48),L48,0)+M48 -> 0 | O48: =CALCULATIONS!O14 -> 0 | P48: =CALCULATIONS!H14 -> 0 | Q48: =CALCULATIONS!K14 -> 0 | R48: =CALCULATIONS!M14 -> 0 | S48: =(SUM(Jan!U20,Feb!U20,Mar!U20,Apr!U20,May!U20,June!U20,July!U20,Aug!U20,Sept!U20,Oct!U20,Nov!U20,Dec!U20)) -> 0 | T48: =IF(Dec!W20="","",Dec!W20/1000)
A49: =IF(Jan!B21="","",Jan!B21) | B49: =IF(Jan!B21="","",Jan!C21) | C49: =IF(Jan!B21="","",Jan!E21) | D49: =(SUM(Jan!I21,Feb!I21,Mar!I21,Apr!I21,May!I21,June!I21,July!I21,Aug!I21,Sept!I21,Oct!I21,Nov!I21,Dec!I21)) -> 0 | E49: =IF(Dec!K21="","",Dec!K21/1000) | F49: =(SUM(Jan!L21,Feb!L21,Mar!L21,Apr!L21,May!L21,June!L21,July!L21,Aug!L21,Sept!L21,Oct!L21,Nov!L21,Dec!L21)) -> 0 | G49: =IF(Dec!N21="","",Dec!N21/1000) | H49: =(SUM(Jan!O21,Feb!O21,Mar!O21,Apr!O21,May!O21,June!O21,July!O21,Aug!O21,Sept!O21,Oct!O21,Nov!O21,Dec!O21)) -> 0 | I49: =IF(Dec!Q21="","",Dec!Q21/1000) | J49: =(SUM(Jan!R21,Feb!R21,Mar!R21,Apr!R21,May!R21,June!R21,July!R21,Aug!R21,Sept!R21,Oct!R21,Nov!R21,Dec!R21)) -> 0 | K49: =IF(Dec!T21="","",Dec!T21/1000) | M49: =CALCULATIONS!Q15 -> 0 | N49: =IF(ISNUMBER(L49),L49,0)+M49 -> 0 | O49: =CALCULATIONS!O15 -> 0 | P49: =CALCULATIONS!H15 -> 0 | Q49: =CALCULATIONS!K15 -> 0 | R49: =CALCULATIONS!M15 -> 0 | S49: =(SUM(Jan!U21,Feb!U21,Mar!U21,Apr!U21,May!U21,June!U21,July!U21,Aug!U21,Sept!U21,Oct!U21,Nov!U21,Dec!U21)) -> 0 | T49: =IF(Dec!W21="","",Dec!W21/1000)
A50: =IF(Jan!B22="","",Jan!B22) | B50: =IF(Jan!B22="","",Jan!C22) | C50: =IF(Jan!B22="","",Jan!E22) | D50: =(SUM(Jan!I22,Feb!I22,Mar!I22,Apr!I22,May!I22,June!I22,July!I22,Aug!I22,Sept!I22,Oct!I22,Nov!I22,Dec!I22)) -> 0 | E50: =IF(Dec!K22="","",Dec!K22/1000) | F50: =(SUM(Jan!L22,Feb!L22,Mar!L22,Apr!L22,May!L22,June!L22,July!L22,Aug!L22,Sept!L22,Oct!L22,Nov!L22,Dec!L22)) -> 0 | G50: =IF(Dec!N22="","",Dec!N22/1000) | H50: =(SUM(Jan!O22,Feb!O22,Mar!O22,Apr!O22,May!O22,June!O22,July!O22,Aug!O22,Sept!O22,Oct!O22,Nov!O22,Dec!O22)) -> 0 | I50: =IF(Dec!Q22="","",Dec!Q22/1000) | J50: =(SUM(Jan!R22,Feb!R22,Mar!R22,Apr!R22,May!R22,June!R22,July!R22,Aug!R22,Sept!R22,Oct!R22,Nov!R22,Dec!R22)) -> 0 | K50: =IF(Dec!T22="","",Dec!T22/1000) | M50: =CALCULATIONS!Q16 -> 0 | N50: =IF(ISNUMBER(L50),L50,0)+M50 -> 0 | O50: =CALCULATIONS!O16 -> 0 | P50: =CALCULATIONS!H16 -> 0 | Q50: =CALCULATIONS!K16 -> 0 | R50: =CALCULATIONS!M16 -> 0 | S50: =(SUM(Jan!U22,Feb!U22,Mar!U22,Apr!U22,May!U22,June!U22,July!U22,Aug!U22,Sept!U22,Oct!U22,Nov!U22,Dec!U22)) -> 0 | T50: =IF(Dec!W22="","",Dec!W22/1000)
A51: =IF(Jan!B23="","",Jan!B23) | B51: =IF(Jan!B23="","",Jan!C23) | C51: =IF(Jan!B23="","",Jan!E23) | D51: =(SUM(Jan!I23,Feb!I23,Mar!I23,Apr!I23,May!I23,June!I23,July!I23,Aug!I23,Sept!I23,Oct!I23,Nov!I23,Dec!I23)) -> 0 | E51: =IF(Dec!K23="","",Dec!K23/1000) | F51: =(SUM(Jan!L23,Feb!L23,Mar!L23,Apr!L23,May!L23,June!L23,July!L23,Aug!L23,Sept!L23,Oct!L23,Nov!L23,Dec!L23)) -> 0 | G51: =IF(Dec!N23="","",Dec!N23/1000) | H51: =(SUM(Jan!O23,Feb!O23,Mar!O23,Apr!O23,May!O23,June!O23,July!O23,Aug!O23,Sept!O23,Oct!O23,Nov!O23,Dec!O23)) -> 0 | I51: =IF(Dec!Q23="","",Dec!Q23/1000) | J51: =(SUM(Jan!R23,Feb!R23,Mar!R23,Apr!R23,May!R23,June!R23,July!R23,Aug!R23,Sept!R23,Oct!R23,Nov!R23,Dec!R23)) -> 0 | K51: =IF(Dec!T23="","",Dec!T23/1000) | M51: =CALCULATIONS!Q17 -> 0 | N51: =IF(ISNUMBER(L51),L51,0)+M51 -> 0 | O51: =CALCULATIONS!O17 -> 0 | P51: =CALCULATIONS!H17 -> 0 | Q51: =CALCULATIONS!K17 -> 0 | R51: =CALCULATIONS!M17 -> 0 | S51: =(SUM(Jan!U23,Feb!U23,Mar!U23,Apr!U23,May!U23,June!U23,July!U23,Aug!U23,Sept!U23,Oct!U23,Nov!U23,Dec!U23)) -> 0 | T51: =IF(Dec!W23="","",Dec!W23/1000)
A52: =IF(Jan!B24="","",Jan!B24) | B52: =IF(Jan!B24="","",Jan!C24) | C52: =IF(Jan!B24="","",Jan!E24) | D52: =(SUM(Jan!I24,Feb!I24,Mar!I24,Apr!I24,May!I24,June!I24,July!I24,Aug!I24,Sept!I24,Oct!I24,Nov!I24,Dec!I24)) -> 0 | E52: =IF(Dec!K24="","",Dec!K24/1000) | F52: =(SUM(Jan!L24,Feb!L24,Mar!L24,Apr!L24,May!L24,June!L24,July!L24,Aug!L24,Sept!L24,Oct!L24,Nov!L24,Dec!L24)) -> 0 | G52: =IF(Dec!N24="","",Dec!N24/1000) | H52: =(SUM(Jan!O24,Feb!O24,Mar!O24,Apr!O24,May!O24,June!O24,July!O24,Aug!O24,Sept!O24,Oct!O24,Nov!O24,Dec!O24)) -> 0 | I52: =IF(Dec!Q24="","",Dec!Q24/1000) | J52: =(SUM(Jan!R24,Feb!R24,Mar!R24,Apr!R24,May!R24,June!R24,July!R24,Aug!R24,Sept!R24,Oct!R24,Nov!R24,Dec!R24)) -> 0 | K52: =IF(Dec!T24="","",Dec!T24/1000) | M52: =CALCULATIONS!Q18 -> 0 | N52: =IF(ISNUMBER(L52),L52,0)+M52 -> 0 | O52: =CALCULATIONS!O18 -> 0 | P52: =CALCULATIONS!H18 -> 0 | Q52: =CALCULATIONS!K18 -> 0 | R52: =CALCULATIONS!M18 -> 0 | S52: =(SUM(Jan!U24,Feb!U24,Mar!U24,Apr!U24,May!U24,June!U24,July!U24,Aug!U24,Sept!U24,Oct!U24,Nov!U24,Dec!U24)) -> 0 | T52: =IF(Dec!W24="","",Dec!W24/1000)
A53: =IF(Jan!B25="","",Jan!B25) | B53: =IF(Jan!B25="","",Jan!C25) | C53: =IF(Jan!B25="","",Jan!E25) | D53: =(SUM(Jan!I25,Feb!I25,Mar!I25,Apr!I25,May!I25,June!I25,July!I25,Aug!I25,Sept!I25,Oct!I25,Nov!I25,Dec!I25)) -> 0 | E53: =IF(Dec!K25="","",Dec!K25/1000) | F53: =(SUM(Jan!L25,Feb!L25,Mar!L25,Apr!L25,May!L25,June!L25,July!L25,Aug!L25,Sept!L25,Oct!L25,Nov!L25,Dec!L25)) -> 0 | G53: =IF(Dec!N25="","",Dec!N25/1000) | H53: =(SUM(Jan!O25,Feb!O25,Mar!O25,Apr!O25,May!O25,June!O25,July!O25,Aug!O25,Sept!O25,Oct!O25,Nov!O25,Dec!O25)) -> 0 | I53: =IF(Dec!Q25="","",Dec!Q25/1000) | J53: =(SUM(Jan!R25,Feb!R25,Mar!R25,Apr!R25,May!R25,June!R25,July!R25,Aug!R25,Sept!R25,Oct!R25,Nov!R25,Dec!R25)) -> 0 | K53: =IF(Dec!T25="","",Dec!T25/1000) | M53: =CALCULATIONS!Q19 -> 0 | N53: =IF(ISNUMBER(L53),L53,0)+M53 -> 0 | O53: =CALCULATIONS!O19 -> 0 | P53: =CALCULATIONS!H19 -> 0 | Q53: =CALCULATIONS!K19 -> 0 | R53: =CALCULATIONS!M19 -> 0 | S53: =(SUM(Jan!U25,Feb!U25,Mar!U25,Apr!U25,May!U25,June!U25,July!U25,Aug!U25,Sept!U25,Oct!U25,Nov!U25,Dec!U25)) -> 0 | T53: =IF(Dec!W25="","",Dec!W25/1000)
A54: =IF(Jan!B26="","",Jan!B26) | B54: =IF(Jan!B26="","",Jan!C26) | C54: =IF(Jan!B26="","",Jan!E26) | D54: =(SUM(Jan!I26,Feb!I26,Mar!I26,Apr!I26,May!I26,June!I26,July!I26,Aug!I26,Sept!I26,Oct!I26,Nov!I26,Dec!I26)) -> 0 | E54: =IF(Dec!K26="","",Dec!K26/1000) | F54: =(SUM(Jan!L26,Feb!L26,Mar!L26,Apr!L26,May!L26,June!L26,July!L26,Aug!L26,Sept!L26,Oct!L26,Nov!L26,Dec!L26)) -> 0 | G54: =IF(Dec!N26="","",Dec!N26/1000) | H54: =(SUM(Jan!O26,Feb!O26,Mar!O26,Apr!O26,May!O26,June!O26,July!O26,Aug!O26,Sept!O26,Oct!O26,Nov!O26,Dec!O26)) -> 0 | I54: =IF(Dec!Q26="","",Dec!Q26/1000) | J54: =(SUM(Jan!R26,Feb!R26,Mar!R26,Apr!R26,May!R26,June!R26,July!R26,Aug!R26,Sept!R26,Oct!R26,Nov!R26,Dec!R26)) -> 0 | K54: =IF(Dec!T26="","",Dec!T26/1000) | M54: =CALCULATIONS!Q20 -> 0 | N54: =IF(ISNUMBER(L54),L54,0)+M54 -> 0 | O54: =CALCULATIONS!O20 -> 0 | P54: =CALCULATIONS!H20 -> 0 | Q54: =CALCULATIONS!K20 -> 0 | R54: =CALCULATIONS!M20 -> 0 | S54: =(SUM(Jan!U26,Feb!U26,Mar!U26,Apr!U26,May!U26,June!U26,July!U26,Aug!U26,Sept!U26,Oct!U26,Nov!U26,Dec!U26)) -> 0 | T54: =IF(Dec!W26="","",Dec!W26/1000)
A55: =IF(Jan!B27="","",Jan!B27) | B55: =IF(Jan!B27="","",Jan!C27) | C55: =IF(Jan!B27="","",Jan!E27) | D55: =(SUM(Jan!I27,Feb!I27,Mar!I27,Apr!I27,May!I27,June!I27,July!I27,Aug!I27,Sept!I27,Oct!I27,Nov!I27,Dec!I27)) -> 0 | E55: =IF(Dec!K27="","",Dec!K27/1000) | F55: =(SUM(Jan!L27,Feb!L27,Mar!L27,Apr!L27,May!L27,June!L27,July!L27,Aug!L27,Sept!L27,Oct!L27,Nov!L27,Dec!L27)) -> 0 | G55: =IF(Dec!N27="","",Dec!N27/1000) | H55: =(SUM(Jan!O27,Feb!O27,Mar!O27,Apr!O27,May!O27,June!O27,July!O27,Aug!O27,Sept!O27,Oct!O27,Nov!O27,Dec!O27)) -> 0 | I55: =IF(Dec!Q27="","",Dec!Q27/1000) | J55: =(SUM(Jan!R27,Feb!R27,Mar!R27,Apr!R27,May!R27,June!R27,July!R27,Aug!R27,Sept!R27,Oct!R27,Nov!R27,Dec!R27)) -> 0 | K55: =IF(Dec!T27="","",Dec!T27/1000) | M55: =CALCULATIONS!Q21 -> 0 | N55: =IF(ISNUMBER(L55),L55,0)+M55 -> 0 | O55: =CALCULATIONS!O21 -> 0 | P55: =CALCULATIONS!H21 -> 0 | Q55: =CALCULATIONS!K21 -> 0 | R55: =CALCULATIONS!M21 -> 0 | S55: =(SUM(Jan!U27,Feb!U27,Mar!U27,Apr!U27,May!U27,June!U27,July!U27,Aug!U27,Sept!U27,Oct!U27,Nov!U27,Dec!U27)) -> 0 | T55: =IF(Dec!W27="","",Dec!W27/1000)
A56: =IF(Jan!B28="","",Jan!B28) | B56: =IF(Jan!B28="","",Jan!C28) | C56: =IF(Jan!B28="","",Jan!E28) | D56: =(SUM(Jan!I28,Feb!I28,Mar!I28,Apr!I28,May!I28,June!I28,July!I28,Aug!I28,Sept!I28,Oct!I28,Nov!I28,Dec!I28)) -> 0 | E56: =IF(Dec!K28="","",Dec!K28/1000) | F56: =(SUM(Jan!L28,Feb!L28,Mar!L28,Apr!L28,May!L28,June!L28,July!L28,Aug!L28,Sept!L28,Oct!L28,Nov!L28,Dec!L28)) -> 0 | G56: =IF(Dec!N28="","",Dec!N28/1000) | H56: =(SUM(Jan!O28,Feb!O28,Mar!O28,Apr!O28,May!O28,June!O28,July!O28,Aug!O28,Sept!O28,Oct!O28,Nov!O28,Dec!O28)) -> 0 | I56: =IF(Dec!Q28="","",Dec!Q28/1000) | J56: =(SUM(Jan!R28,Feb!R28,Mar!R28,Apr!R28,May!R28,June!R28,July!R28,Aug!R28,Sept!R28,Oct!R28,Nov!R28,Dec!R28)) -> 0 | K56: =IF(Dec!T28="","",Dec!T28/1000) | M56: =CALCULATIONS!Q22 -> 0 | N56: =IF(ISNUMBER(L56),L56,0)+M56 -> 0 | O56: =CALCULATIONS!O22 -> 0 | P56: =CALCULATIONS!H22 -> 0 | Q56: =CALCULATIONS!K22 -> 0 | R56: =CALCULATIONS!M22 -> 0 | S56: =(SUM(Jan!U28,Feb!U28,Mar!U28,Apr!U28,May!U28,June!U28,July!U28,Aug!U28,Sept!U28,Oct!U28,Nov!U28,Dec!U28)) -> 0 | T56: =IF(Dec!W28="","",Dec!W28/1000)

Sheet CALCULATIONS
B1: Site Name | C1: Site ID | D1: Licence | E1: Species | F1: Total feed input (kg) | G1: Species factor | H1: Nitrogen release (kg) | I1: Nitrogen threshold, 50000kg | J1: Total Phosphorus content in feed (%) | K1: Phosphorus release (kg) | L1: Phosphorus threshold, 5000kg | M1: TOC release (kg) | N1: TOC threshold, 50000kg | O1: Zinc release (kg) | P1: Zinc Threshold, 100kg | Q1: Copper loss via feed only (kg) | R1: Copper threshold, 20kg
B2: =IF(Jan!B8="","",Jan!B8) -> Bring Head | C2: =IF(Jan!B8="","",Jan!C8) -> SCAP1 | D2: =IF(Jan!B8="","",Jan!D8) -> CAR/L/1015854 | E2: =IF('GENERAL GUIDELINES & SITE INFO'!N40="","",'GENERAL GUIDELINES & SITE INFO'!N40) -> salmon | F2: =SUM(Jan!X8,Feb!X8,Mar!X8,Apr!X8,May!X8,June!X8,July!X8,Aug!X8,Sept!X8,Oct!X8,Nov!X8,Dec!X8) -> 1609700 | G2: =IF(E2="Salmon",1)+IF(E2="Cod",1.5)+IF(E2="Halibut",1.4)+IF(E2="Haddock",1.5)+IF(E2="Trout",1) -> 1 | H2: =((F2*0.03*0.08)+(F2*0.08*0.6))*G2 -> 81128.88 | I2: =IF(H2<=50000,"BRT",H2) -> 81128.88 | J2: 1.2 | K2: =((F2*0.03*(J2/100))+(F2*(J2/100)*0.55)) -> 11203.512 | L2: =IF(K2<=5000,"BRT",K2) -> 11203.512 | M2: =(F2*0.03*0.49)+(F2*0.49*0.3) -> 260288.49 | N2: =IF(M2<=50000,"BRT",M2) -> 260288.49 | O2: =F2*0.0001423 -> 229.06031 | P2: =IF(O2<=100,"BRT",O2) -> 229.06031 | Q2: =F2*0.0000068 -> 10.94596 | R2: =IF(Q2<=20,"BRT",Q2) -> BRT
B3: =IF(Jan!B9="","",Jan!B9) -> Eday Sound | C3: =IF(Jan!B9="","",Jan!C9) -> EDA1 | D3: =IF(Jan!B9="","",Jan!D9) -> CAR/L/1003956 | E3: =IF('GENERAL GUIDELINES & SITE INFO'!N41="","",'GENERAL GUIDELINES & SITE INFO'!N41) -> salmon | F3: =SUM(Jan!X9,Feb!X9,Mar!X9,Apr!X9,May!X9,June!X9,July!X9,Aug!X9,Sept!X9,Oct!X9,Nov!X9,Dec!X9) -> 0 | G3: =IF(E3="Salmon",1)+IF(E3="Cod",1.5)+IF(E3="Halibut",1.4)+IF(E3="Haddock",1.5)+IF(E3="Trout",1) -> 1 | H3: =((F3*0.03*0.08)+(F3*0.08*0.6))*G3 -> 0 | I3: =IF(H3<=50000,"BRT",H3) -> BRT | J3: 1.2 | K3: =((F3*0.03*(J3/100))+(F3*(J3/100)*0.55)) -> 0 | L3: =IF(K3<=5000,"BRT",K3) -> BRT | M3: =(F3*0.03*0.49)+(F3*0.49*0.3) -> 0 | N3: =IF(M3<=50000,"BRT",M3) -> BRT | O3: =F3*0.0001423 -> 0 | P3: =IF(O3<=100,"BRT",O3) -> BRT | Q3: =F3*0.0000068 -> 0 | R3: =IF(Q3<=20,"BRT",Q3) -> BRT
B4: =IF(Jan!B10="","",Jan!B10) -> Kirk Taing | C4: =IF(Jan!B10="","",Jan!C10) -> MILL1 | D4: =IF(Jan!B10="","",Jan!D10) -> CAR/L/1003952 | E4: =IF('GENERAL GUIDELINES & SITE INFO'!N42="","",'GENERAL GUIDELINES & SITE INFO'!N42) -> salmon | F4: =SUM(Jan!X10,Feb!X10,Mar!X10,Apr!X10,May!X10,June!X10,July!X10,Aug!X10,Sept!X10,Oct!X10,Nov!X10,Dec!X10) -> 0 | G4: =IF(E4="Salmon",1)+IF(E4="Cod",1.5)+IF(E4="Halibut",1.4)+IF(E4="Haddock",1.5)+IF(E4="Trout",1) -> 1 | H4: =((F4*0.03*0.08)+(F4*0.08*0.6))*G4 -> 0 | I4: =IF(H4<=50000,"BRT",H4) -> BRT | J4: 1.2 | K4: =((F4*0.03*(J4/100))+(F4*(J4/100)*0.55)) -> 0 | L4: =IF(K4<=5000,"BRT",K4) -> BRT | M4: =(F4*0.03*0.49)+(F4*0.49*0.3) -> 0 | N4: =IF(M4<=50000,"BRT",M4) -> BRT | O4: =F4*0.0001423 -> 0 | P4: =IF(O4<=100,"BRT",O4) -> BRT | Q4: =F4*0.0000068 -> 0 | R4: =IF(Q4<=20,"BRT",Q4) -> BRT
B5: =IF(Jan!B11="","",Jan!B11) -> Mill Bay, Stronsay | C5: =IF(Jan!B11="","",Jan!C11) -> MIL1 | D5: =IF(Jan!B11="","",Jan!D11) -> CAR/L/1034607 | E5: =IF('GENERAL GUIDELINES & SITE INFO'!N43="","",'GENERAL GUIDELINES & SITE INFO'!N43) -> salmon | F5: =SUM(Jan!X11,Feb!X11,Mar!X11,Apr!X11,May!X11,June!X11,July!X11,Aug!X11,Sept!X11,Oct!X11,Nov!X11,Dec!X11) -> 0 | G5: =IF(E5="Salmon",1)+IF(E5="Cod",1.5)+IF(E5="Halibut",1.4)+IF(E5="Haddock",1.5)+IF(E5="Trout",1) -> 1 | H5: =((F5*0.03*0.08)+(F5*0.08*0.6))*G5 -> 0 | I5: =IF(H5<=50000,"BRT",H5) -> BRT | J5: 1.2 | K5: =((F5*0.03*(J5/100))+(F5*(J5/100)*0.55)) -> 0 | L5: =IF(K5<=5000,"BRT",K5) -> BRT | M5: =(F5*0.03*0.49)+(F5*0.49*0.3) -> 0 | N5: =IF(M5<=50000,"BRT",M5) -> BRT | O5: =F5*0.0001423 -> 0 | P5: =IF(O5<=100,"BRT",O5) -> BRT | Q5: =F5*0.0000068 -> 0 | R5: =IF(Q5<=20,"BRT",Q5) -> BRT
B6: =IF(Jan!B12="","",Jan!B12) -> Puldrite Bay | C6: =IF(Jan!B12="","",Jan!C12) -> PUL1 | D6: =IF(Jan!B12="","",Jan!D12) -> CAR/L/1003954 | E6: =IF('GENERAL GUIDELINES & SITE INFO'!N44="","",'GENERAL GUIDELINES & SITE INFO'!N44) -> salmon | F6: =SUM(Jan!X12,Feb!X12,Mar!X12,Apr!X12,May!X12,June!X12,July!X12,Aug!X12,Sept!X12,Oct!X12,Nov!X12,Dec!X12) -> 256047 | G6: =IF(E6="Salmon",1)+IF(E6="Cod",1.5)+IF(E6="Halibut",1.4)+IF(E6="Haddock",1.5)+IF(E6="Trout",1) -> 1 | H6: =((F6*0.03*0.08)+(F6*0.08*0.6))*G6 -> 12904.769 | I6: =IF(H6<=50000,"BRT",H6) -> BRT | J6: 1.2 | K6: =((F6*0.03*(J6/100))+(F6*(J6/100)*0.55)) -> 1782.0871 | L6: =IF(K6<=5000,"BRT",K6) -> BRT | M6: =(F6*0.03*0.49)+(F6*0.49*0.3) -> 41402.8 | N6: =IF(M6<=50000,"BRT",M6) -> BRT | O6: =F6*0.0001423 -> 36.435488 | P6: =IF(O6<=100,"BRT",O6) -> BRT | Q6: =F6*0.0000068 -> 1.7411196 | R6: =IF(Q6<=20,"BRT",Q6) -> BRT
B7: =IF(Jan!B13="","",Jan!B13) -> Toy Ness | C7: =IF(Jan!B13="","",Jan!C13) -> TOYN1 | D7: =IF(Jan!B13="","",Jan!D13) -> CAR/L/1015855 | E7: =IF('GENERAL GUIDELINES & SITE INFO'!N45="","",'GENERAL GUIDELINES & SITE INFO'!N45) -> salmon | F7: =SUM(Jan!X13,Feb!X13,Mar!X13,Apr!X13,May!X13,June!X13,July!X13,Aug!X13,Sept!X13,Oct!X13,Nov!X13,Dec!X13) -> 1404350 | G7: =IF(E7="Salmon",1)+IF(E7="Cod",1.5)+IF(E7="Halibut",1.4)+IF(E7="Haddock",1.5)+IF(E7="Trout",1) -> 1 | H7: =((F7*0.03*0.08)+(F7*0.08*0.6))*G7 -> 70779.24 | I7: =IF(H7<=50000,"BRT",H7) -> 70779.24 | J7: 1.2 | K7: =((F7*0.03*(J7/100))+(F7*(J7/100)*0.55)) -> 9774.276 | L7: =IF(K7<=5000,"BRT",K7) -> 9774.276 | M7: =(F7*0.03*0.49)+(F7*0.49*0.3) -> 227083.39 | N7: =IF(M7<=50000,"BRT",M7) -> 227083.39 | O7: =F7*0.0001423 -> 199.839 | P7: =IF(O7<=100,"BRT",O7) -> 199.839 | Q7: =F7*0.0000068 -> 9.54958 | R7: =IF(Q7<=20,"BRT",Q7) -> BRT
B8: =IF(Jan!B14="","",Jan!B14) -> Veantrow Bay | C8: =IF(Jan!B14="","",Jan!C14) -> VEA1 | D8: =IF(Jan!B14="","",Jan!D14) -> CAR/L/1003931 | E8: =IF('GENERAL GUIDELINES & SITE INFO'!N46="","",'GENERAL GUIDELINES & SITE INFO'!N46) -> salmon | F8: =SUM(Jan!X14,Feb!X14,Mar!X14,Apr!X14,May!X14,June!X14,July!X14,Aug!X14,Sept!X14,Oct!X14,Nov!X14,Dec!X14) -> 1566736 | G8: =IF(E8="Salmon",1)+IF(E8="Cod",1.5)+IF(E8="Halibut",1.4)+IF(E8="Haddock",1.5)+IF(E8="Trout",1) -> 1 | H8: =((F8*0.03*0.08)+(F8*0.08*0.6))*G8 -> 78963.494 | I8: =IF(H8<=50000,"BRT",H8) -> 78963.494 | J8: 1.2 | K8: =((F8*0.03*(J8/100))+(F8*(J8/100)*0.55)) -> 10904.483 | L8: =IF(K8<=5000,"BRT",K8) -> 10904.483 | M8: =(F8*0.03*0.49)+(F8*0.49*0.3) -> 253341.21 | N8: =IF(M8<=50000,"BRT",M8) -> 253341.21 | O8: =F8*0.0001423 -> 222.94653 | P8: =IF(O8<=100,"BRT",O8) -> 222.94653 | Q8: =F8*0.0000068 -> 10.653805 | R8: =IF(Q8<=20,"BRT",Q8) -> BRT
B9: =IF(Jan!B15="","",Jan!B15) | C9: =IF(Jan!B15="","",Jan!C15) | D9: =IF(Jan!B15="","",Jan!D15) | E9: =IF('GENERAL GUIDELINES & SITE INFO'!N47="","",'GENERAL GUIDELINES & SITE INFO'!N47) | F9: =SUM(Jan!X15,Feb!X15,Mar!X15,Apr!X15,May!X15,June!X15,July!X15,Aug!X15,Sept!X15,Oct!X15,Nov!X15,Dec!X15) -> 0 | G9: =IF(E9="Salmon",1)+IF(E9="Cod",1.5)+IF(E9="Halibut",1.4)+IF(E9="Haddock",1.5)+IF(E9="Trout",1) -> 0 | H9: =((F9*0.03*0.08)+(F9*0.08*0.6))*G9 -> 0 | I9: =IF(H9<=50000,"BRT",H9) -> BRT | J9: 1.2 | K9: =((F9*0.03*(J9/100))+(F9*(J9/100)*0.55)) -> 0 | L9: =IF(K9<=5000,"BRT",K9) -> BRT | M9: =(F9*0.03*0.49)+(F9*0.49*0.3) -> 0 | N9: =IF(M9<=50000,"BRT",M9) -> BRT | O9: =F9*0.0001423 -> 0 | P9: =IF(O9<=100,"BRT",O9) -> BRT | Q9: =F9*0.0000068 -> 0 | R9: =IF(Q9<=20,"BRT",Q9) -> BRT
B10: =IF(Jan!B16="","",Jan!B16) | C10: =IF(Jan!B16="","",Jan!C16) | D10: =IF(Jan!B16="","",Jan!D16) | E10: =IF('GENERAL GUIDELINES & SITE INFO'!N48="","",'GENERAL GUIDELINES & SITE INFO'!N48) | F10: =SUM(Jan!X16,Feb!X16,Mar!X16,Apr!X16,May!X16,June!X16,July!X16,Aug!X16,Sept!X16,Oct!X16,Nov!X16,Dec!X16) -> 0 | G10: =IF(E10="Salmon",1)+IF(E10="Cod",1.5)+IF(E10="Halibut",1.4)+IF(E10="Haddock",1.5)+IF(E10="Trout",1) -> 0 | H10: =((F10*0.03*0.08)+(F10*0.08*0.6))*G10 -> 0 | I10: =IF(H10<=50000,"BRT",H10) -> BRT | J10: 1.2 | K10: =((F10*0.03*(J10/100))+(F10*(J10/100)*0.55)) -> 0 | L10: =IF(K10<=5000,"BRT",K10) -> BRT | M10: =(F10*0.03*0.49)+(F10*0.49*0.3) -> 0 | N10: =IF(M10<=50000,"BRT",M10) -> BRT | O10: =F10*0.0001423 -> 0 | P10: =IF(O10<=100,"BRT",O10) -> BRT | Q10: =F10*0.0000068 -> 0 | R10: =IF(Q10<=20,"BRT",Q10) -> BRT
B11: =IF(Jan!B17="","",Jan!B17) | C11: =IF(Jan!B17="","",Jan!C17) | D11: =IF(Jan!B17="","",Jan!D17) | E11: =IF('GENERAL GUIDELINES & SITE INFO'!N49="","",'GENERAL GUIDELINES & SITE INFO'!N49) | F11: =SUM(Jan!X17,Feb!X17,Mar!X17,Apr!X17,May!X17,June!X17,July!X17,Aug!X17,Sept!X17,Oct!X17,Nov!X17,Dec!X17) -> 0 | G11: =IF(E11="Salmon",1)+IF(E11="Cod",1.5)+IF(E11="Halibut",1.4)+IF(E11="Haddock",1.5)+IF(E11="Trout",1) -> 0 | H11: =((F11*0.03*0.08)+(F11*0.08*0.6))*G11 -> 0 | I11: =IF(H11<=50000,"BRT",H11) -> BRT | J11: 1.2 | K11: =((F11*0.03*(J11/100))+(F11*(J11/100)*0.55)) -> 0 | L11: =IF(K11<=5000,"BRT",K11) -> BRT | M11: =(F11*0.03*0.49)+(F11*0.49*0.3) -> 0 | N11: =IF(M11<=50000,"BRT",M11) -> BRT | O11: =F11*0.0001423 -> 0 | P11: =IF(O11<=100,"BRT",O11) -> BRT | Q11: =F11*0.0000068 -> 0 | R11: =IF(Q11<=20,"BRT",Q11) -> BRT
B12: =IF(Jan!B18="","",Jan!B18) | C12: =IF(Jan!B18="","",Jan!C18) | D12: =IF(Jan!B18="","",Jan!D18) | E12: =IF('GENERAL GUIDELINES & SITE INFO'!N50="","",'GENERAL GUIDELINES & SITE INFO'!N50) | F12: =SUM(Jan!X18,Feb!X18,Mar!X18,Apr!X18,May!X18,June!X18,July!X18,Aug!X18,Sept!X18,Oct!X18,Nov!X18,Dec!X18) -> 0 | G12: =IF(E12="Salmon",1)+IF(E12="Cod",1.5)+IF(E12="Halibut",1.4)+IF(E12="Haddock",1.5)+IF(E12="Trout",1) -> 0 | H12: =((F12*0.03*0.08)+(F12*0.08*0.6))*G12 -> 0 | I12: =IF(H12<=50000,"BRT",H12) -> BRT | J12: 1.2 | K12: =((F12*0.03*(J12/100))+(F12*(J12/100)*0.55)) -> 0 | L12: =IF(K12<=5000,"BRT",K12) -> BRT | M12: =(F12*0.03*0.49)+(F12*0.49*0.3) -> 0 | N12: =IF(M12<=50000,"BRT",M12) -> BRT | O12: =F12*0.0001423 -> 0 | P12: =IF(O12<=100,"BRT",O12) -> BRT | Q12: =F12*0.0000068 -> 0 | R12: =IF(Q12<=20,"BRT",Q12) -> BRT
B13: =IF(Jan!B19="","",Jan!B19) | C13: =IF(Jan!B19="","",Jan!C19) | D13: =IF(Jan!B19="","",Jan!D19) | E13: =IF('GENERAL GUIDELINES & SITE INFO'!N51="","",'GENERAL GUIDELINES & SITE INFO'!N51) | F13: =SUM(Jan!X19,Feb!X19,Mar!X19,Apr!X19,May!X19,June!X19,July!X19,Aug!X19,Sept!X19,Oct!X19,Nov!X19,Dec!X19) -> 0 | G13: =IF(E13="Salmon",1)+IF(E13="Cod",1.5)+IF(E13="Halibut",1.4)+IF(E13="Haddock",1.5)+IF(E13="Trout",1) -> 0 | H13: =((F13*0.03*0.08)+(F13*0.08*0.6))*G13 -> 0 | I13: =IF(H13<=50000,"BRT",H13) -> BRT | J13: 1.2 | K13: =((F13*0.03*(J13/100))+(F13*(J13/100)*0.55)) -> 0 | L13: =IF(K13<=5000,"BRT",K13) -> BRT | M13: =(F13*0.03*0.49)+(F13*0.49*0.3) -> 0 | N13: =IF(M13<=50000,"BRT",M13) -> BRT | O13: =F13*0.0001423 -> 0 | P13: =IF(O13<=100,"BRT",O13) -> BRT | Q13: =F13*0.0000068 -> 0 | R13: =IF(Q13<=20,"BRT",Q13) -> BRT
... B22: =IF(Jan!B28="","",Jan!B28) | C22: =IF(Jan!B28="","",Jan!C28) | D22: =IF(Jan!B28="","",Jan!D28) | E22: =IF('GENERAL GUIDELINES & SITE INFO'!N60="","",'GENERAL GUIDELINES & SITE INFO'!N60) | F22: =SUM(Jan!X28,Feb!X28,Mar!X28,Apr!X28,May!X28,June!X28,July!X28,Aug!X28,Sept!X28,Oct!X28,Nov!X28,Dec!X28) -> 0 | G22: =IF(E22="Salmon",1)+IF(E22="Cod",1.5)+IF(E22="Halibut",1.4)+IF(E22="Haddock",1.5)+IF(E22="Trout",1) -> 0 | H22: =((F22*0.03*0.08)+(F22*0.08*0.6))*G22 -> 0 | I22: =IF(H22<=50000,"BRT",H22) -> BRT | J22: 1.2 | K22: =((F22*0.03*(J22/100))+(F22*(J22/100)*0.55)) -> 0 | L22: =IF(K22<=5000,"BRT",K22) -> BRT | M22: =(F22*0.03*0.49)+(F22*0.49*0.3) -> 0 | N22: =IF(M22<=50000,"BRT",M22) -> BRT | O22: =F22*0.0001423 -> 0 | P22: =IF(O22<=100,"BRT",O22) -> BRT | Q22: =F22*0.0000068 -> 0 | R22: =IF(Q22<=20,"BRT",Q22) -> BRT

Sheet ADDITIONAL SPRI INFO
B2: =CONCATENATE('GENERAL GUIDELINES & SITE INFO'!E27," - NOTIFIABLE EMISSIONS") -> Scottish Seafarms Ltd - NOTIFIABLE EMISSIONS
B4: Notifiable emissions are unplanned and unlicenced emissions of a particular substance or substances to the environment. They may result from an emergency, mis-operation, accident or plant failure. Please enter details of any notifiable emissions below.
B7: Site Name | E7: Site ID | F7: Substance Emitted | I7: Amount (kg) | K7: Comments
B17: =CONCATENATE('GENERAL GUIDELINES & SITE INFO'!E27," - VOLUNTARY INFORMATION") -> Scottish Seafarms Ltd - VOLUNTARY INFORMATION
B19: This is voluntary information which, if provided, will appear with your data on the SPRI website. This will provide background information that will help users put your reported emission in context.
B22: Please note that this information will not be validated by SEPA.
B24: Please include a brief description of the activities or processes carried out at your site or installation (Max 4 lines)
B28: Is your installation regulated by other bodies? Please give details.
B32: Please provide your web address.
B33: (If you provide this it will appear with your data on the SPRI website as a hyperlink to your site.)
B35: What was the production volume from your main activity during the reporting year, including units? (eg. tonnes/year, MWh/yr, units/yr)
B37: How many staff were employed at the installation on the 31st December of the reporting year?
B39: On how many days did the facility operate during the reporting year?
B40: How are the emissions distributed over the reporting year?
B41: (Please see 'Guidance on completing the Scottish Pollutant Release Inventory reporting form' for information on how to complete this question.)
B44: What was your total Carbon (CO2) footprint in tonnes?
... B50: Water in m³

Sheet Jan
B2: =CONCATENATE('GENERAL GUIDELINES & SITE INFO'!E27," - monthly returns of biomass and anti-parasitic usage") -> Scottish Seafarms Ltd - monthly returns of biomass and anti-parasitic usage
B4: =CONCATENATE("Please complete and return by ",'GENERAL GUIDELINES & SITE INFO'!F32) -> Please complete and return by 15 Apr 2011;
AA5: Please Note
B6: Site Name | C6: Site ID | D6: Licence | E6: SEPA Team Area | F6: Max biomass (tonnes) | G6: Licensed Biomass (tonnes) | H6: Exceedence | I6: Enter the amount of chemical used NOT active ingredient. Entire treatment quantity should be entered in month treatment is initiated. | X6: Feed Used (kgs) | Y6: Mortalities | AA6: If Slice entry is highlighted in red please confirm value is correct here
I7: Excis (litres) containing 1% cypermethrin | J7: Cyp (grams) | K7: Total | L7: Salmosan (grams) containing 50% azamethiphos | M7: Aza (grams) | N7: Total | O7: Calicide (grams) containing 100% teflubenzuron | P7: TFBZ (grams) | Q7: Total | R7: Slice (grams) containing 0.2% emamectin benzoate | S7: Ema (grams) | T7: Total | U7: AMX (litres) containing 1% deltamethrin | V7: Delt (grams) | W7: Total | Y7: Number | Z7: Total weight (kgs)
B8: Bring Head | C8: SCAP1 | D8: CAR/L/1015854 | E8: ORK | F8: 399 | G8: 968 | H8: =IF((F8>G8),((F8-G8)/G8),"") | J8: =I8*10 -> 0 | K8: =IF(B8="","",[1]Jan!J8) -> 0 | M8: =L8/2 -> 0 | N8: =IF(B8="","",[1]Jan!M8) -> 0 | P8: =O8 -> 0 | Q8: =IF(B8="","",[1]Jan!P8) -> 0 | S8: =R8/500 -> 0 | T8: =IF(B8="","",[1]Jan!S8) -> 0 | V8: =U8*10 -> 0 | W8: =IF(B8="","",[1]Jan!V8) -> 0 | X8: 64400 | Y8: 760 | Z8: 1170 | AB8: =(R8/F8)/175 -> 0
B9: Eday Sound | C9: EDA1 | D9: CAR/L/1003956 | E9: ORK | F9: 0 | G9: 800 | H9: =IF((F9>G9),((F9-G9)/G9),"") | J9: =I9*10 -> 0 | K9: =IF(B9="","",[1]Jan!J9) -> 0 | M9: =L9/2 -> 0 | N9: =IF(B9="","",[1]Jan!M9) -> 0 | P9: =O9 -> 0 | Q9: =IF(B9="","",[1]Jan!P9) -> 0 | S9: =R9/500 -> 0 | T9: =IF(B9="","",[1]Jan!S9) -> 0 | V9: =U9*10 -> 0 | W9: =IF(B9="","",[1]Jan!V9) -> 0 | AB9: =(R9/F9)/175 -> #DIV/0!
B10: Kirk Taing | C10: MILL1 | D10: CAR/L/1003952 | E10: ORK | F10: 0 | G10: 800 | H10: =IF((F10>G10),((F10-G10)/G10),"") | J10: =I10*10 -> 0 | K10: =IF(B10="","",[1]Jan!J10) -> 0 | M10: =L10/2 -> 0 | N10: =IF(B10="","",[1]Jan!M10) -> 0 | P10: =O10 -> 0 | Q10: =IF(B10="","",[1]Jan!P10) -> 0 | S10: =R10/500 -> 0 | T10: =IF(B10="","",[1]Jan!S10) -> 0 | V10: =U10*10 -> 0 | W10: =IF(B10="","",[1]Jan!V10) -> 0 | AB10: =(R10/F10)/175 -> #DIV/0!
B11: Mill Bay, Stronsay | C11: MIL1 | D11: CAR/L/1034607 | E11: ORK | F11: 0 | G11: 750 | H11: =IF((F11>G11),((F11-G11)/G11),"") | J11: =I11*10 -> 0 | K11: =IF(B11="","",[1]Jan!J11) -> 0 | M11: =L11/2 -> 0 | N11: =IF(B11="","",[1]Jan!M11) -> 0 | P11: =O11 -> 0 | Q11: =IF(B11="","",[1]Jan!P11) -> 0 | S11: =R11/500 -> 0 | T11: =IF(B11="","",[1]Jan!S11) -> 0 | V11: =U11*10 -> 0 | W11: =IF(B11="","",[1]Jan!V11) -> 0 | AB11: =(R11/F11)/175 -> #DIV/0!
B12: Puldrite Bay | C12: PUL1 | D12: CAR/L/1003954 | E12: ORK | F12: 375 | G12: 980 | H12: =IF((F12>G12),((F12-G12)/G12),"") | J12: =I12*10 -> 0 | K12: =IF(B12="","",[1]Jan!J12) -> 0 | M12: =L12/2 -> 0 | N12: =IF(B12="","",[1]Jan!M12) -> 0 | P12: =O12 -> 0 | Q12: =IF(B12="","",[1]Jan!P12) -> 0 | S12: =R12/500 -> 0 | T12: =IF(B12="","",[1]Jan!S12) -> 0 | V12: =U12*10 -> 0 | W12: =IF(B12="","",[1]Jan!V12) -> 0 | X12: 24225 | Y12: 4071 | Z12: 21316 | AB12: =(R12/F12)/175 -> 0
B13: Toy Ness | C13: TOYN1 | D13: CAR/L/1015855 | E13: ORK | F13: 304 | G13: 650 | H13: =IF((F13>G13),((F13-G13)/G13),"") | J13: =I13*10 -> 0 | K13: =IF(B13="","",[1]Jan!J13) -> 0 | M13: =L13/2 -> 0 | N13: =IF(B13="","",[1]Jan!M13) -> 0 | P13: =O13 -> 0 | Q13: =IF(B13="","",[1]Jan!P13) -> 0 | S13: =R13/500 -> 0 | T13: =IF(B13="","",[1]Jan!S13) -> 0 | V13: =U13*10 -> 0 | W13: =IF(B13="","",[1]Jan!V13) -> 0 | X13: 44400 | Y13: 202 | Z13: 296 | AB13: =(R13/F13)/175 -> 0
B14: Veantrow Bay | C14: VEA1 | D14: CAR/L/1003931 | E14: ORK | F14: 129 | G14: 1264 | H14: =IF((F14>G14),((F14-G14)/G14),"") | J14: =I14*10 -> 0 | K14: =IF(B14="","",[1]Jan!J14) -> 0 | M14: =L14/2 -> 0 | N14: =IF(B14="","",[1]Jan!M14) -> 0 | P14: =O14 -> 0 | Q14: =IF(B14="","",[1]Jan!P14) -> 0 | S14: =R14/500 -> 0 | T14: =IF(B14="","",[1]Jan!S14) -> 0 | V14: =U14*10 -> 0 | W14: =IF(B14="","",[1]Jan!V14) -> 0 | X14: 41600 | Y14: 4561 | Z14: 1322 | AB14: =(R14/F14)/175 -> 0
H15: =IF((F15>G15),((F15-G15)/G15),"") | J15: =I15*10 -> 0 | K15: =IF(B15="","",Jan!J15) | M15: =L15/2 -> 0 | N15: =IF(B15="","",Jan!M15) | P15: =O15 -> 0 | Q15: =IF(B15="","",Jan!P15) | S15: =R15/500 -> 0 | T15: =IF(B15="","",Jan!S15) | V15: =U15*10 -> 0 | W15: =IF(B15="","",Jan!V15) | AB15: =(R15/F15)/175 -> #DIV/0!
H16: =IF((F16>G16),((F16-G16)/G16),"") | J16: =I16*10 -> 0 | K16: =IF(B16="","",Jan!J16) | M16: =L16/2 -> 0 | N16: =IF(B16="","",Jan!M16) | P16: =O16 -> 0 | Q16: =IF(B16="","",Jan!P16) | S16: =R16/500 -> 0 | T16: =IF(B16="","",Jan!S16) | V16: =U16*10 -> 0 | W16: =IF(B16="","",Jan!V16) | AB16: =(R16/F16)/175 -> #DIV/0!
H17: =IF((F17>G17),((F17-G17)/G17),"") | J17: =I17*10 -> 0 | K17: =IF(B17="","",Jan!J17) | M17: =L17/2 -> 0 | N17: =IF(B17="","",Jan!M17) | P17: =O17 -> 0 | Q17: =IF(B17="","",Jan!P17) | S17: =R17/500 -> 0 | T17: =IF(B17="","",Jan!S17) | V17: =U17*10 -> 0 | W17: =IF(B17="","",Jan!V17) | AB17: =(R17/F17)/175 -> #DIV/0!
H18: =IF((F18>G18),((F18-G18)/G18),"") | J18: =I18*10 -> 0 | K18: =IF(B18="","",Jan!J18) | M18: =L18/2 -> 0 | N18: =IF(B18="","",Jan!M18) | P18: =O18 -> 0 | Q18: =IF(B18="","",Jan!P18) | S18: =R18/500 -> 0 | T18: =IF(B18="","",Jan!S18) | V18: =U18*10 -> 0 | W18: =IF(B18="","",Jan!V18) | AB18: =(R18/F18)/175 -> #DIV/0!
H19: =IF((F19>G19),((F19-G19)/G19),"") | J19: =I19*10 -> 0 | K19: =IF(B19="","",Jan!J19) | M19: =L19/2 -> 0 | N19: =IF(B19="","",Jan!M19) | P19: =O19 -> 0 | Q19: =IF(B19="","",Jan!P19) | S19: =R19/500 -> 0 | T19: =IF(B19="","",Jan!S19) | V19: =U19*10 -> 0 | W19: =IF(B19="","",Jan!V19) | AB19: =(R19/F19)/175 -> #DIV/0!
H20: =IF((F20>G20),((F20-G20)/G20),"") | J20: =I20*10 -> 0 | K20: =IF(B20="","",Jan!J20) | M20: =L20/2 -> 0 | N20: =IF(B20="","",Jan!M20) | P20: =O20 -> 0 | Q20: =IF(B20="","",Jan!P20) | S20: =R20/500 -> 0 | T20: =IF(B20="","",Jan!S20) | V20: =U20*10 -> 0 | W20: =IF(B20="","",Jan!V20) | AB20: =(R20/F20)/175 -> #DIV/0!
H21: =IF((F21>G21),((F21-G21)/G21),"") | J21: =I21*10 -> 0 | K21: =IF(B21="","",Jan!J21) | M21: =L21/2 -> 0 | N21: =IF(B21="","",Jan!M21) | P21: =O21 -> 0 | Q21: =IF(B21="","",Jan!P21) | S21: =R21/500 -> 0 | T21: =IF(B21="","",Jan!S21) | V21: =U21*10 -> 0 | W21: =IF(B21="","",Jan!V21) | AB21: =(R21/F21)/175 -> #DIV/0!
H22: =IF((F22>G22),((F22-G22)/G22),"") | J22: =I22*10 -> 0 | K22: =IF(B22="","",Jan!J22) | M22: =L22/2 -> 0 | N22: =IF(B22="","",Jan!M22) | P22: =O22 -> 0 | Q22: =IF(B22="","",Jan!P22) | S22: =R22/500 -> 0 | T22: =IF(B22="","",Jan!S22) | V22: =U22*10 -> 0 | W22: =IF(B22="","",Jan!V22) | AB22: =(R22/F22)/175 -> #DIV/0!
H23: =IF((F23>G23),((F23-G23)/G23),"") | J23: =I23*10 -> 0 | K23: =IF(B23="","",Jan!J23) | M23: =L23/2 -> 0 | N23: =IF(B23="","",Jan!M23) | P23: =O23 -> 0 | Q23: =IF(B23="","",Jan!P23) | S23: =R23/500 -> 0 | T23: =IF(B23="","",Jan!S23) | V23: =U23*10 -> 0 | W23: =IF(B23="","",Jan!V23) | AB23: =(R23/F23)/175 -> #DIV/0!
H24: =IF((F24>G24),((F24-G24)/G24),"") | J24: =I24*10 -> 0 | K24: =IF(B24="","",Jan!J24) | M24: =L24/2 -> 0 | N24: =IF(B24="","",Jan!M24) | P24: =O24 -> 0 | Q24: =IF(B24="","",Jan!P24) | S24: =R24/500 -> 0 | T24: =IF(B24="","",Jan!S24) | V24: =U24*10 -> 0 | W24: =IF(B24="","",Jan!V24) | AB24: =(R24/F24)/175 -> #DIV/0!
H25: =IF((F25>G25),((F25-G25)/G25),"") | J25: =I25*10 -> 0 | K25: =IF(B25="","",Jan!J25) | M25: =L25/2 -> 0 | N25: =IF(B25="","",Jan!M25) | P25: =O25 -> 0 | Q25: =IF(B25="","",Jan!P25) | S25: =R25/500 -> 0 | T25: =IF(B25="","",Jan!S25) | V25: =U25*10 -> 0 | W25: =IF(B25="","",Jan!V25) | AB25: =(R25/F25)/175 -> #DIV/0!
H26: =IF((F26>G26),((F26-G26)/G26),"") | J26: =I26*10 -> 0 | K26: =IF(B26="","",Jan!J26) | M26: =L26/2 -> 0 | N26: =IF(B26="","",Jan!M26) | P26: =O26 -> 0 | Q26: =IF(B26="","",Jan!P26) | S26: =R26/500 -> 0 | T26: =IF(B26="","",Jan!S26) | V26: =U26*10 -> 0 | W26: =IF(B26="","",Jan!V26) | AB26: =(R26/F26)/175 -> #DIV/0!
... H90: =IF((F90>G90),((F90-G90)/G90),"") | J90: =I90*10 -> 0 | K90: =IF(B90="","",Jan!J90) | M90: =L90/2 -> 0 | N90: =IF(B90="","",Jan!M90) | P90: =O90 -> 0 | Q90: =IF(B90="","",Jan!P90) | S90: =R90/500 -> 0 | T90: =IF(B90="","",Jan!S90) | V90: =U90*10 -> 0 | W90: =IF(B90="","",Jan!V90) | AB90: =(R90/F90)/175 -> #DIV/0!

Sheet Feb
B2: =CONCATENATE('GENERAL GUIDELINES & SITE INFO'!E27," - monthly returns of biomass and anti-parasitic usage") -> Scottish Seafarms Ltd - monthly returns of biomass and anti-parasitic usage
B4: =CONCATENATE("Please complete and return by ",'GENERAL GUIDELINES & SITE INFO'!F32) -> Please complete and return by 15 Apr 2011;
AA5: Please Note
B6: Site Name | C6: Site ID | D6: Licence | E6: SEPA Team Area | F6: Max biomass (tonnes) | G6: Licensed Biomass (tonnes) | H6: Exceedence | I6: Enter the amount of chemical used NOT active ingredient. Entire treatment quantity should be entered in month treatment is initiated. | X6: Feed Used (kgs) | Y6: Mortalities | AA6: If Slice entry is highlighted in red please confirm value is correct here
I7: Excis (litres) containing 1% cypermethrin | J7: Cyp (grams) | K7: Total | L7: Salmosan (grams) containing 50% azamethiphos | M7: Aza (grams) | N7: Total | O7: Calicide (grams) containing 100% teflubenzuron | P7: TFBZ (grams) | Q7: Total | R7: Slice (grams) containing 0.2% emamectin benzoate | S7: Ema (grams) | T7: Total | U7: AMX (litres) containing 1% deltamethrin | V7: Delt (grams) | W7: Total | Y7: Number | Z7: Total weight (kgs)
B8: =IF(Jan!B8="","",Jan!B8) -> Bring Head | C8: =IF(Jan!B8="","",Jan!C8) -> SCAP1 | D8: =IF(B8="","",Jan!D8) -> CAR/L/1015854 | E8: =IF(Jan!B8="","",Jan!E8) -> ORK | F8: 431 | G8: =IF(B8="","",[1]Jan!G8) -> 968 | H8: =IF((F8>G8),((F8-G8)/G8),"") | J8: =I8*10 -> 0 | K8: =IF(B8="","",IF([1]Jan!K8="",[1]Feb!J8,[1]Jan!K8+[1]Feb!J8)) -> 0 | M8: =L8/2 -> 0 | N8: =IF(B8="","",IF([1]Jan!N8="",[1]Feb!M8,[1]Jan!N8+[1]Feb!M8)) -> 0 | P8: =O8 -> 0 | Q8: =IF(B8="","",IF([1]Jan!Q8="",[1]Feb!P8,[1]Jan!Q8+[1]Feb!P8)) -> 0 | S8: =R8/500 -> 0 | T8: =IF(B8="","",IF([1]Jan!T8="",[1]Feb!S8,[1]Jan!T8+[1]Feb!S8)) -> 0 | V8: =U8*10 -> 0 | W8: =IF(B8="","",IF([1]Jan!W8="",[1]Feb!V8,[1]Jan!W8+[1]Feb!V8)) -> 0 | X8: 39050 | Y8: 1043 | Z8: 1773 | AB8: =(R8/F8)/175 -> 0
B9: =IF(Jan!B9="","",Jan!B9) -> Eday Sound | C9: =IF(Jan!B9="","",Jan!C9) -> EDA1 | D9: =IF(B9="","",Jan!D9) -> CAR/L/1003956 | E9: =IF(Jan!B9="","",Jan!E9) -> ORK | G9: =IF(B9="","",[1]Jan!G9) -> 800 | H9: =IF((F9>G9),((F9-G9)/G9),"") | J9: =I9*10 -> 0 | K9: =IF(B9="","",IF([1]Jan!K9="",[1]Feb!J9,[1]Jan!K9+[1]Feb!J9)) -> 0 | M9: =L9/2 -> 0 | N9: =IF(B9="","",IF([1]Jan!N9="",[1]Feb!M9,[1]Jan!N9+[1]Feb!M9)) -> 0 | P9: =O9 -> 0 | Q9: =IF(B9="","",IF([1]Jan!Q9="",[1]Feb!P9,[1]Jan!Q9+[1]Feb!P9)) -> 0 | S9: =R9/500 -> 0 | T9: =IF(B9="","",IF([1]Jan!T9="",[1]Feb!S9,[1]Jan!T9+[1]Feb!S9)) -> 0 | V9: =U9*10 -> 0 | W9: =IF(B9="","",IF([1]Jan!W9="",[1]Feb!V9,[1]Jan!W9+[1]Feb!V9)) -> 0 | AB9: =(R9/F9)/175 -> #DIV/0!
B10: =IF(Jan!B10="","",Jan!B10) -> Kirk Taing | C10: =IF(Jan!B10="","",Jan!C10) -> MILL1 | D10: =IF(B10="","",Jan!D10) -> CAR/L/1003952 | E10: =IF(Jan!B10="","",Jan!E10) -> ORK | G10: =IF(B10="","",[1]Jan!G10) -> 800 | H10: =IF((F10>G10),((F10-G10)/G10),"") | J10: =I10*10 -> 0 | K10: =IF(B10="","",IF([1]Jan!K10="",[1]Feb!J10,[1]Jan!K10+[1]Feb!J10)) -> 0 | M10: =L10/2 -> 0 | N10: =IF(B10="","",IF([1]Jan!N10="",[1]Feb!M10,[1]Jan!N10+[1]Feb!M10)) -> 0 | P10: =O10 -> 0 | Q10: =IF(B10="","",IF([1]Jan!Q10="",[1]Feb!P10,[1]Jan!Q10+[1]Feb!P10)) -> 0 | S10: =R10/500 -> 0 | T10: =IF(B10="","",IF([1]Jan!T10="",[1]Feb!S10,[1]Jan!T10+[1]Feb!S10)) -> 0 | V10: =U10*10 -> 0 | W10: =IF(B10="","",IF([1]Jan!W10="",[1]Feb!V10,[1]Jan!W10+[1]Feb!V10)) -> 0 | AB10: =(R10/F10)/175 -> #DIV/0!
B11: =IF(Jan!B11="","",Jan!B11) -> Mill Bay, Stronsay | C11: =IF(Jan!B11="","",Jan!C11) -> MIL1 | D11: =IF(B11="","",Jan!D11) -> CAR/L/1034607 | E11: =IF(Jan!B11="","",Jan!E11) -> ORK | G11: =IF(B11="","",[1]Jan!G11) -> 750 | H11: =IF((F11>G11),((F11-G11)/G11),"") | J11: =I11*10 -> 0 | K11: =IF(B11="","",IF([1]Jan!K11="",[1]Feb!J11,[1]Jan!K11+[1]Feb!J11)) -> 0 | M11: =L11/2 -> 0 | N11: =IF(B11="","",IF([1]Jan!N11="",[1]Feb!M11,[1]Jan!N11+[1]Feb!M11)) -> 0 | P11: =O11 -> 0 | Q11: =IF(B11="","",IF([1]Jan!Q11="",[1]Feb!P11,[1]Jan!Q11+[1]Feb!P11)) -> 0 | S11: =R11/500 -> 0 | T11: =IF(B11="","",IF([1]Jan!T11="",[1]Feb!S11,[1]Jan!T11+[1]Feb!S11)) -> 0 | V11: =U11*10 -> 0 | W11: =IF(B11="","",IF([1]Jan!W11="",[1]Feb!V11,[1]Jan!W11+[1]Feb!V11)) -> 0 | AB11: =(R11/F11)/175 -> #DIV/0!
B12: =IF(Jan!B12="","",Jan!B12) -> Puldrite Bay | C12: =IF(Jan!B12="","",Jan!C12) -> PUL1 | D12: =IF(B12="","",Jan!D12) -> CAR/L/1003954 | E12: =IF(Jan!B12="","",Jan!E12) -> ORK | F12: 185 | G12: =IF(B12="","",[1]Jan!G12) -> 980 | H12: =IF((F12>G12),((F12-G12)/G12),"") | J12: =I12*10 -> 0 | K12: =IF(B12="","",IF([1]Jan!K12="",[1]Feb!J12,[1]Jan!K12+[1]Feb!J12)) -> 0 | M12: =L12/2 -> 0 | N12: =IF(B12="","",IF([1]Jan!N12="",[1]Feb!M12,[1]Jan!N12+[1]Feb!M12)) -> 0 | P12: =O12 -> 0 | Q12: =IF(B12="","",IF([1]Jan!Q12="",[1]Feb!P12,[1]Jan!Q12+[1]Feb!P12)) -> 0 | S12: =R12/500 -> 0 | T12: =IF(B12="","",IF([1]Jan!T12="",[1]Feb!S12,[1]Jan!T12+[1]Feb!S12)) -> 0 | V12: =U12*10 -> 0 | W12: =IF(B12="","",IF([1]Jan!W12="",[1]Feb!V12,[1]Jan!W12+[1]Feb!V12)) -> 0 | X12: 3775 | Y12: 485 | Z12: 2687 | AB12: =(R12/F12)/175 -> 0
B13: =IF(Jan!B13="","",Jan!B13) -> Toy Ness | C13: =IF(Jan!B13="","",Jan!C13) -> TOYN1 | D13: =IF(B13="","",Jan!D13) -> CAR/L/1015855 | E13: =IF(Jan!B13="","",Jan!E13) -> ORK | F13: 330 | G13: =IF(B13="","",[1]Jan!G13) -> 650 | H13: =IF((F13>G13),((F13-G13)/G13),"") | J13: =I13*10 -> 0 | K13: =IF(B13="","",IF([1]Jan!K13="",[1]Feb!J13,[1]Jan!K13+[1]Feb!J13)) -> 0 | M13: =L13/2 -> 0 | N13: =IF(B13="","",IF([1]Jan!N13="",[1]Feb!M13,[1]Jan!N13+[1]Feb!M13)) -> 0 | P13: =O13 -> 0 | Q13: =IF(B13="","",IF([1]Jan!Q13="",[1]Feb!P13,[1]Jan!Q13+[1]Feb!P13)) -> 0 | S13: =R13/500 -> 0 | T13: =IF(B13="","",IF([1]Jan!T13="",[1]Feb!S13,[1]Jan!T13+[1]Feb!S13)) -> 0 | V13: =U13*10 -> 0 | W13: =IF(B13="","",IF([1]Jan!W13="",[1]Feb!V13,[1]Jan!W13+[1]Feb!V13)) -> 0 | X13: 30400 | Y13: 287 | Z13: 446 | AB13: =(R13/F13)/175 -> 0
B14: =IF(Jan!B14="","",Jan!B14) -> Veantrow Bay | C14: =IF(Jan!B14="","",Jan!C14) -> VEA1 | D14: =IF(B14="","",Jan!D14) -> CAR/L/1003931 | E14: =IF(Jan!B14="","",Jan!E14) -> ORK | F14: 156 | G14: =IF(B14="","",[1]Jan!G14) -> 1264 | H14: =IF((F14>G14),((F14-G14)/G14),"") | J14: =I14*10 -> 0 | K14: =IF(B14="","",IF([1]Jan!K14="",[1]Feb!J14,[1]Jan!K14+[1]Feb!J14)) -> 0 | M14: =L14/2 -> 0 | N14: =IF(B14="","",IF([1]Jan!N14="",[1]Feb!M14,[1]Jan!N14+[1]Feb!M14)) -> 0 | P14: =O14 -> 0 | Q14: =IF(B14="","",IF([1]Jan!Q14="",[1]Feb!P14,[1]Jan!Q14+[1]Feb!P14)) -> 0 | S14: =R14/500 -> 0 | T14: =IF(B14="","",IF([1]Jan!T14="",[1]Feb!S14,[1]Jan!T14+[1]Feb!S14)) -> 0 | V14: =U14*10 -> 0 | W14: =IF(B14="","",IF([1]Jan!W14="",[1]Feb!V14,[1]Jan!W14+[1]Feb!V14)) -> 0 | X14: 30825 | Y14: 2444 | Z14: 640 | AB14: =(R14/F14)/175 -> 0
B15: =IF(Jan!B15="","",Jan!B15) | C15: =IF(Jan!B15="","",Jan!C15) | D15: =IF(B15="","",Jan!D15) | E15: =IF(Jan!B15="","",Jan!E15) | G15: =IF(B15="","",Jan!G15) | H15: =IF((F15>G15),((F15-G15)/G15),"") | J15: =I15*10 -> 0 | K15: =IF(B15="","",IF(Jan!K15="",Feb!J15,Jan!K15+Feb!J15)) | M15: =L15/2 -> 0 | N15: =IF(B15="","",IF(Jan!N15="",Feb!M15,Jan!N15+Feb!M15)) | P15: =O15 -> 0 | Q15: =IF(B15="","",IF(Jan!Q15="",Feb!P15,Jan!Q15+Feb!P15)) | S15: =R15/500 -> 0 | T15: =IF(B15="","",IF(Jan!T15="",Feb!S15,Jan!T15+Feb!S15)) | V15: =U15*10 -> 0 | W15: =IF(B15="","",IF(Jan!W15="",Feb!V15,Jan!W15+Feb!V15)) | AB15: =(R15/F15)/175 -> #DIV/0!
B16: =IF(Jan!B16="","",Jan!B16) | C16: =IF(Jan!B16="","",Jan!C16) | D16: =IF(B16="","",Jan!D16) | E16: =IF(Jan!B16="","",Jan!E16) | G16: =IF(B16="","",Jan!G16) | H16: =IF((F16>G16),((F16-G16)/G16),"") | J16: =I16*10 -> 0 | K16: =IF(B16="","",IF(Jan!K16="",Feb!J16,Jan!K16+Feb!J16)) | M16: =L16/2 -> 0 | N16: =IF(B16="","",IF(Jan!N16="",Feb!M16,Jan!N16+Feb!M16)) | P16: =O16 -> 0 | Q16: =IF(B16="","",IF(Jan!Q16="",Feb!P16,Jan!Q16+Feb!P16)) | S16: =R16/500 -> 0 | T16: =IF(B16="","",IF(Jan!T16="",Feb!S16,Jan!T16+Feb!S16)) | V16: =U16*10 -> 0 | W16: =IF(B16="","",IF(Jan!W16="",Feb!V16,Jan!W16+Feb!V16)) | AB16: =(R16/F16)/175 -> #DIV/0!
B17: =IF(Jan!B17="","",Jan!B17) | C17: =IF(Jan!B17="","",Jan!C17) | D17: =IF(B17="","",Jan!D17) | E17: =IF(Jan!B17="","",Jan!E17) | G17: =IF(B17="","",Jan!G17) | H17: =IF((F17>G17),((F17-G17)/G17),"") | J17: =I17*10 -> 0 | K17: =IF(B17="","",IF(Jan!K17="",Feb!J17,Jan!K17+Feb!J17)) | M17: =L17/2 -> 0 | N17: =IF(B17="","",IF(Jan!N17="",Feb!M17,Jan!N17+Feb!M17)) | P17: =O17 -> 0 | Q17: =IF(B17="","",IF(Jan!Q17="",Feb!P17,Jan!Q17+Feb!P17)) | S17: =R17/500 -> 0 | T17: =IF(B17="","",IF(Jan!T17="",Feb!S17,Jan!T17+Feb!S17)) | V17: =U17*10 -> 0 | W17: =IF(B17="","",IF(Jan!W17="",Feb!V17,Jan!W17+Feb!V17)) | AB17: =(R17/F17)/175 -> #DIV/0!
B18: =IF(Jan!B18="","",Jan!B18) | C18: =IF(Jan!B18="","",Jan!C18) | D18: =IF(B18="","",Jan!D18) | E18: =IF(Jan!B18="","",Jan!E18) | G18: =IF(B18="","",Jan!G18) | H18: =IF((F18>G18),((F18-G18)/G18),"") | J18: =I18*10 -> 0 | K18: =IF(B18="","",IF(Jan!K18="",Feb!J18,Jan!K18+Feb!J18)) | M18: =L18/2 -> 0 | N18: =IF(B18="","",IF(Jan!N18="",Feb!M18,Jan!N18+Feb!M18)) | P18: =O18 -> 0 | Q18: =IF(B18="","",IF(Jan!Q18="",Feb!P18,Jan!Q18+Feb!P18)) | S18: =R18/500 -> 0 | T18: =IF(B18="","",IF(Jan!T18="",Feb!S18,Jan!T18+Feb!S18)) | V18: =U18*10 -> 0 | W18: =IF(B18="","",IF(Jan!W18="",Feb!V18,Jan!W18+Feb!V18)) | AB18: =(R18/F18)/175 -> #DIV/0!
B19: =IF(Jan!B19="","",Jan!B19) | C19: =IF(Jan!B19="","",Jan!C19) | D19: =IF(B19="","",Jan!D19) | E19: =IF(Jan!B19="","",Jan!E19) | G19: =IF(B19="","",Jan!G19) | H19: =IF((F19>G19),((F19-G19)/G19),"") | J19: =I19*10 -> 0 | K19: =IF(B19="","",IF(Jan!K19="",Feb!J19,Jan!K19+Feb!J19)) | M19: =L19/2 -> 0 | N19: =IF(B19="","",IF(Jan!N19="",Feb!M19,Jan!N19+Feb!M19)) | P19: =O19 -> 0 | Q19: =IF(B19="","",IF(Jan!Q19="",Feb!P19,Jan!Q19+Feb!P19)) | S19: =R19/500 -> 0 | T19: =IF(B19="","",IF(Jan!T19="",Feb!S19,Jan!T19+Feb!S19)) | V19: =U19*10 -> 0 | W19: =IF(B19="","",IF(Jan!W19="",Feb!V19,Jan!W19+Feb!V19)) | AB19: =(R19/F19)/175 -> #DIV/0!
B20: =IF(Jan!B20="","",Jan!B20) | C20: =IF(Jan!B20="","",Jan!C20) | D20: =IF(B20="","",Jan!D20) | E20: =IF(Jan!B20="","",Jan!E20) | G20: =IF(B20="","",Jan!G20) | H20: =IF((F20>G20),((F20-G20)/G20),"") | J20: =I20*10 -> 0 | K20: =IF(B20="","",IF(Jan!K20="",Feb!J20,Jan!K20+Feb!J20)) | M20: =L20/2 -> 0 | N20: =IF(B20="","",IF(Jan!N20="",Feb!M20,Jan!N20+Feb!M20)) | P20: =O20 -> 0 | Q20: =IF(B20="","",IF(Jan!Q20="",Feb!P20,Jan!Q20+Feb!P20)) | S20: =R20/500 -> 0 | T20: =IF(B20="","",IF(Jan!T20="",Feb!S20,Jan!T20+Feb!S20)) | V20: =U20*10 -> 0 | W20: =IF(B20="","",IF(Jan!W20="",Feb!V20,Jan!W20+Feb!V20)) | AB20: =(R20/F20)/175 -> #DIV/0!
B21: =IF(Jan!B21="","",Jan!B21) | C21: =IF(Jan!B21="","",Jan!C21) | D21: =IF(B21="","",Jan!D21) | E21: =IF(Jan!B21="","",Jan!E21) | G21: =IF(B21="","",Jan!G21) | H21: =IF((F21>G21),((F21-G21)/G21),"") | J21: =I21*10 -> 0 | K21: =IF(B21="","",IF(Jan!K21="",Feb!J21,Jan!K21+Feb!J21)) | M21: =L21/2 -> 0 | N21: =IF(B21="","",IF(Jan!N21="",Feb!M21,Jan!N21+Feb!M21)) | P21: =O21 -> 0 | Q21: =IF(B21="","",IF(Jan!Q21="",Feb!P21,Jan!Q21+Feb!P21)) | S21: =R21/500 -> 0 | T21: =IF(B21="","",IF(Jan!T21="",Feb!S21,Jan!T21+Feb!S21)) | V21: =U21*10 -> 0 | W21: =IF(B21="","",IF(Jan!W21="",Feb!V21,Jan!W21+Feb!V21)) | AB21: =(R21/F21)/175 -> #DIV/0!
B22: =IF(Jan!B22="","",Jan!B22) | C22: =IF(Jan!B22="","",Jan!C22) | D22: =IF(B22="","",Jan!D22) | E22: =IF(Jan!B22="","",Jan!E22) | G22: =IF(B22="","",Jan!G22) | H22: =IF((F22>G22),((F22-G22)/G22),"") | J22: =I22*10 -> 0 | K22: =IF(B22="","",IF(Jan!K22="",Feb!J22,Jan!K22+Feb!J22)) | M22: =L22/2 -> 0 | N22: =IF(B22="","",IF(Jan!N22="",Feb!M22,Jan!N22+Feb!M22)) | P22: =O22 -> 0 | Q22: =IF(B22="","",IF(Jan!Q22="",Feb!P22,Jan!Q22+Feb!P22)) | S22: =R22/500 -> 0 | T22: =IF(B22="","",IF(Jan!T22="",Feb!S22,Jan!T22+Feb!S22)) | V22: =U22*10 -> 0 | W22: =IF(B22="","",IF(Jan!W22="",Feb!V22,Jan!W22+Feb!V22)) | AB22: =(R22/F22)/175 -> #DIV/0!
B23: =IF(Jan!B23="","",Jan!B23) | C23: =IF(Jan!B23="","",Jan!C23) | D23: =IF(B23="","",Jan!D23) | E23: =IF(Jan!B23="","",Jan!E23) | G23: =IF(B23="","",Jan!G23) | H23: =IF((F23>G23),((F23-G23)/G23),"") | J23: =I23*10 -> 0 | K23: =IF(B23="","",IF(Jan!K23="",Feb!J23,Jan!K23+Feb!J23)) | M23: =L23/2 -> 0 | N23: =IF(B23="","",IF(Jan!N23="",Feb!M23,Jan!N23+Feb!M23)) | P23: =O23 -> 0 | Q23: =IF(B23="","",IF(Jan!Q23="",Feb!P23,Jan!Q23+Feb!P23)) | S23: =R23/500 -> 0 | T23: =IF(B23="","",IF(Jan!T23="",Feb!S23,Jan!T23+Feb!S23)) | V23: =U23*10 -> 0 | W23: =IF(B23="","",IF(Jan!W23="",Feb!V23,Jan!W23+Feb!V23)) | AB23: =(R23/F23)/175 -> #DIV/0!
B24: =IF(Jan!B24="","",Jan!B24) | C24: =IF(Jan!B24="","",Jan!C24) | D24: =IF(B24="","",Jan!D24) | E24: =IF(Jan!B24="","",Jan!E24) | G24: =IF(B24="","",Jan!G24) | H24: =IF((F24>G24),((F24-G24)/G24),"") | J24: =I24*10 -> 0 | K24: =IF(B24="","",IF(Jan!K24="",Feb!J24,Jan!K24+Feb!J24)) | M24: =L24/2 -> 0 | N24: =IF(B24="","",IF(Jan!N24="",Feb!M24,Jan!N24+Feb!M24)) | P24: =O24 -> 0 | Q24: =IF(B24="","",IF(Jan!Q24="",Feb!P24,Jan!Q24+Feb!P24)) | S24: =R24/500 -> 0 | T24: =IF(B24="","",IF(Jan!T24="",Feb!S24,Jan!T24+Feb!S24)) | V24: =U24*10 -> 0 | W24: =IF(B24="","",IF(Jan!W24="",Feb!V24,Jan!W24+Feb!V24)) | AB24: =(R24/F24)/175 -> #DIV/0!
B25: =IF(Jan!B25="","",Jan!B25) | C25: =IF(Jan!B25="","",Jan!C25) | D25: =IF(B25="","",Jan!D25) | E25: =IF(Jan!B25="","",Jan!E25) | G25: =IF(B25="","",Jan!G25) | H25: =IF((F25>G25),((F25-G25)/G25),"") | J25: =I25*10 -> 0 | K25: =IF(B25="","",IF(Jan!K25="",Feb!J25,Jan!K25+Feb!J25)) | M25: =L25/2 -> 0 | N25: =IF(B25="","",IF(Jan!N25="",Feb!M25,Jan!N25+Feb!M25)) | P25: =O25 -> 0 | Q25: =IF(B25="","",IF(Jan!Q25="",Feb!P25,Jan!Q25+Feb!P25)) | S25: =R25/500 -> 0 | T25: =IF(B25="","",IF(Jan!T25="",Feb!S25,Jan!T25+Feb!S25)) | V25: =U25*10 -> 0 | W25: =IF(B25="","",IF(Jan!W25="",Feb!V25,Jan!W25+Feb!V25)) | AB25: =(R25/F25)/175 -> #DIV/0!
B26: =IF(Jan!B26="","",Jan!B26) | C26: =IF(Jan!B26="","",Jan!C26) | D26: =IF(B26="","",Jan!D26) | E26: =IF(Jan!B26="","",Jan!E26) | G26: =IF(B26="","",Jan!G26) | H26: =IF((F26>G26),((F26-G26)/G26),"") | J26: =I26*10 -> 0 | K26: =IF(B26="","",IF(Jan!K26="",Feb!J26,Jan!K26+Feb!J26)) | M26: =L26/2 -> 0 | N26: =IF(B26="","",IF(Jan!N26="",Feb!M26,Jan!N26+Feb!M26)) | P26: =O26 -> 0 | Q26: =IF(B26="","",IF(Jan!Q26="",Feb!P26,Jan!Q26+Feb!P26)) | S26: =R26/500 -> 0 | T26: =IF(B26="","",IF(Jan!T26="",Feb!S26,Jan!T26+Feb!S26)) | V26: =U26*10 -> 0 | W26: =IF(B26="","",IF(Jan!W26="",Feb!V26,Jan!W26+Feb!V26)) | AB26: =(R26/F26)/175 -> #DIV/0!
... B90: =IF(Jan!B90="","",Jan!B90) | C90: =IF(Jan!B90="","",Jan!C90) | D90: =IF(B90="","",Jan!D90) | E90: =IF(Jan!B90="","",Jan!E90) | G90: =IF(B90="","",Jan!G90) | H90: =IF((F90>G90),((F90-G90)/G90),"") | J90: =I90*10 -> 0 | K90: =IF(B90="","",IF(Jan!K90="",Feb!J90,Jan!K90+Feb!J90)) | M90: =L90/2 -> 0 | N90: =IF(B90="","",IF(Jan!N90="",Feb!M90,Jan!N90+Feb!M90)) | P90: =O90 -> 0 | Q90: =IF(B90="","",IF(Jan!Q90="",Feb!P90,Jan!Q90+Feb!P90)) | S90: =R90/500 -> 0 | T90: =IF(B90="","",IF(Jan!T90="",Feb!S90,Jan!T90+Feb!S90)) | V90: =U90*10 -> 0 | W90: =IF(B90="","",IF(Jan!W90="",Feb!V90,Jan!W90+Feb!V90)) | AB90: =(R90/F90)/175 -> #DIV/0!

Sheet Mar
B2: =CONCATENATE('GENERAL GUIDELINES & SITE INFO'!E27," - monthly returns of biomass and anti-parasitic usage") -> Scottish Seafarms Ltd - monthly returns of biomass and anti-parasitic usage
B4: =CONCATENATE("Please complete and return by ",'GENERAL GUIDELINES & SITE INFO'!F32) -> Please complete and return by 15 Apr 2011;
AA5: Please Note
B6: Site Name | C6: Site ID | D6: Licence | E6: SEPA Team Area | F6: Max biomass (tonnes) | G6: Licensed Biomass (tonnes) | H6: Exceedence | I6: Enter the amount of chemical used NOT active ingredient. Entire treatment quantity should be entered in month treatment is initiated. | X6: Feed Used (kgs) | Y6: Mortalities | AA6: If Slice entry is highlighted in red please confirm value is correct here
I7: Excis (litres) containing 1% cypermethrin | J7: Cyp (grams) | K7: Total | L7: Salmosan (grams) containing 50% azamethiphos | M7: Aza (grams) | N7: Total | O7: Calicide (grams) containing 100% teflubenzuron | P7: TFBZ (grams) | Q7: Total | R7: Slice (grams) containing 0.2% emamectin benzoate | S7: Ema (grams) | T7: Total | U7: AMX (litres) containing 1% deltamethrin | V7: Delt (grams) | W7: Total | Y7: Number | Z7: Total weight (kgs)
B8: =IF(Feb!B8="","",Feb!B8) -> Bring Head | C8: =IF(Feb!C8="","",Feb!C8) -> SCAP1 | D8: =IF(Feb!D8="","",Feb!D8) -> CAR/L/1015854 | E8: =IF(Feb!E8="","",Feb!E8) -> ORK | F8: 490 | G8: =IF(B8="","",[1]Feb!G8) -> 968 | H8: =IF((F8>G8),((F8-G8)/G8),"") | J8: =I8*10 -> 0 | K8: =IF(B8="","",IF([1]Feb!K8="",[1]Mar!J8,[1]Feb!K8+[1]Mar!J8)) -> 0 | M8: =L8/2 -> 0 | N8: =IF(B8="","",IF([1]Feb!N8="",[1]Mar!M8,[1]Feb!N8+[1]Mar!M8)) -> 0 | P8: =O8 -> 0 | Q8: =IF(B8="","",IF([1]Feb!Q8="",[1]Mar!P8,[1]Feb!Q8+[1]Mar!P8)) -> 0 | S8: =R8/500 -> 0 | T8: =IF(B8="","",IF([1]Feb!T8="",[1]Mar!S8,[1]Feb!T8+[1]Mar!S8)) -> 0 | V8: =U8*10 -> 0 | W8: =IF(B8="","",IF([1]Feb!W8="",[1]Mar!V8,[1]Feb!W8+[1]Mar!V8)) -> 0 | X8: 72000 | Y8: 1946 | Z8: 3486 | AB8: =(R8/F8)/175 -> 0
B9: =IF(Feb!B9="","",Feb!B9) -> Eday Sound | C9: =IF(Feb!C9="","",Feb!C9) -> EDA1 | D9: =IF(Feb!D9="","",Feb!D9) -> CAR/L/1003956 | E9: =IF(Feb!E9="","",Feb!E9) -> ORK | G9: =IF(B9="","",[1]Feb!G9) -> 800 | H9: =IF((F9>G9),((F9-G9)/G9),"") | J9: =I9*10 -> 0 | K9: =IF(B9="","",IF([1]Feb!K9="",[1]Mar!J9,[1]Feb!K9+[1]Mar!J9)) -> 0 | M9: =L9/2 -> 0 | N9: =IF(B9="","",IF([1]Feb!N9="",[1]Mar!M9,[1]Feb!N9+[1]Mar!M9)) -> 0 | P9: =O9 -> 0 | Q9: =IF(B9="","",IF([1]Feb!Q9="",[1]Mar!P9,[1]Feb!Q9+[1]Mar!P9)) -> 0 | S9: =R9/500 -> 0 | T9: =IF(B9="","",IF([1]Feb!T9="",[1]Mar!S9,[1]Feb!T9+[1]Mar!S9)) -> 0 | V9: =U9*10 -> 0 | W9: =IF(B9="","",IF([1]Feb!W9="",[1]Mar!V9,[1]Feb!W9+[1]Mar!V9)) -> 0 | AB9: =(R9/F9)/175 -> #DIV/0!
B10: =IF(Feb!B10="","",Feb!B10) -> Kirk Taing | C10: =IF(Feb!C10="","",Feb!C10) -> MILL1 | D10: =IF(Feb!D10="","",Feb!D10) -> CAR/L/1003952 | E10: =IF(Feb!E10="","",Feb!E10) -> ORK | G10: =IF(B10="","",[1]Feb!G10) -> 800 | H10: =IF((F10>G10),((F10-G10)/G10),"") | J10: =I10*10 -> 0 | K10: =IF(B10="","",IF([1]Feb!K10="",[1]Mar!J10,[1]Feb!K10+[1]Mar!J10)) -> 0 | M10: =L10/2 -> 0 | N10: =IF(B10="","",IF([1]Feb!N10="",[1]Mar!M10,[1]Feb!N10+[1]Mar!M10)) -> 0 | P10: =O10 -> 0 | Q10: =IF(B10="","",IF([1]Feb!Q10="",[1]Mar!P10,[1]Feb!Q10+[1]Mar!P10)) -> 0 | S10: =R10/500 -> 0 | T10: =IF(B10="","",IF([1]Feb!T10="",[1]Mar!S10,[1]Feb!T10+[1]Mar!S10)) -> 0 | V10: =U10*10 -> 0 | W10: =IF(B10="","",IF([1]Feb!W10="",[1]Mar!V10,[1]Feb!W10+[1]Mar!V10)) -> 0 | AB10: =(R10/F10)/175 -> #DIV/0!
B11: =IF(Feb!B11="","",Feb!B11) -> Mill Bay, Stronsay | C11: =IF(Feb!C11="","",Feb!C11) -> MIL1 | D11: =IF(Feb!D11="","",Feb!D11) -> CAR/L/1034607 | E11: =IF(Feb!E11="","",Feb!E11) -> ORK | G11: =IF(B11="","",[1]Feb!G11) -> 750 | H11: =IF((F11>G11),((F11-G11)/G11),"") | J11: =I11*10 -> 0 | K11: =IF(B11="","",IF([1]Feb!K11="",[1]Mar!J11,[1]Feb!K11+[1]Mar!J11)) -> 0 | M11: =L11/2 -> 0 | N11: =IF(B11="","",IF([1]Feb!N11="",[1]Mar!M11,[1]Feb!N11+[1]Mar!M11)) -> 0 | P11: =O11 -> 0 | Q11: =IF(B11="","",IF([1]Feb!Q11="",[1]Mar!P11,[1]Feb!Q11+[1]Mar!P11)) -> 0 | S11: =R11/500 -> 0 | T11: =IF(B11="","",IF([1]Feb!T11="",[1]Mar!S11,[1]Feb!T11+[1]Mar!S11)) -> 0 | V11: =U11*10 -> 0 | W11: =IF(B11="","",IF([1]Feb!W11="",[1]Mar!V11,[1]Feb!W11+[1]Mar!V11)) -> 0 | AB11: =(R11/F11)/175 -> #DIV/0!
B12: =IF(Feb!B12="","",Feb!B12) -> Puldrite Bay | C12: =IF(Feb!C12="","",Feb!C12) -> PUL1 | D12: =IF(Feb!D12="","",Feb!D12) -> CAR/L/1003954 | E12: =IF(Feb!E12="","",Feb!E12) -> ORK | F12: 56 | G12: =IF(B12="","",[1]Feb!G12) -> 980 | H12: =IF((F12>G12),((F12-G12)/G12),"") | J12: =I12*10 -> 0 | K12: =IF(B12="","",IF([1]Feb!K12="",[1]Mar!J12,[1]Feb!K12+[1]Mar!J12)) -> 0 | M12: =L12/2 -> 0 | N12: =IF(B12="","",IF([1]Feb!N12="",[1]Mar!M12,[1]Feb!N12+[1]Mar!M12)) -> 0 | P12: =O12 -> 0 | Q12: =IF(B12="","",IF([1]Feb!Q12="",[1]Mar!P12,[1]Feb!Q12+[1]Mar!P12)) -> 0 | S12: =R12/500 -> 0 | T12: =IF(B12="","",IF([1]Feb!T12="",[1]Mar!S12,[1]Feb!T12+[1]Mar!S12)) -> 0 | V12: =U12*10 -> 0 | W12: =IF(B12="","",IF([1]Feb!W12="",[1]Mar!V12,[1]Feb!W12+[1]Mar!V12)) -> 0 | X12: 0 | Y12: 0 | Z12: 0 | AB12: =(R12/F12)/175 -> 0
B13: =IF(Feb!B13="","",Feb!B13) -> Toy Ness | C13: =IF(Feb!C13="","",Feb!C13) -> TOYN1 | D13: =IF(Feb!D13="","",Feb!D13) -> CAR/L/1015855 | E13: =IF(Feb!E13="","",Feb!E13) -> ORK | F13: 372 | G13: =IF(B13="","",[1]Feb!G13) -> 650 | H13: =IF((F13>G13),((F13-G13)/G13),"") | J13: =I13*10 -> 0 | K13: =IF(B13="","",IF([1]Feb!K13="",[1]Mar!J13,[1]Feb!K13+[1]Mar!J13)) -> 0 | M13: =L13/2 -> 0 | N13: =IF(B13="","",IF([1]Feb!N13="",[1]Mar!M13,[1]Feb!N13+[1]Mar!M13)) -> 0 | P13: =O13 -> 0 | Q13: =IF(B13="","",IF([1]Feb!Q13="",[1]Mar!P13,[1]Feb!Q13+[1]Mar!P13)) -> 0 | S13: =R13/500 -> 0 | T13: =IF(B13="","",IF([1]Feb!T13="",[1]Mar!S13,[1]Feb!T13+[1]Mar!S13)) -> 0 | V13: =U13*10 -> 0 | W13: =IF(B13="","",IF([1]Feb!W13="",[1]Mar!V13,[1]Feb!W13+[1]Mar!V13)) -> 0 | X13: 49000 | Y13: 207 | Z13: 370 | AB13: =(R13/F13)/175 -> 0
B14: =IF(Feb!B14="","",Feb!B14) -> Veantrow Bay | C14: =IF(Feb!C14="","",Feb!C14) -> VEA1 | D14: =IF(Feb!D14="","",Feb!D14) -> CAR/L/1003931 | E14: =IF(Feb!E14="","",Feb!E14) -> ORK | F14: 200 | G14: =IF(B14="","",[1]Feb!G14) -> 1264 | H14: =IF((F14>G14),((F14-G14)/G14),"") | J14: =I14*10 -> 0 | K14: =IF(B14="","",IF([1]Feb!K14="",[1]Mar!J14,[1]Feb!K14+[1]Mar!J14)) -> 0 | M14: =L14/2 -> 0 | N14: =IF(B14="","",IF([1]Feb!N14="",[1]Mar!M14,[1]Feb!N14+[1]Mar!M14)) -> 0 | P14: =O14 -> 0 | Q14: =IF(B14="","",IF([1]Feb!Q14="",[1]Mar!P14,[1]Feb!Q14+[1]Mar!P14)) -> 0 | S14: =R14/500 -> 0 | T14: =IF(B14="","",IF([1]Feb!T14="",[1]Mar!S14,[1]Feb!T14+[1]Mar!S14)) -> 0 | V14: =U14*10 -> 0 | W14: =IF(B14="","",IF([1]Feb!W14="",[1]Mar!V14,[1]Feb!W14+[1]Mar!V14)) -> 0 | X14: 49125 | Y14: 1918 | Z14: 770 | AB14: =(R14/F14)/175 -> 0
B15: =IF(Feb!B15="","",Feb!B15) | C15: =IF(Feb!C15="","",Feb!C15) | D15: =IF(Feb!D15="","",Feb!D15) | E15: =IF(Feb!E15="","",Feb!E15) | G15: =IF(B15="","",Feb!G15) | H15: =IF((F15>G15),((F15-G15)/G15),"") | J15: =I15*10 -> 0 | K15: =IF(B15="","",IF(Feb!K15="",Mar!J15,Feb!K15+Mar!J15)) | M15: =L15/2 -> 0 | N15: =IF(B15="","",IF(Feb!N15="",Mar!M15,Feb!N15+Mar!M15)) | P15: =O15 -> 0 | Q15: =IF(B15="","",IF(Feb!Q15="",Mar!P15,Feb!Q15+Mar!P15)) | S15: =R15/500 -> 0 | T15: =IF(B15="","",IF(Feb!T15="",Mar!S15,Feb!T15+Mar!S15)) | V15: =U15*10 -> 0 | W15: =IF(B15="","",IF(Feb!W15="",Mar!V15,Feb!W15+Mar!V15)) | AB15: =(R15/F15)/175 -> #DIV/0!
B16: =IF(Feb!B16="","",Feb!B16) | C16: =IF(Feb!C16="","",Feb!C16) | D16: =IF(Feb!D16="","",Feb!D16) | E16: =IF(Feb!E16="","",Feb!E16) | G16: =IF(B16="","",Feb!G16) | H16: =IF((F16>G16),((F16-G16)/G16),"") | J16: =I16*10 -> 0 | K16: =IF(B16="","",IF(Feb!K16="",Mar!J16,Feb!K16+Mar!J16)) | M16: =L16/2 -> 0 | N16: =IF(B16="","",IF(Feb!N16="",Mar!M16,Feb!N16+Mar!M16)) | P16: =O16 -> 0 | Q16: =IF(B16="","",IF(Feb!Q16="",Mar!P16,Feb!Q16+Mar!P16)) | S16: =R16/500 -> 0 | T16: =IF(B16="","",IF(Feb!T16="",Mar!S16,Feb!T16+Mar!S16)) | V16: =U16*10 -> 0 | W16: =IF(B16="","",IF(Feb!W16="",Mar!V16,Feb!W16+Mar!V16)) | AB16: =(R16/F16)/175 -> #DIV/0!
B17: =IF(Feb!B17="","",Feb!B17) | C17: =IF(Feb!C17="","",Feb!C17) | D17: =IF(Feb!D17="","",Feb!D17) | E17: =IF(Feb!E17="","",Feb!E17) | G17: =IF(B17="","",Feb!G17) | H17: =IF((F17>G17),((F17-G17)/G17),"") | J17: =I17*10 -> 0 | K17: =IF(B17="","",IF(Feb!K17="",Mar!J17,Feb!K17+Mar!J17)) | M17: =L17/2 -> 0 | N17: =IF(B17="","",IF(Feb!N17="",Mar!M17,Feb!N17+Mar!M17)) | P17: =O17 -> 0 | Q17: =IF(B17="","",IF(Feb!Q17="",Mar!P17,Feb!Q17+Mar!P17)) | S17: =R17/500 -> 0 | T17: =IF(B17="","",IF(Feb!T17="",Mar!S17,Feb!T17+Mar!S17)) | V17: =U17*10 -> 0 | W17: =IF(B17="","",IF(Feb!W17="",Mar!V17,Feb!W17+Mar!V17)) | AB17: =(R17/F17)/175 -> #DIV/0!
B18: =IF(Feb!B18="","",Feb!B18) | C18: =IF(Feb!C18="","",Feb!C18) | D18: =IF(Feb!D18="","",Feb!D18) | E18: =IF(Feb!E18="","",Feb!E18) | G18: =IF(B18="","",Feb!G18) | H18: =IF((F18>G18),((F18-G18)/G18),"") | J18: =I18*10 -> 0 | K18: =IF(B18="","",IF(Feb!K18="",Mar!J18,Feb!K18+Mar!J18)) | M18: =L18/2 -> 0 | N18: =IF(B18="","",IF(Feb!N18="",Mar!M18,Feb!N18+Mar!M18)) | P18: =O18 -> 0 | Q18: =IF(B18="","",IF(Feb!Q18="",Mar!P18,Feb!Q18+Mar!P18)) | S18: =R18/500 -> 0 | T18: =IF(B18="","",IF(Feb!T18="",Mar!S18,Feb!T18+Mar!S18)) | V18: =U18*10 -> 0 | W18: =IF(B18="","",IF(Feb!W18="",Mar!V18,Feb!W18+Mar!V18)) | AB18: =(R18/F18)/175 -> #DIV/0!
B19: =IF(Feb!B19="","",Feb!B19) | C19: =IF(Feb!C19="","",Feb!C19) | D19: =IF(Feb!D19="","",Feb!D19) | E19: =IF(Feb!E19="","",Feb!E19) | G19: =IF(B19="","",Feb!G19) | H19: =IF((F19>G19),((F19-G19)/G19),"") | J19: =I19*10 -> 0 | K19: =IF(B19="","",IF(Feb!K19="",Mar!J19,Feb!K19+Mar!J19)) | M19: =L19/2 -> 0 | N19: =IF(B19="","",IF(Feb!N19="",Mar!M19,Feb!N19+Mar!M19)) | P19: =O19 -> 0 | Q19: =IF(B19="","",IF(Feb!Q19="",Mar!P19,Feb!Q19+Mar!P19)) | S19: =R19/500 -> 0 | T19: =IF(B19="","",IF(Feb!T19="",Mar!S19,Feb!T19+Mar!S19)) | V19: =U19*10 -> 0 | W19: =IF(B19="","",IF(Feb!W19="",Mar!V19,Feb!W19+Mar!V19)) | AB19: =(R19/F19)/175 -> #DIV/0!
B20: =IF(Feb!B20="","",Feb!B20) | C20: =IF(Feb!C20="","",Feb!C20) | D20: =IF(Feb!D20="","",Feb!D20) | E20: =IF(Feb!E20="","",Feb!E20) | G20: =IF(B20="","",Feb!G20) | H20: =IF((F20>G20),((F20-G20)/G20),"") | J20: =I20*10 -> 0 | K20: =IF(B20="","",IF(Feb!K20="",Mar!J20,Feb!K20+Mar!J20)) | M20: =L20/2 -> 0 | N20: =IF(B20="","",IF(Feb!N20="",Mar!M20,Feb!N20+Mar!M20)) | P20: =O20 -> 0 | Q20: =IF(B20="","",IF(Feb!Q20="",Mar!P20,Feb!Q20+Mar!P20)) | S20: =R20/500 -> 0 | T20: =IF(B20="","",IF(Feb!T20="",Mar!S20,Feb!T20+Mar!S20)) | V20: =U20*10 -> 0 | W20: =IF(B20="","",IF(Feb!W20="",Mar!V20,Feb!W20+Mar!V20)) | AB20: =(R20/F20)/175 -> #DIV/0!
B21: =IF(Feb!B21="","",Feb!B21) | C21: =IF(Feb!C21="","",Feb!C21) | D21: =IF(Feb!D21="","",Feb!D21) | E21: =IF(Feb!E21="","",Feb!E21) | G21: =IF(B21="","",Feb!G21) | H21: =IF((F21>G21),((F21-G21)/G21),"") | J21: =I21*10 -> 0 | K21: =IF(B21="","",IF(Feb!K21="",Mar!J21,Feb!K21+Mar!J21)) | M21: =L21/2 -> 0 | N21: =IF(B21="","",IF(Feb!N21="",Mar!M21,Feb!N21+Mar!M21)) | P21: =O21 -> 0 | Q21: =IF(B21="","",IF(Feb!Q21="",Mar!P21,Feb!Q21+Mar!P21)) | S21: =R21/500 -> 0 | T21: =IF(B21="","",IF(Feb!T21="",Mar!S21,Feb!T21+Mar!S21)) | V21: =U21*10 -> 0 | W21: =IF(B21="","",IF(Feb!W21="",Mar!V21,Feb!W21+Mar!V21)) | AB21: =(R21/F21)/175 -> #DIV/0!
B22: =IF(Feb!B22="","",Feb!B22) | C22: =IF(Feb!C22="","",Feb!C22) | D22: =IF(Feb!D22="","",Feb!D22) | E22: =IF(Feb!E22="","",Feb!E22) | G22: =IF(B22="","",Feb!G22) | H22: =IF((F22>G22),((F22-G22)/G22),"") | J22: =I22*10 -> 0 | K22: =IF(B22="","",IF(Feb!K22="",Mar!J22,Feb!K22+Mar!J22)) | M22: =L22/2 -> 0 | N22: =IF(B22="","",IF(Feb!N22="",Mar!M22,Feb!N22+Mar!M22)) | P22: =O22 -> 0 | Q22: =IF(B22="","",IF(Feb!Q22="",Mar!P22,Feb!Q22+Mar!P22)) | S22: =R22/500 -> 0 | T22: =IF(B22="","",IF(Feb!T22="",Mar!S22,Feb!T22+Mar!S22)) | V22: =U22*10 -> 0 | W22: =IF(B22="","",IF(Feb!W22="",Mar!V22,Feb!W22+Mar!V22)) | AB22: =(R22/F22)/175 -> #DIV/0!
B23: =IF(Feb!B23="","",Feb!B23) | C23: =IF(Feb!C23="","",Feb!C23) | D23: =IF(Feb!D23="","",Feb!D23) | E23: =IF(Feb!E23="","",Feb!E23) | G23: =IF(B23="","",Feb!G23) | H23: =IF((F23>G23),((F23-G23)/G23),"") | J23: =I23*10 -> 0 | K23: =IF(B23="","",IF(Feb!K23="",Mar!J23,Feb!K23+Mar!J23)) | M23: =L23/2 -> 0 | N23: =IF(B23="","",IF(Feb!N23="",Mar!M23,Feb!N23+Mar!M23)) | P23: =O23 -> 0 | Q23: =IF(B23="","",IF(Feb!Q23="",Mar!P23,Feb!Q23+Mar!P23)) | S23: =R23/500 -> 0 | T23: =IF(B23="","",IF(Feb!T23="",Mar!S23,Feb!T23+Mar!S23)) | V23: =U23*10 -> 0 | W23: =IF(B23="","",IF(Feb!W23="",Mar!V23,Feb!W23+Mar!V23)) | AB23: =(R23/F23)/175 -> #DIV/0!
B24: =IF(Feb!B24="","",Feb!B24) | C24: =IF(Feb!C24="","",Feb!C24) | D24: =IF(Feb!D24="","",Feb!D24) | E24: =IF(Feb!E24="","",Feb!E24) | G24: =IF(B24="","",Feb!G24) | H24: =IF((F24>G24),((F24-G24)/G24),"") | J24: =I24*10 -> 0 | K24: =IF(B24="","",IF(Feb!K24="",Mar!J24,Feb!K24+Mar!J24)) | M24: =L24/2 -> 0 | N24: =IF(B24="","",IF(Feb!N24="",Mar!M24,Feb!N24+Mar!M24)) | P24: =O24 -> 0 | Q24: =IF(B24="","",IF(Feb!Q24="",Mar!P24,Feb!Q24+Mar!P24)) | S24: =R24/500 -> 0 | T24: =IF(B24="","",IF(Feb!T24="",Mar!S24,Feb!T24+Mar!S24)) | V24: =U24*10 -> 0 | W24: =IF(B24="","",IF(Feb!W24="",Mar!V24,Feb!W24+Mar!V24)) | AB24: =(R24/F24)/175 -> #DIV/0!
B25: =IF(Feb!B25="","",Feb!B25) | C25: =IF(Feb!C25="","",Feb!C25) | D25: =IF(Feb!D25="","",Feb!D25) | E25: =IF(Feb!E25="","",Feb!E25) | G25: =IF(B25="","",Feb!G25) | H25: =IF((F25>G25),((F25-G25)/G25),"") | J25: =I25*10 -> 0 | K25: =IF(B25="","",IF(Feb!K25="",Mar!J25,Feb!K25+Mar!J25)) | M25: =L25/2 -> 0 | N25: =IF(B25="","",IF(Feb!N25="",Mar!M25,Feb!N25+Mar!M25)) | P25: =O25 -> 0 | Q25: =IF(B25="","",IF(Feb!Q25="",Mar!P25,Feb!Q25+Mar!P25)) | S25: =R25/500 -> 0 | T25: =IF(B25="","",IF(Feb!T25="",Mar!S25,Feb!T25+Mar!S25)) | V25: =U25*10 -> 0 | W25: =IF(B25="","",IF(Feb!W25="",Mar!V25,Feb!W25+Mar!V25)) | AB25: =(R25/F25)/175 -> #DIV/0!
B26: =IF(Feb!B26="","",Feb!B26) | C26: =IF(Feb!C26="","",Feb!C26) | D26: =IF(Feb!D26="","",Feb!D26) | E26: =IF(Feb!E26="","",Feb!E26) | G26: =IF(B26="","",Feb!G26) | H26: =IF((F26>G26),((F26-G26)/G26),"") | J26: =I26*10 -> 0 | K26: =IF(B26="","",IF(Feb!K26="",Mar!J26,Feb!K26+Mar!J26)) | M26: =L26/2 -> 0 | N26: =IF(B26="","",IF(Feb!N26="",Mar!M26,Feb!N26+Mar!M26)) | P26: =O26 -> 0 | Q26: =IF(B26="","",IF(Feb!Q26="",Mar!P26,Feb!Q26+Mar!P26)) | S26: =R26/500 -> 0 | T26: =IF(B26="","",IF(Feb!T26="",Mar!S26,Feb!T26+Mar!S26)) | V26: =U26*10 -> 0 | W26: =IF(B26="","",IF(Feb!W26="",Mar!V26,Feb!W26+Mar!V26)) | AB26: =(R26/F26)/175 -> #DIV/0!
... B90: =IF(Feb!B90="","",Feb!B90) | C90: =IF(Feb!C90="","",Feb!C90) | D90: =IF(Feb!D90="","",Feb!D90) | E90: =IF(Feb!E90="","",Feb!E90) | G90: =IF(B90="","",Feb!G90) | H90: =IF((F90>G90),((F90-G90)/G90),"") | J90: =I90*10 -> 0 | K90: =IF(B90="","",IF(Feb!K90="",Mar!J90,Feb!K90+Mar!J90)) | M90: =L90/2 -> 0 | N90: =IF(B90="","",IF(Feb!N90="",Mar!M90,Feb!N90+Mar!M90)) | P90: =O90 -> 0 | Q90: =IF(B90="","",IF(Feb!Q90="",Mar!P90,Feb!Q90+Mar!P90)) | S90: =R90/500 -> 0 | T90: =IF(B90="","",IF(Feb!T90="",Mar!S90,Feb!T90+Mar!S90)) | V90: =U90*10 -> 0 | W90: =IF(B90="","",IF(Feb!W90="",Mar!V90,Feb!W90+Mar!V90)) | AB90: =(R90/F90)/175 -> #DIV/0!

Sheet Apr
B2: =CONCATENATE('GENERAL GUIDELINES & SITE INFO'!E27," - monthly returns of biomass and anti-parasitic usage") -> Scottish Seafarms Ltd - monthly returns of biomass and anti-parasitic usage
B4: =CONCATENATE("Please complete and return by ",'GENERAL GUIDELINES & SITE INFO'!G32) -> Please complete and return by 15 July 2011;
AA5: Please Note
B6: Site Name | C6: Site ID | D6: Licence | E6: SEPA Team Area | F6: Max biomass (tonnes) | G6: Licensed Biomass (tonnes) | H6: Exceedence | I6: Enter the amount of chemical used NOT active ingredient. Entire treatment quantity should be entered in month treatment is initiated. | X6: Feed Used (kgs) | Y6: Mortalities | AA6: If Slice entry is highlighted in red please confirm value is correct here
I7: Excis (litres) containing 1% cypermethrin | J7: Cyp (grams) | K7: Total | L7: Salmosan (grams) containing 50% azamethiphos | M7: Aza (grams) | N7: Total | O7: Calicide (grams) containing 100% teflubenzuron | P7: TFBZ (grams) | Q7: Total | R7: Slice (grams) containing 0.2% emamectin benzoate | S7: Ema (grams) | T7: Total | U7: AMX (litres) containing 1% deltamethrin | V7: Delt (grams) | W7: Total | Y7: Number | Z7: Total weight (kgs)
B8: =IF(Mar!B8="","",Mar!B8) -> Bring Head | C8: =IF(Mar!C8="","",Mar!C8) -> SCAP1 | D8: =IF(B8="","",Mar!D8) -> CAR/L/1015854 | E8: =IF(C8="","",Mar!E8) -> ORK | F8: 554 | G8: =IF(B8="","",Mar!G8) -> 968 | H8: =IF((F8>G8),((F8-G8)/G8),"") | J8: =I8*10 -> 0 | K8: =IF(B8="","",IF(Mar!K8="",Apr!K8,Mar!K8+Apr!J8)) -> 0 | M8: =L8/2 -> 0 | N8: =IF(B8="","",IF(Mar!N8="",Apr!M8,Mar!N8+Apr!M8)) -> 0 | P8: =O8 -> 0 | Q8: =IF(B8="","",IF(Mar!Q8="",Apr!P8,Mar!Q8+Apr!P8)) -> 0 | S8: =R8/500 -> 0 | T8: =IF(B8="","",IF(Mar!T8="",Apr!S8,Mar!T8+Apr!S8)) -> 0 | V8: =U8*10 -> 0 | W8: =IF(B8="","",IF(Mar!W8="",Apr!V8,Mar!W8+Apr!V8)) -> 0 | X8: 83750 | Y8: 3993 | Z8: 8333 | AB8: =(R8/F8)/175 -> 0
B9: =IF(Mar!B9="","",Mar!B9) -> Eday Sound | C9: =IF(Mar!C9="","",Mar!C9) -> EDA1 | D9: =IF(B9="","",Mar!D9) -> CAR/L/1003956 | E9: =IF(C9="","",Mar!E9) -> ORK | G9: =IF(B9="","",Mar!G9) -> 800 | H9: =IF((F9>G9),((F9-G9)/G9),"") | J9: =I9*10 -> 0 | K9: =IF(B9="","",IF(Mar!K9="",Apr!K9,Mar!K9+Apr!J9)) -> 0 | M9: =L9/2 -> 0 | N9: =IF(B9="","",IF(Mar!N9="",Apr!M9,Mar!N9+Apr!M9)) -> 0 | P9: =O9 -> 0 | Q9: =IF(B9="","",IF(Mar!Q9="",Apr!P9,Mar!Q9+Apr!P9)) -> 0 | S9: =R9/500 -> 0 | T9: =IF(B9="","",IF(Mar!T9="",Apr!S9,Mar!T9+Apr!S9)) -> 0 | V9: =U9*10 -> 0 | W9: =IF(B9="","",IF(Mar!W9="",Apr!V9,Mar!W9+Apr!V9)) -> 0 | AB9: =(R9/F9)/175 -> #DIV/0!
B10: =IF(Mar!B10="","",Mar!B10) -> Kirk Taing | C10: =IF(Mar!C10="","",Mar!C10) -> MILL1 | D10: =IF(B10="","",Mar!D10) -> CAR/L/1003952 | E10: =IF(C10="","",Mar!E10) -> ORK | G10: =IF(B10="","",Mar!G10) -> 800 | H10: =IF((F10>G10),((F10-G10)/G10),"") | J10: =I10*10 -> 0 | K10: =IF(B10="","",IF(Mar!K10="",Apr!K10,Mar!K10+Apr!J10)) -> 0 | M10: =L10/2 -> 0 | N10: =IF(B10="","",IF(Mar!N10="",Apr!M10,Mar!N10+Apr!M10)) -> 0 | P10: =O10 -> 0 | Q10: =IF(B10="","",IF(Mar!Q10="",Apr!P10,Mar!Q10+Apr!P10)) -> 0 | S10: =R10/500 -> 0 | T10: =IF(B10="","",IF(Mar!T10="",Apr!S10,Mar!T10+Apr!S10)) -> 0 | V10: =U10*10 -> 0 | W10: =IF(B10="","",IF(Mar!W10="",Apr!V10,Mar!W10+Apr!V10)) -> 0 | AB10: =(R10/F10)/175 -> #DIV/0!
B11: =IF(Mar!B11="","",Mar!B11) -> Mill Bay, Stronsay | C11: =IF(Mar!C11="","",Mar!C11) -> MIL1 | D11: =IF(B11="","",Mar!D11) -> CAR/L/1034607 | E11: =IF(C11="","",Mar!E11) -> ORK | G11: =IF(B11="","",Mar!G11) -> 750 | H11: =IF((F11>G11),((F11-G11)/G11),"") | J11: =I11*10 -> 0 | K11: =IF(B11="","",IF(Mar!K11="",Apr!K11,Mar!K11+Apr!J11)) -> 0 | M11: =L11/2 -> 0 | N11: =IF(B11="","",IF(Mar!N11="",Apr!M11,Mar!N11+Apr!M11)) -> 0 | P11: =O11 -> 0 | Q11: =IF(B11="","",IF(Mar!Q11="",Apr!P11,Mar!Q11+Apr!P11)) -> 0 | S11: =R11/500 -> 0 | T11: =IF(B11="","",IF(Mar!T11="",Apr!S11,Mar!T11+Apr!S11)) -> 0 | V11: =U11*10 -> 0 | W11: =IF(B11="","",IF(Mar!W11="",Apr!V11,Mar!W11+Apr!V11)) -> 0 | AB11: =(R11/F11)/175 -> #DIV/0!
B12: =IF(Mar!B12="","",Mar!B12) -> Puldrite Bay | C12: =IF(Mar!C12="","",Mar!C12) -> PUL1 | D12: =IF(B12="","",Mar!D12) -> CAR/L/1003954 | E12: =IF(C12="","",Mar!E12) -> ORK | F12: 0 | G12: =IF(B12="","",Mar!G12) -> 980 | H12: =IF((F12>G12),((F12-G12)/G12),"") | J12: =I12*10 -> 0 | K12: =IF(B12="","",IF(Mar!K12="",Apr!K12,Mar!K12+Apr!J12)) -> 0 | M12: =L12/2 -> 0 | N12: =IF(B12="","",IF(Mar!N12="",Apr!M12,Mar!N12+Apr!M12)) -> 0 | P12: =O12 -> 0 | Q12: =IF(B12="","",IF(Mar!Q12="",Apr!P12,Mar!Q12+Apr!P12)) -> 0 | S12: =R12/500 -> 0 | T12: =IF(B12="","",IF(Mar!T12="",Apr!S12,Mar!T12+Apr!S12)) -> 0 | V12: =U12*10 -> 0 | W12: =IF(B12="","",IF(Mar!W12="",Apr!V12,Mar!W12+Apr!V12)) -> 0 | AB12: =(R12/F12)/175 -> #DIV/0!
B13: =IF(Mar!B13="","",Mar!B13) -> Toy Ness | C13: =IF(Mar!C13="","",Mar!C13) -> TOYN1 | D13: =IF(B13="","",Mar!D13) -> CAR/L/1015855 | E13: =IF(C13="","",Mar!E13) -> ORK | F13: 427 | G13: =IF(B13="","",Mar!G13) -> 650 | H13: =IF((F13>G13),((F13-G13)/G13),"") | J13: =I13*10 -> 0 | K13: =IF(B13="","",IF(Mar!K13="",Apr!K13,Mar!K13+Apr!J13)) -> 0 | M13: =L13/2 -> 0 | N13: =IF(B13="","",IF(Mar!N13="",Apr!M13,Mar!N13+Apr!M13)) -> 0 | P13: =O13 -> 0 | Q13: =IF(B13="","",IF(Mar!Q13="",Apr!P13,Mar!Q13+Apr!P13)) -> 0 | S13: =R13/500 -> 0 | T13: =IF(B13="","",IF(Mar!T13="",Apr!S13,Mar!T13+Apr!S13)) -> 0 | V13: =U13*10 -> 0 | W13: =IF(B13="","",IF(Mar!W13="",Apr!V13,Mar!W13+Apr!V13)) -> 0 | X13: 63550 | Y13: 35 | Z13: 66 | AB13: =(R13/F13)/175 -> 0
B14: =IF(Mar!B14="","",Mar!B14) -> Veantrow Bay | C14: =IF(Mar!C14="","",Mar!C14) -> VEA1 | D14: =IF(B14="","",Mar!D14) -> CAR/L/1003931 | E14: =IF(C14="","",Mar!E14) -> ORK | F14: 257 | G14: =IF(B14="","",Mar!G14) -> 1264 | H14: =IF((F14>G14),((F14-G14)/G14),"") | J14: =I14*10 -> 0 | K14: =IF(B14="","",IF(Mar!K14="",Apr!K14,Mar!K14+Apr!J14)) -> 0 | M14: =L14/2 -> 0 | N14: =IF(B14="","",IF(Mar!N14="",Apr!M14,Mar!N14+Apr!M14)) -> 0 | P14: =O14 -> 0 | Q14: =IF(B14="","",IF(Mar!Q14="",Apr!P14,Mar!Q14+Apr!P14)) -> 0 | S14: =R14/500 -> 0 | T14: =IF(B14="","",IF(Mar!T14="",Apr!S14,Mar!T14+Apr!S14)) -> 0 | V14: =U14*10 -> 0 | W14: =IF(B14="","",IF(Mar!W14="",Apr!V14,Mar!W14+Apr!V14)) -> 0 | X14: 57275 | Y14: 758 | Z14: 305 | AB14: =(R14/F14)/175 -> 0
B15: =IF(Mar!B15="","",Mar!B15) | C15: =IF(Mar!C15="","",Mar!C15) | D15: =IF(B15="","",Mar!D15) | E15: =IF(C15="","",Mar!E15) | G15: =IF(B15="","",Mar!G15) | H15: =IF((F15>G15),((F15-G15)/G15),"") | J15: =I15*10 -> 0 | K15: =IF(B15="","",IF(Mar!K15="",Apr!K15,Mar!K15+Apr!J15)) | M15: =L15/2 -> 0 | N15: =IF(B15="","",IF(Mar!N15="",Apr!M15,Mar!N15+Apr!M15)) | P15: =O15 -> 0 | Q15: =IF(B15="","",IF(Mar!Q15="",Apr!P15,Mar!Q15+Apr!P15)) | S15: =R15/500 -> 0 | T15: =IF(B15="","",IF(Mar!T15="",Apr!S15,Mar!T15+Apr!S15)) | V15: =U15*10 -> 0 | W15: =IF(B15="","",IF(Mar!W15="",Apr!V15,Mar!W15+Apr!V15)) | AB15: =(R15/F15)/175 -> #DIV/0!
B16: =IF(Mar!B16="","",Mar!B16) | C16: =IF(Mar!C16="","",Mar!C16) | D16: =IF(B16="","",Mar!D16) | E16: =IF(C16="","",Mar!E16) | G16: =IF(B16="","",Mar!G16) | H16: =IF((F16>G16),((F16-G16)/G16),"") | J16: =I16*10 -> 0 | K16: =IF(B16="","",IF(Mar!K16="",Apr!K16,Mar!K16+Apr!J16)) | M16: =L16/2 -> 0 | N16: =IF(B16="","",IF(Mar!N16="",Apr!M16,Mar!N16+Apr!M16)) | P16: =O16 -> 0 | Q16: =IF(B16="","",IF(Mar!Q16="",Apr!P16,Mar!Q16+Apr!P16)) | S16: =R16/500 -> 0 | T16: =IF(B16="","",IF(Mar!T16="",Apr!S16,Mar!T16+Apr!S16)) | V16: =U16*10 -> 0 | W16: =IF(B16="","",IF(Mar!W16="",Apr!V16,Mar!W16+Apr!V16)) | AB16: =(R16/F16)/175 -> #DIV/0!
B17: =IF(Mar!B17="","",Mar!B17) | C17: =IF(Mar!C17="","",Mar!C17) | D17: =IF(B17="","",Mar!D17) | E17: =IF(C17="","",Mar!E17) | G17: =IF(B17="","",Mar!G17) | H17: =IF((F17>G17),((F17-G17)/G17),"") | J17: =I17*10 -> 0 | K17: =IF(B17="","",IF(Mar!K17="",Apr!K17,Mar!K17+Apr!J17)) | M17: =L17/2 -> 0 | N17: =IF(B17="","",IF(Mar!N17="",Apr!M17,Mar!N17+Apr!M17)) | P17: =O17 -> 0 | Q17: =IF(B17="","",IF(Mar!Q17="",Apr!P17,Mar!Q17+Apr!P17)) | S17: =R17/500 -> 0 | T17: =IF(B17="","",IF(Mar!T17="",Apr!S17,Mar!T17+Apr!S17)) | V17: =U17*10 -> 0 | W17: =IF(B17="","",IF(Mar!W17="",Apr!V17,Mar!W17+Apr!V17)) | AB17: =(R17/F17)/175 -> #DIV/0!
B18: =IF(Mar!B18="","",Mar!B18) | C18: =IF(Mar!C18="","",Mar!C18) | D18: =IF(B18="","",Mar!D18) | E18: =IF(C18="","",Mar!E18) | G18: =IF(B18="","",Mar!G18) | H18: =IF((F18>G18),((F18-G18)/G18),"") | J18: =I18*10 -> 0 | K18: =IF(B18="","",IF(Mar!K18="",Apr!K18,Mar!K18+Apr!J18)) | M18: =L18/2 -> 0 | N18: =IF(B18="","",IF(Mar!N18="",Apr!M18,Mar!N18+Apr!M18)) | P18: =O18 -> 0 | Q18: =IF(B18="","",IF(Mar!Q18="",Apr!P18,Mar!Q18+Apr!P18)) | S18: =R18/500 -> 0 | T18: =IF(B18="","",IF(Mar!T18="",Apr!S18,Mar!T18+Apr!S18)) | V18: =U18*10 -> 0 | W18: =IF(B18="","",IF(Mar!W18="",Apr!V18,Mar!W18+Apr!V18)) | AB18: =(R18/F18)/175 -> #DIV/0!
B19: =IF(Mar!B19="","",Mar!B19) | C19: =IF(Mar!C19="","",Mar!C19) | D19: =IF(B19="","",Mar!D19) | E19: =IF(C19="","",Mar!E19) | G19: =IF(B19="","",Mar!G19) | H19: =IF((F19>G19),((F19-G19)/G19),"") | J19: =I19*10 -> 0 | K19: =IF(B19="","",IF(Mar!K19="",Apr!K19,Mar!K19+Apr!J19)) | M19: =L19/2 -> 0 | N19: =IF(B19="","",IF(Mar!N19="",Apr!M19,Mar!N19+Apr!M19)) | P19: =O19 -> 0 | Q19: =IF(B19="","",IF(Mar!Q19="",Apr!P19,Mar!Q19+Apr!P19)) | S19: =R19/500 -> 0 | T19: =IF(B19="","",IF(Mar!T19="",Apr!S19,Mar!T19+Apr!S19)) | V19: =U19*10 -> 0 | W19: =IF(B19="","",IF(Mar!W19="",Apr!V19,Mar!W19+Apr!V19)) | AB19: =(R19/F19)/175 -> #DIV/0!
B20: =IF(Mar!B20="","",Mar!B20) | C20: =IF(Mar!C20="","",Mar!C20) | D20: =IF(B20="","",Mar!D20) | E20: =IF(C20="","",Mar!E20) | G20: =IF(B20="","",Mar!G20) | H20: =IF((F20>G20),((F20-G20)/G20),"") | J20: =I20*10 -> 0 | K20: =IF(B20="","",IF(Mar!K20="",Apr!K20,Mar!K20+Apr!J20)) | M20: =L20/2 -> 0 | N20: =IF(B20="","",IF(Mar!N20="",Apr!M20,Mar!N20+Apr!M20)) | P20: =O20 -> 0 | Q20: =IF(B20="","",IF(Mar!Q20="",Apr!P20,Mar!Q20+Apr!P20)) | S20: =R20/500 -> 0 | T20: =IF(B20="","",IF(Mar!T20="",Apr!S20,Mar!T20+Apr!S20)) | V20: =U20*10 -> 0 | W20: =IF(B20="","",IF(Mar!W20="",Apr!V20,Mar!W20+Apr!V20)) | AB20: =(R20/F20)/175 -> #DIV/0!
B21: =IF(Mar!B21="","",Mar!B21) | C21: =IF(Mar!C21="","",Mar!C21) | D21: =IF(B21="","",Mar!D21) | E21: =IF(C21="","",Mar!E21) | G21: =IF(B21="","",Mar!G21) | H21: =IF((F21>G21),((F21-G21)/G21),"") | J21: =I21*10 -> 0 | K21: =IF(B21="","",IF(Mar!K21="",Apr!K21,Mar!K21+Apr!J21)) | M21: =L21/2 -> 0 | N21: =IF(B21="","",IF(Mar!N21="",Apr!M21,Mar!N21+Apr!M21)) | P21: =O21 -> 0 | Q21: =IF(B21="","",IF(Mar!Q21="",Apr!P21,Mar!Q21+Apr!P21)) | S21: =R21/500 -> 0 | T21: =IF(B21="","",IF(Mar!T21="",Apr!S21,Mar!T21+Apr!S21)) | V21: =U21*10 -> 0 | W21: =IF(B21="","",IF(Mar!W21="",Apr!V21,Mar!W21+Apr!V21)) | AB21: =(R21/F21)/175 -> #DIV/0!
B22: =IF(Mar!B22="","",Mar!B22) | C22: =IF(Mar!C22="","",Mar!C22) | D22: =IF(B22="","",Mar!D22) | E22: =IF(C22="","",Mar!E22) | G22: =IF(B22="","",Mar!G22) | H22: =IF((F22>G22),((F22-G22)/G22),"") | J22: =I22*10 -> 0 | K22: =IF(B22="","",IF(Mar!K22="",Apr!K22,Mar!K22+Apr!J22)) | M22: =L22/2 -> 0 | N22: =IF(B22="","",IF(Mar!N22="",Apr!M22,Mar!N22+Apr!M22)) | P22: =O22 -> 0 | Q22: =IF(B22="","",IF(Mar!Q22="",Apr!P22,Mar!Q22+Apr!P22)) | S22: =R22/500 -> 0 | T22: =IF(B22="","",IF(Mar!T22="",Apr!S22,Mar!T22+Apr!S22)) | V22: =U22*10 -> 0 | W22: =IF(B22="","",IF(Mar!W22="",Apr!V22,Mar!W22+Apr!V22)) | AB22: =(R22/F22)/175 -> #DIV/0!
B23: =IF(Mar!B23="","",Mar!B23) | C23: =IF(Mar!C23="","",Mar!C23) | D23: =IF(B23="","",Mar!D23) | E23: =IF(C23="","",Mar!E23) | G23: =IF(B23="","",Mar!G23) | H23: =IF((F23>G23),((F23-G23)/G23),"") | J23: =I23*10 -> 0 | K23: =IF(B23="","",IF(Mar!K23="",Apr!K23,Mar!K23+Apr!J23)) | M23: =L23/2 -> 0 | N23: =IF(B23="","",IF(Mar!N23="",Apr!M23,Mar!N23+Apr!M23)) | P23: =O23 -> 0 | Q23: =IF(B23="","",IF(Mar!Q23="",Apr!P23,Mar!Q23+Apr!P23)) | S23: =R23/500 -> 0 | T23: =IF(B23="","",IF(Mar!T23="",Apr!S23,Mar!T23+Apr!S23)) | V23: =U23*10 -> 0 | W23: =IF(B23="","",IF(Mar!W23="",Apr!V23,Mar!W23+Apr!V23)) | AB23: =(R23/F23)/175 -> #DIV/0!
B24: =IF(Mar!B24="","",Mar!B24) | C24: =IF(Mar!C24="","",Mar!C24) | D24: =IF(B24="","",Mar!D24) | E24: =IF(C24="","",Mar!E24) | G24: =IF(B24="","",Mar!G24) | H24: =IF((F24>G24),((F24-G24)/G24),"") | J24: =I24*10 -> 0 | K24: =IF(B24="","",IF(Mar!K24="",Apr!K24,Mar!K24+Apr!J24)) | M24: =L24/2 -> 0 | N24: =IF(B24="","",IF(Mar!N24="",Apr!M24,Mar!N24+Apr!M24)) | P24: =O24 -> 0 | Q24: =IF(B24="","",IF(Mar!Q24="",Apr!P24,Mar!Q24+Apr!P24)) | S24: =R24/500 -> 0 | T24: =IF(B24="","",IF(Mar!T24="",Apr!S24,Mar!T24+Apr!S24)) | V24: =U24*10 -> 0 | W24: =IF(B24="","",IF(Mar!W24="",Apr!V24,Mar!W24+Apr!V24)) | AB24: =(R24/F24)/175 -> #DIV/0!
B25: =IF(Mar!B25="","",Mar!B25) | C25: =IF(Mar!C25="","",Mar!C25) | D25: =IF(B25="","",Mar!D25) | E25: =IF(C25="","",Mar!E25) | G25: =IF(B25="","",Mar!G25) | H25: =IF((F25>G25),((F25-G25)/G25),"") | J25: =I25*10 -> 0 | K25: =IF(B25="","",IF(Mar!K25="",Apr!K25,Mar!K25+Apr!J25)) | M25: =L25/2 -> 0 | N25: =IF(B25="","",IF(Mar!N25="",Apr!M25,Mar!N25+Apr!M25)) | P25: =O25 -> 0 | Q25: =IF(B25="","",IF(Mar!Q25="",Apr!P25,Mar!Q25+Apr!P25)) | S25: =R25/500 -> 0 | T25: =IF(B25="","",IF(Mar!T25="",Apr!S25,Mar!T25+Apr!S25)) | V25: =U25*10 -> 0 | W25: =IF(B25="","",IF(Mar!W25="",Apr!V25,Mar!W25+Apr!V25)) | AB25: =(R25/F25)/175 -> #DIV/0!
B26: =IF(Mar!B26="","",Mar!B26) | C26: =IF(Mar!C26="","",Mar!C26) | D26: =IF(B26="","",Mar!D26) | E26: =IF(C26="","",Mar!E26) | G26: =IF(B26="","",Mar!G26) | H26: =IF((F26>G26),((F26-G26)/G26),"") | J26: =I26*10 -> 0 | K26: =IF(B26="","",IF(Mar!K26="",Apr!K26,Mar!K26+Apr!J26)) | M26: =L26/2 -> 0 | N26: =IF(B26="","",IF(Mar!N26="",Apr!M26,Mar!N26+Apr!M26)) | P26: =O26 -> 0 | Q26: =IF(B26="","",IF(Mar!Q26="",Apr!P26,Mar!Q26+Apr!P26)) | S26: =R26/500 -> 0 | T26: =IF(B26="","",IF(Mar!T26="",Apr!S26,Mar!T26+Apr!S26)) | V26: =U26*10 -> 0 | W26: =IF(B26="","",IF(Mar!W26="",Apr!V26,Mar!W26+Apr!V26)) | AB26: =(R26/F26)/175 -> #DIV/0!
... B90: =IF(Mar!B90="","",Mar!B90) | C90: =IF(Mar!C90="","",Mar!C90) | D90: =IF(B90="","",Mar!D90) | E90: =IF(C90="","",Mar!E90) | G90: =IF(B90="","",Mar!G90) | H90: =IF((F90>G90),((F90-G90)/G90),"") | J90: =I90*10 -> 0 | K90: =IF(B90="","",IF(Mar!K90="",Apr!K90,Mar!K90+Apr!J90)) | M90: =L90/2 -> 0 | N90: =IF(B90="","",IF(Mar!N90="",Apr!M90,Mar!N90+Apr!M90)) | P90: =O90 -> 0 | Q90: =IF(B90="","",IF(Mar!Q90="",Apr!P90,Mar!Q90+Apr!P90)) | S90: =R90/500 -> 0 | T90: =IF(B90="","",IF(Mar!T90="",Apr!S90,Mar!T90+Apr!S90)) | V90: =U90*10 -> 0 | W90: =IF(B90="","",IF(Mar!W90="",Apr!V90,Mar!W90+Apr!V90)) | AB90: =(R90/F90)/175 -> #DIV/0!

Sheet May
B2: =CONCATENATE('GENERAL GUIDELINES & SITE INFO'!E27," - monthly returns of biomass and anti-parasitic usage") -> Scottish Seafarms Ltd - monthly returns of biomass and anti-parasitic usage
B4: =CONCATENATE("Please complete and return by ",'GENERAL GUIDELINES & SITE INFO'!G32) -> Please complete and return by 15 July 2011;
AA5: Please Note
B6: Site Name | C6: Site ID | D6: Licence | E6: SEPA Team Area | F6: Max biomass (tonnes) | G6: Licensed Biomass (tonnes) | H6: Exceedence | I6: Enter the amount of chemical used NOT active ingredient. Entire treatment quantity should be entered in month treatment is initiated. | X6: Feed Used (kgs) | Y6: Mortalities | AA6: If Slice entry is highlighted in red please confirm value is correct here
I7: Excis (litres) containing 1% cypermethrin | J7: Cyp (grams) | K7: Total | L7: Salmosan (grams) containing 50% azamethiphos | M7: Aza (grams) | N7: Total | O7: Calicide (grams) containing 100% teflubenzuron | P7: TFBZ (grams) | Q7: Total | R7: Slice (grams) containing 0.2% emamectin benzoate | S7: Ema (grams) | T7: Total | U7: AMX (litres) containing 1% deltamethrin | V7: Delt (grams) | W7: Total | Y7: Number | Z7: Total weight (kgs)
B8: =IF(Apr!B8="","",Apr!B8) -> Bring Head | C8: =IF(Apr!C8="","",Apr!C8) -> SCAP1 | D8: =IF(B8="","",Apr!D8) -> CAR/L/1015854 | E8: =IF(Apr!B8="","",Apr!E8) -> ORK | F8: 576 | G8: =IF(B8="","",Apr!G8) -> 968 | H8: =IF((F8>G8),((F8-G8)/G8),"") | J8: =I8*10 -> 0 | K8: =IF(B8="","",IF(Apr!K8="",May!J8,Apr!K8+May!J8)) -> 0 | M8: =L8/2 -> 0 | N8: =IF(B8="","",IF(Apr!N8="",May!M8,Apr!N8+May!M8)) -> 0 | P8: =O8 -> 0 | Q8: =IF(B8="","",IF(Apr!Q8="",May!P8,Apr!Q8+May!P8)) -> 0 | S8: =R8/500 -> 0 | T8: =IF(B8="","",IF(Apr!T8="",May!S8,Apr!T8+May!S8)) -> 0 | V8: =U8*10 -> 0 | W8: =IF(B8="","",IF(Apr!W8="",May!V8,Apr!W8+May!V8)) -> 0 | X8: 132200 | Y8: 538 | Z8: 1314 | AB8: =(R8/F8)/175 -> 0
B9: =IF(Apr!B9="","",Apr!B9) -> Eday Sound | C9: =IF(Apr!C9="","",Apr!C9) -> EDA1 | D9: =IF(B9="","",Apr!D9) -> CAR/L/1003956 | E9: =IF(Apr!B9="","",Apr!E9) -> ORK | G9: =IF(B9="","",Apr!G9) -> 800 | H9: =IF((F9>G9),((F9-G9)/G9),"") | J9: =I9*10 -> 0 | K9: =IF(B9="","",IF(Apr!K9="",May!J9,Apr!K9+May!J9)) -> 0 | M9: =L9/2 -> 0 | N9: =IF(B9="","",IF(Apr!N9="",May!M9,Apr!N9+May!M9)) -> 0 | P9: =O9 -> 0 | Q9: =IF(B9="","",IF(Apr!Q9="",May!P9,Apr!Q9+May!P9)) -> 0 | S9: =R9/500 -> 0 | T9: =IF(B9="","",IF(Apr!T9="",May!S9,Apr!T9+May!S9)) -> 0 | V9: =U9*10 -> 0 | W9: =IF(B9="","",IF(Apr!W9="",May!V9,Apr!W9+May!V9)) -> 0 | AB9: =(R9/F9)/175 -> #DIV/0!
B10: =IF(Apr!B10="","",Apr!B10) -> Kirk Taing | C10: =IF(Apr!C10="","",Apr!C10) -> MILL1 | D10: =IF(B10="","",Apr!D10) -> CAR/L/1003952 | E10: =IF(Apr!B10="","",Apr!E10) -> ORK | G10: =IF(B10="","",Apr!G10) -> 800 | H10: =IF((F10>G10),((F10-G10)/G10),"") | J10: =I10*10 -> 0 | K10: =IF(B10="","",IF(Apr!K10="",May!J10,Apr!K10+May!J10)) -> 0 | M10: =L10/2 -> 0 | N10: =IF(B10="","",IF(Apr!N10="",May!M10,Apr!N10+May!M10)) -> 0 | P10: =O10 -> 0 | Q10: =IF(B10="","",IF(Apr!Q10="",May!P10,Apr!Q10+May!P10)) -> 0 | S10: =R10/500 -> 0 | T10: =IF(B10="","",IF(Apr!T10="",May!S10,Apr!T10+May!S10)) -> 0 | V10: =U10*10 -> 0 | W10: =IF(B10="","",IF(Apr!W10="",May!V10,Apr!W10+May!V10)) -> 0 | AB10: =(R10/F10)/175 -> #DIV/0!
B11: =IF(Apr!B11="","",Apr!B11) -> Mill Bay, Stronsay | C11: =IF(Apr!C11="","",Apr!C11) -> MIL1 | D11: =IF(B11="","",Apr!D11) -> CAR/L/1034607 | E11: =IF(Apr!B11="","",Apr!E11) -> ORK | G11: =IF(B11="","",Apr!G11) -> 750 | H11: =IF((F11>G11),((F11-G11)/G11),"") | J11: =I11*10 -> 0 | K11: =IF(B11="","",IF(Apr!K11="",May!J11,Apr!K11+May!J11)) -> 0 | M11: =L11/2 -> 0 | N11: =IF(B11="","",IF(Apr!N11="",May!M11,Apr!N11+May!M11)) -> 0 | P11: =O11 -> 0 | Q11: =IF(B11="","",IF(Apr!Q11="",May!P11,Apr!Q11+May!P11)) -> 0 | S11: =R11/500 -> 0 | T11: =IF(B11="","",IF(Apr!T11="",May!S11,Apr!T11+May!S11)) -> 0 | V11: =U11*10 -> 0 | W11: =IF(B11="","",IF(Apr!W11="",May!V11,Apr!W11+May!V11)) -> 0 | AB11: =(R11/F11)/175 -> #DIV/0!
B12: =IF(Apr!B12="","",Apr!B12) -> Puldrite Bay | C12: =IF(Apr!C12="","",Apr!C12) -> PUL1 | D12: =IF(B12="","",Apr!D12) -> CAR/L/1003954 | E12: =IF(Apr!B12="","",Apr!E12) -> ORK | F12: 0 | G12: =IF(B12="","",Apr!G12) -> 980 | H12: =IF((F12>G12),((F12-G12)/G12),"") | J12: =I12*10 -> 0 | K12: =IF(B12="","",IF(Apr!K12="",May!J12,Apr!K12+May!J12)) -> 0 | M12: =L12/2 -> 0 | N12: =IF(B12="","",IF(Apr!N12="",May!M12,Apr!N12+May!M12)) -> 0 | P12: =O12 -> 0 | Q12: =IF(B12="","",IF(Apr!Q12="",May!P12,Apr!Q12+May!P12)) -> 0 | S12: =R12/500 -> 0 | T12: =IF(B12="","",IF(Apr!T12="",May!S12,Apr!T12+May!S12)) -> 0 | V12: =U12*10 -> 0 | W12: =IF(B12="","",IF(Apr!W12="",May!V12,Apr!W12+May!V12)) -> 0 | AB12: =(R12/F12)/175 -> #DIV/0!
B13: =IF(Apr!B13="","",Apr!B13) -> Toy Ness | C13: =IF(Apr!C13="","",Apr!C13) -> TOYN1 | D13: =IF(B13="","",Apr!D13) -> CAR/L/1015855 | E13: =IF(Apr!B13="","",Apr!E13) -> ORK | F13: 450 | G13: =IF(B13="","",Apr!G13) -> 650 | H13: =IF((F13>G13),((F13-G13)/G13),"") | J13: =I13*10 -> 0 | K13: =IF(B13="","",IF(Apr!K13="",May!J13,Apr!K13+May!J13)) -> 0 | M13: =L13/2 -> 0 | N13: =IF(B13="","",IF(Apr!N13="",May!M13,Apr!N13+May!M13)) -> 0 | P13: =O13 -> 0 | Q13: =IF(B13="","",IF(Apr!Q13="",May!P13,Apr!Q13+May!P13)) -> 0 | S13: =R13/500 -> 0 | T13: =IF(B13="","",IF(Apr!T13="",May!S13,Apr!T13+May!S13)) -> 0 | V13: =U13*10 -> 0 | W13: =IF(B13="","",IF(Apr!W13="",May!V13,Apr!W13+May!V13)) -> 0 | X13: 102850 | Y13: 343 | Z13: 810 | AB13: =(R13/F13)/175 -> 0
B14: =IF(Apr!B14="","",Apr!B14) -> Veantrow Bay | C14: =IF(Apr!C14="","",Apr!C14) -> VEA1 | D14: =IF(B14="","",Apr!D14) -> CAR/L/1003931 | E14: =IF(Apr!B14="","",Apr!E14) -> ORK | F14: 308 | G14: =IF(B14="","",Apr!G14) -> 1264 | H14: =IF((F14>G14),((F14-G14)/G14),"") | J14: =I14*10 -> 0 | K14: =IF(B14="","",IF(Apr!K14="",May!J14,Apr!K14+May!J14)) -> 0 | M14: =L14/2 -> 0 | N14: =IF(B14="","",IF(Apr!N14="",May!M14,Apr!N14+May!M14)) -> 0 | P14: =O14 -> 0 | Q14: =IF(B14="","",IF(Apr!Q14="",May!P14,Apr!Q14+May!P14)) -> 0 | S14: =R14/500 -> 0 | T14: =IF(B14="","",IF(Apr!T14="",May!S14,Apr!T14+May!S14)) -> 0 | V14: =U14*10 -> 0 | W14: =IF(B14="","",IF(Apr!W14="",May!V14,Apr!W14+May!V14)) -> 0 | X14: 69093 | Y14: 1526 | Z14: 530 | AB14: =(R14/F14)/175 -> 0
B15: =IF(Apr!B15="","",Apr!B15) | C15: =IF(Apr!C15="","",Apr!C15) | D15: =IF(B15="","",Apr!D15) | E15: =IF(Apr!B15="","",Apr!E15) | G15: =IF(B15="","",Apr!G15) | H15: =IF((F15>G15),((F15-G15)/G15),"") | J15: =I15*10 -> 0 | K15: =IF(B15="","",IF(Apr!K15="",May!J15,Apr!K15+May!J15)) | M15: =L15/2 -> 0 | N15: =IF(B15="","",IF(Apr!N15="",May!M15,Apr!N15+May!M15)) | P15: =O15 -> 0 | Q15: =IF(B15="","",IF(Apr!Q15="",May!P15,Apr!Q15+May!P15)) | S15: =R15/500 -> 0 | T15: =IF(B15="","",IF(Apr!T15="",May!S15,Apr!T15+May!S15)) | V15: =U15*10 -> 0 | W15: =IF(B15="","",IF(Apr!W15="",May!V15,Apr!W15+May!V15)) | AB15: =(R15/F15)/175 -> #DIV/0!
B16: =IF(Apr!B16="","",Apr!B16) | C16: =IF(Apr!C16="","",Apr!C16) | D16: =IF(B16="","",Apr!D16) | E16: =IF(Apr!B16="","",Apr!E16) | G16: =IF(B16="","",Apr!G16) | H16: =IF((F16>G16),((F16-G16)/G16),"") | J16: =I16*10 -> 0 | K16: =IF(B16="","",IF(Apr!K16="",May!J16,Apr!K16+May!J16)) | M16: =L16/2 -> 0 | N16: =IF(B16="","",IF(Apr!N16="",May!M16,Apr!N16+May!M16)) | P16: =O16 -> 0 | Q16: =IF(B16="","",IF(Apr!Q16="",May!P16,Apr!Q16+May!P16)) | S16: =R16/500 -> 0 | T16: =IF(B16="","",IF(Apr!T16="",May!S16,Apr!T16+May!S16)) | V16: =U16*10 -> 0 | W16: =IF(B16="","",IF(Apr!W16="",May!V16,Apr!W16+May!V16)) | AB16: =(R16/F16)/175 -> #DIV/0!
B17: =IF(Apr!B17="","",Apr!B17) | C17: =IF(Apr!C17="","",Apr!C17) | D17: =IF(B17="","",Apr!D17) | E17: =IF(Apr!B17="","",Apr!E17) | G17: =IF(B17="","",Apr!G17) | H17: =IF((F17>G17),((F17-G17)/G17),"") | J17: =I17*10 -> 0 | K17: =IF(B17="","",IF(Apr!K17="",May!J17,Apr!K17+May!J17)) | M17: =L17/2 -> 0 | N17: =IF(B17="","",IF(Apr!N17="",May!M17,Apr!N17+May!M17)) | P17: =O17 -> 0 | Q17: =IF(B17="","",IF(Apr!Q17="",May!P17,Apr!Q17+May!P17)) | S17: =R17/500 -> 0 | T17: =IF(B17="","",IF(Apr!T17="",May!S17,Apr!T17+May!S17)) | V17: =U17*10 -> 0 | W17: =IF(B17="","",IF(Apr!W17="",May!V17,Apr!W17+May!V17)) | AB17: =(R17/F17)/175 -> #DIV/0!
B18: =IF(Apr!B18="","",Apr!B18) | C18: =IF(Apr!C18="","",Apr!C18) | D18: =IF(B18="","",Apr!D18) | E18: =IF(Apr!B18="","",Apr!E18) | G18: =IF(B18="","",Apr!G18) | H18: =IF((F18>G18),((F18-G18)/G18),"") | J18: =I18*10 -> 0 | K18: =IF(B18="","",IF(Apr!K18="",May!J18,Apr!K18+May!J18)) | M18: =L18/2 -> 0 | N18: =IF(B18="","",IF(Apr!N18="",May!M18,Apr!N18+May!M18)) | P18: =O18 -> 0 | Q18: =IF(B18="","",IF(Apr!Q18="",May!P18,Apr!Q18+May!P18)) | S18: =R18/500 -> 0 | T18: =IF(B18="","",IF(Apr!T18="",May!S18,Apr!T18+May!S18)) | V18: =U18*10 -> 0 | W18: =IF(B18="","",IF(Apr!W18="",May!V18,Apr!W18+May!V18)) | AB18: =(R18/F18)/175 -> #DIV/0!
B19: =IF(Apr!B19="","",Apr!B19) | C19: =IF(Apr!C19="","",Apr!C19) | D19: =IF(B19="","",Apr!D19) | E19: =IF(Apr!B19="","",Apr!E19) | G19: =IF(B19="","",Apr!G19) | H19: =IF((F19>G19),((F19-G19)/G19),"") | J19: =I19*10 -> 0 | K19: =IF(B19="","",IF(Apr!K19="",May!J19,Apr!K19+May!J19)) | M19: =L19/2 -> 0 | N19: =IF(B19="","",IF(Apr!N19="",May!M19,Apr!N19+May!M19)) | P19: =O19 -> 0 | Q19: =IF(B19="","",IF(Apr!Q19="",May!P19,Apr!Q19+May!P19)) | S19: =R19/500 -> 0 | T19: =IF(B19="","",IF(Apr!T19="",May!S19,Apr!T19+May!S19)) | V19: =U19*10 -> 0 | W19: =IF(B19="","",IF(Apr!W19="",May!V19,Apr!W19+May!V19)) | AB19: =(R19/F19)/175 -> #DIV/0!
B20: =IF(Apr!B20="","",Apr!B20) | C20: =IF(Apr!C20="","",Apr!C20) | D20: =IF(B20="","",Apr!D20) | E20: =IF(Apr!B20="","",Apr!E20) | G20: =IF(B20="","",Apr!G20) | H20: =IF((F20>G20),((F20-G20)/G20),"") | J20: =I20*10 -> 0 | K20: =IF(B20="","",IF(Apr!K20="",May!J20,Apr!K20+May!J20)) | M20: =L20/2 -> 0 | N20: =IF(B20="","",IF(Apr!N20="",May!M20,Apr!N20+May!M20)) | P20: =O20 -> 0 | Q20: =IF(B20="","",IF(Apr!Q20="",May!P20,Apr!Q20+May!P20)) | S20: =R20/500 -> 0 | T20: =IF(B20="","",IF(Apr!T20="",May!S20,Apr!T20+May!S20)) | V20: =U20*10 -> 0 | W20: =IF(B20="","",IF(Apr!W20="",May!V20,Apr!W20+May!V20)) | AB20: =(R20/F20)/175 -> #DIV/0!
B21: =IF(Apr!B21="","",Apr!B21) | C21: =IF(Apr!C21="","",Apr!C21) | D21: =IF(B21="","",Apr!D21) | E21: =IF(Apr!B21="","",Apr!E21) | G21: =IF(B21="","",Apr!G21) | H21: =IF((F21>G21),((F21-G21)/G21),"") | J21: =I21*10 -> 0 | K21: =IF(B21="","",IF(Apr!K21="",May!J21,Apr!K21+May!J21)) | M21: =L21/2 -> 0 | N21: =IF(B21="","",IF(Apr!N21="",May!M21,Apr!N21+May!M21)) | P21: =O21 -> 0 | Q21: =IF(B21="","",IF(Apr!Q21="",May!P21,Apr!Q21+May!P21)) | S21: =R21/500 -> 0 | T21: =IF(B21="","",IF(Apr!T21="",May!S21,Apr!T21+May!S21)) | V21: =U21*10 -> 0 | W21: =IF(B21="","",IF(Apr!W21="",May!V21,Apr!W21+May!V21)) | AB21: =(R21/F21)/175 -> #DIV/0!
B22: =IF(Apr!B22="","",Apr!B22) | C22: =IF(Apr!C22="","",Apr!C22) | D22: =IF(B22="","",Apr!D22) | E22: =IF(Apr!B22="","",Apr!E22) | G22: =IF(B22="","",Apr!G22) | H22: =IF((F22>G22),((F22-G22)/G22),"") | J22: =I22*10 -> 0 | K22: =IF(B22="","",IF(Apr!K22="",May!J22,Apr!K22+May!J22)) | M22: =L22/2 -> 0 | N22: =IF(B22="","",IF(Apr!N22="",May!M22,Apr!N22+May!M22)) | P22: =O22 -> 0 | Q22: =IF(B22="","",IF(Apr!Q22="",May!P22,Apr!Q22+May!P22)) | S22: =R22/500 -> 0 | T22: =IF(B22="","",IF(Apr!T22="",May!S22,Apr!T22+May!S22)) | V22: =U22*10 -> 0 | W22: =IF(B22="","",IF(Apr!W22="",May!V22,Apr!W22+May!V22)) | AB22: =(R22/F22)/175 -> #DIV/0!
B23: =IF(Apr!B23="","",Apr!B23) | C23: =IF(Apr!C23="","",Apr!C23) | D23: =IF(B23="","",Apr!D23) | E23: =IF(Apr!B23="","",Apr!E23) | G23: =IF(B23="","",Apr!G23) | H23: =IF((F23>G23),((F23-G23)/G23),"") | J23: =I23*10 -> 0 | K23: =IF(B23="","",IF(Apr!K23="",May!J23,Apr!K23+May!J23)) | M23: =L23/2 -> 0 | N23: =IF(B23="","",IF(Apr!N23="",May!M23,Apr!N23+May!M23)) | P23: =O23 -> 0 | Q23: =IF(B23="","",IF(Apr!Q23="",May!P23,Apr!Q23+May!P23)) | S23: =R23/500 -> 0 | T23: =IF(B23="","",IF(Apr!T23="",May!S23,Apr!T23+May!S23)) | V23: =U23*10 -> 0 | W23: =IF(B23="","",IF(Apr!W23="",May!V23,Apr!W23+May!V23)) | AB23: =(R23/F23)/175 -> #DIV/0!
B24: =IF(Apr!B24="","",Apr!B24) | C24: =IF(Apr!C24="","",Apr!C24) | D24: =IF(B24="","",Apr!D24) | E24: =IF(Apr!B24="","",Apr!E24) | G24: =IF(B24="","",Apr!G24) | H24: =IF((F24>G24),((F24-G24)/G24),"") | J24: =I24*10 -> 0 | K24: =IF(B24="","",IF(Apr!K24="",May!J24,Apr!K24+May!J24)) | M24: =L24/2 -> 0 | N24: =IF(B24="","",IF(Apr!N24="",May!M24,Apr!N24+May!M24)) | P24: =O24 -> 0 | Q24: =IF(B24="","",IF(Apr!Q24="",May!P24,Apr!Q24+May!P24)) | S24: =R24/500 -> 0 | T24: =IF(B24="","",IF(Apr!T24="",May!S24,Apr!T24+May!S24)) | V24: =U24*10 -> 0 | W24: =IF(B24="","",IF(Apr!W24="",May!V24,Apr!W24+May!V24)) | AB24: =(R24/F24)/175 -> #DIV/0!
B25: =IF(Apr!B25="","",Apr!B25) | C25: =IF(Apr!C25="","",Apr!C25) | D25: =IF(B25="","",Apr!D25) | E25: =IF(Apr!B25="","",Apr!E25) | G25: =IF(B25="","",Apr!G25) | H25: =IF((F25>G25),((F25-G25)/G25),"") | J25: =I25*10 -> 0 | K25: =IF(B25="","",IF(Apr!K25="",May!J25,Apr!K25+May!J25)) | M25: =L25/2 -> 0 | N25: =IF(B25="","",IF(Apr!N25="",May!M25,Apr!N25+May!M25)) | P25: =O25 -> 0 | Q25: =IF(B25="","",IF(Apr!Q25="",May!P25,Apr!Q25+May!P25)) | S25: =R25/500 -> 0 | T25: =IF(B25="","",IF(Apr!T25="",May!S25,Apr!T25+May!S25)) | V25: =U25*10 -> 0 | W25: =IF(B25="","",IF(Apr!W25="",May!V25,Apr!W25+May!V25)) | AB25: =(R25/F25)/175 -> #DIV/0!
B26: =IF(Apr!B26="","",Apr!B26) | C26: =IF(Apr!C26="","",Apr!C26) | D26: =IF(B26="","",Apr!D26) | E26: =IF(Apr!B26="","",Apr!E26) | G26: =IF(B26="","",Apr!G26) | H26: =IF((F26>G26),((F26-G26)/G26),"") | J26: =I26*10 -> 0 | K26: =IF(B26="","",IF(Apr!K26="",May!J26,Apr!K26+May!J26)) | M26: =L26/2 -> 0 | N26: =IF(B26="","",IF(Apr!N26="",May!M26,Apr!N26+May!M26)) | P26: =O26 -> 0 | Q26: =IF(B26="","",IF(Apr!Q26="",May!P26,Apr!Q26+May!P26)) | S26: =R26/500 -> 0 | T26: =IF(B26="","",IF(Apr!T26="",May!S26,Apr!T26+May!S26)) | V26: =U26*10 -> 0 | W26: =IF(B26="","",IF(Apr!W26="",May!V26,Apr!W26+May!V26)) | AB26: =(R26/F26)/175 -> #DIV/0!
... B90: =IF(Apr!B90="","",Apr!B90) | C90: =IF(Apr!C90="","",Apr!C90) | D90: =IF(B90="","",Apr!D90) | E90: =IF(Apr!B90="","",Apr!E90) | G90: =IF(B90="","",Apr!G90) | H90: =IF((F90>G90),((F90-G90)/G90),"") | J90: =I90*10 -> 0 | K90: =IF(B90="","",IF(Apr!K90="",May!J90,Apr!K90+May!J90)) | M90: =L90/2 -> 0 | N90: =IF(B90="","",IF(Apr!N90="",May!M90,Apr!N90+May!M90)) | P90: =O90 -> 0 | Q90: =IF(B90="","",IF(Apr!Q90="",May!P90,Apr!Q90+May!P90)) | S90: =R90/500 -> 0 | T90: =IF(B90="","",IF(Apr!T90="",May!S90,Apr!T90+May!S90)) | V90: =U90*10 -> 0 | W90: =IF(B90="","",IF(Apr!W90="",May!V90,Apr!W90+May!V90)) | AB90: =(R90/F90)/175 -> #DIV/0!

Sheet June
B2: =CONCATENATE('GENERAL GUIDELINES & SITE INFO'!E27," - monthly returns of biomass and anti-parasitic usage") -> Scottish Seafarms Ltd - monthly returns of biomass and anti-parasitic usage
B4: =CONCATENATE("Please complete and return by ",'GENERAL GUIDELINES & SITE INFO'!G32) -> Please complete and return by 15 July 2011;
AA5: Please Note
B6: Site Name | C6: Site ID | D6: Licence | E6: SEPA Team Area | F6: Max biomass (tonnes) | G6: Licensed Biomass (tonnes) | H6: Exceedence | I6: Enter the amount of chemical used NOT active ingredient. Entire treatment quantity should be entered in month treatment is initiated. | X6: Feed Used (kgs) | Y6: Mortalities | AA6: If Slice entry is highlighted in red please confirm value is correct here
I7: Excis (litres) containing 1% cypermethrin | J7: Cyp (grams) | K7: Total | L7: Salmosan (grams) containing 50% azamethiphos | M7: Aza (grams) | N7: Total | O7: Calicide (grams) containing 100% teflubenzuron | P7: TFBZ (grams) | Q7: Total | R7: Slice (grams) containing 0.2% emamectin benzoate | S7: Ema (grams) | T7: Total | U7: AMX (litres) containing 1% deltamethrin | V7: Delt (grams) | W7: Total | Y7: Number | Z7: Total weight (kgs)
B8: =IF(May!B8="","",May!B8) -> Bring Head | C8: =IF(May!C8="","",May!C8) -> SCAP1 | D8: =IF(B8="","",May!D8) -> CAR/L/1015854 | E8: =IF(May!B8="","",May!E8) -> ORK | F8: 644 | G8: =IF(B8="","",May!G8) -> 968 | H8: =IF((F8>G8),((F8-G8)/G8),"") | J8: =I8*10 -> 0 | K8: =IF(B8="","",IF(May!K8="",June!J8,May!K8+June!J8)) -> 0 | M8: =L8/2 -> 0 | N8: =IF(B8="","",IF(May!N8="",June!M8,May!N8+June!M8)) -> 0 | P8: =O8 -> 0 | Q8: =IF(B8="","",IF(May!Q8="",June!P8,May!Q8+June!P8)) -> 0 | S8: =R8/500 -> 0 | T8: =IF(B8="","",IF(May!T8="",June!S8,May!T8+June!S8)) -> 0 | V8: =U8*10 -> 0 | W8: =IF(B8="","",IF(May!W8="",June!V8,May!W8+June!V8)) -> 0 | X8: 219325 | Y8: 587 | Z8: 1906 | AB8: =(R8/F8)/175 -> 0
B9: =IF(May!B9="","",May!B9) -> Eday Sound | C9: =IF(May!C9="","",May!C9) -> EDA1 | D9: =IF(B9="","",May!D9) -> CAR/L/1003956 | E9: =IF(May!B9="","",May!E9) -> ORK | G9: =IF(B9="","",May!G9) -> 800 | H9: =IF((F9>G9),((F9-G9)/G9),"") | J9: =I9*10 -> 0 | K9: =IF(B9="","",IF(May!K9="",June!J9,May!K9+June!J9)) -> 0 | M9: =L9/2 -> 0 | N9: =IF(B9="","",IF(May!N9="",June!M9,May!N9+June!M9)) -> 0 | P9: =O9 -> 0 | Q9: =IF(B9="","",IF(May!Q9="",June!P9,May!Q9+June!P9)) -> 0 | S9: =R9/500 -> 0 | T9: =IF(B9="","",IF(May!T9="",June!S9,May!T9+June!S9)) -> 0 | V9: =U9*10 -> 0 | W9: =IF(B9="","",IF(May!W9="",June!V9,May!W9+June!V9)) -> 0 | AB9: =(R9/F9)/175 -> #DIV/0!
B10: =IF(May!B10="","",May!B10) -> Kirk Taing | C10: =IF(May!C10="","",May!C10) -> MILL1 | D10: =IF(B10="","",May!D10) -> CAR/L/1003952 | E10: =IF(May!B10="","",May!E10) -> ORK | G10: =IF(B10="","",May!G10) -> 800 | H10: =IF((F10>G10),((F10-G10)/G10),"") | J10: =I10*10 -> 0 | K10: =IF(B10="","",IF(May!K10="",June!J10,May!K10+June!J10)) -> 0 | M10: =L10/2 -> 0 | N10: =IF(B10="","",IF(May!N10="",June!M10,May!N10+June!M10)) -> 0 | P10: =O10 -> 0 | Q10: =IF(B10="","",IF(May!Q10="",June!P10,May!Q10+June!P10)) -> 0 | S10: =R10/500 -> 0 | T10: =IF(B10="","",IF(May!T10="",June!S10,May!T10+June!S10)) -> 0 | V10: =U10*10 -> 0 | W10: =IF(B10="","",IF(May!W10="",June!V10,May!W10+June!V10)) -> 0 | AB10: =(R10/F10)/175 -> #DIV/0!
B11: =IF(May!B11="","",May!B11) -> Mill Bay, Stronsay | C11: =IF(May!C11="","",May!C11) -> MIL1 | D11: =IF(B11="","",May!D11) -> CAR/L/1034607 | E11: =IF(May!B11="","",May!E11) -> ORK | G11: =IF(B11="","",May!G11) -> 750 | H11: =IF((F11>G11),((F11-G11)/G11),"") | J11: =I11*10 -> 0 | K11: =IF(B11="","",IF(May!K11="",June!J11,May!K11+June!J11)) -> 0 | M11: =L11/2 -> 0 | N11: =IF(B11="","",IF(May!N11="",June!M11,May!N11+June!M11)) -> 0 | P11: =O11 -> 0 | Q11: =IF(B11="","",IF(May!Q11="",June!P11,May!Q11+June!P11)) -> 0 | S11: =R11/500 -> 0 | T11: =IF(B11="","",IF(May!T11="",June!S11,May!T11+June!S11)) -> 0 | V11: =U11*10 -> 0 | W11: =IF(B11="","",IF(May!W11="",June!V11,May!W11+June!V11)) -> 0 | AB11: =(R11/F11)/175 -> #DIV/0!
B12: =IF(May!B12="","",May!B12) -> Puldrite Bay | C12: =IF(May!C12="","",May!C12) -> PUL1 | D12: =IF(B12="","",May!D12) -> CAR/L/1003954 | E12: =IF(May!B12="","",May!E12) -> ORK | F12: 0 | G12: =IF(B12="","",May!G12) -> 980 | H12: =IF((F12>G12),((F12-G12)/G12),"") | J12: =I12*10 -> 0 | K12: =IF(B12="","",IF(May!K12="",June!J12,May!K12+June!J12)) -> 0 | M12: =L12/2 -> 0 | N12: =IF(B12="","",IF(May!N12="",June!M12,May!N12+June!M12)) -> 0 | P12: =O12 -> 0 | Q12: =IF(B12="","",IF(May!Q12="",June!P12,May!Q12+June!P12)) -> 0 | S12: =R12/500 -> 0 | T12: =IF(B12="","",IF(May!T12="",June!S12,May!T12+June!S12)) -> 0 | V12: =U12*10 -> 0 | W12: =IF(B12="","",IF(May!W12="",June!V12,May!W12+June!V12)) -> 0 | AB12: =(R12/F12)/175 -> #DIV/0!
B13: =IF(May!B13="","",May!B13) -> Toy Ness | C13: =IF(May!C13="","",May!C13) -> TOYN1 | D13: =IF(B13="","",May!D13) -> CAR/L/1015855 | E13: =IF(May!B13="","",May!E13) -> ORK | F13: 485 | G13: =IF(B13="","",May!G13) -> 650 | H13: =IF((F13>G13),((F13-G13)/G13),"") | J13: =I13*10 -> 0 | K13: =IF(B13="","",IF(May!K13="",June!J13,May!K13+June!J13)) -> 0 | M13: =L13/2 -> 0 | N13: =IF(B13="","",IF(May!N13="",June!M13,May!N13+June!M13)) -> 0 | P13: =O13 -> 0 | Q13: =IF(B13="","",IF(May!Q13="",June!P13,May!Q13+June!P13)) -> 0 | S13: =R13/500 -> 0 | T13: =IF(B13="","",IF(May!T13="",June!S13,May!T13+June!S13)) -> 0 | V13: =U13*10 -> 0 | W13: =IF(B13="","",IF(May!W13="",June!V13,May!W13+June!V13)) -> 0 | X13: 145425 | Y13: 378 | Z13: 1129 | AB13: =(R13/F13)/175 -> 0
B14: =IF(May!B14="","",May!B14) -> Veantrow Bay | C14: =IF(May!C14="","",May!C14) -> VEA1 | D14: =IF(B14="","",May!D14) -> CAR/L/1003931 | E14: =IF(May!B14="","",May!E14) -> ORK | F14: 434 | G14: =IF(B14="","",May!G14) -> 1264 | H14: =IF((F14>G14),((F14-G14)/G14),"") | J14: =I14*10 -> 0 | K14: =IF(B14="","",IF(May!K14="",June!J14,May!K14+June!J14)) -> 0 | M14: =L14/2 -> 0 | N14: =IF(B14="","",IF(May!N14="",June!M14,May!N14+June!M14)) -> 0 | P14: =O14 -> 0 | Q14: =IF(B14="","",IF(May!Q14="",June!P14,May!Q14+June!P14)) -> 0 | S14: =R14/500 -> 0 | T14: =IF(B14="","",IF(May!T14="",June!S14,May!T14+June!S14)) -> 0 | V14: =U14*10 -> 0 | W14: =IF(B14="","",IF(May!W14="",June!V14,May!W14+June!V14)) -> 0 | X14: 141796 | Y14: 2638 | Z14: 1081 | AB14: =(R14/F14)/175 -> 0
B15: =IF(May!B15="","",May!B15) | C15: =IF(May!C15="","",May!C15) | D15: =IF(B15="","",May!D15) | E15: =IF(May!B15="","",May!E15) | G15: =IF(B15="","",May!G15) | H15: =IF((F15>G15),((F15-G15)/G15),"") | J15: =I15*10 -> 0 | K15: =IF(B15="","",IF(May!K15="",June!J15,May!K15+June!J15)) | M15: =L15/2 -> 0 | N15: =IF(B15="","",IF(May!N15="",June!M15,May!N15+June!M15)) | P15: =O15 -> 0 | Q15: =IF(B15="","",IF(May!Q15="",June!P15,May!Q15+June!P15)) | S15: =R15/500 -> 0 | T15: =IF(B15="","",IF(May!T15="",June!S15,May!T15+June!S15)) | V15: =U15*10 -> 0 | W15: =IF(B15="","",IF(May!W15="",June!V15,May!W15+June!V15)) | AB15: =(R15/F15)/175 -> #DIV/0!
B16: =IF(May!B16="","",May!B16) | C16: =IF(May!C16="","",May!C16) | D16: =IF(B16="","",May!D16) | E16: =IF(May!B16="","",May!E16) | G16: =IF(B16="","",May!G16) | H16: =IF((F16>G16),((F16-G16)/G16),"") | J16: =I16*10 -> 0 | K16: =IF(B16="","",IF(May!K16="",June!J16,May!K16+June!J16)) | M16: =L16/2 -> 0 | N16: =IF(B16="","",IF(May!N16="",June!M16,May!N16+June!M16)) | P16: =O16 -> 0 | Q16: =IF(B16="","",IF(May!Q16="",June!P16,May!Q16+June!P16)) | S16: =R16/500 -> 0 | T16: =IF(B16="","",IF(May!T16="",June!S16,May!T16+June!S16)) | V16: =U16*10 -> 0 | W16: =IF(B16="","",IF(May!W16="",June!V16,May!W16+June!V16)) | AB16: =(R16/F16)/175 -> #DIV/0!
B17: =IF(May!B17="","",May!B17) | C17: =IF(May!C17="","",May!C17) | D17: =IF(B17="","",May!D17) | E17: =IF(May!B17="","",May!E17) | G17: =IF(B17="","",May!G17) | H17: =IF((F17>G17),((F17-G17)/G17),"") | J17: =I17*10 -> 0 | K17: =IF(B17="","",IF(May!K17="",June!J17,May!K17+June!J17)) | M17: =L17/2 -> 0 | N17: =IF(B17="","",IF(May!N17="",June!M17,May!N17+June!M17)) | P17: =O17 -> 0 | Q17: =IF(B17="","",IF(May!Q17="",June!P17,May!Q17+June!P17)) | S17: =R17/500 -> 0 | T17: =IF(B17="","",IF(May!T17="",June!S17,May!T17+June!S17)) | V17: =U17*10 -> 0 | W17: =IF(B17="","",IF(May!W17="",June!V17,May!W17+June!V17)) | AB17: =(R17/F17)/175 -> #DIV/0!
B18: =IF(May!B18="","",May!B18) | C18: =IF(May!C18="","",May!C18) | D18: =IF(B18="","",May!D18) | E18: =IF(May!B18="","",May!E18) | G18: =IF(B18="","",May!G18) | H18: =IF((F18>G18),((F18-G18)/G18),"") | J18: =I18*10 -> 0 | K18: =IF(B18="","",IF(May!K18="",June!J18,May!K18+June!J18)) | M18: =L18/2 -> 0 | N18: =IF(B18="","",IF(May!N18="",June!M18,May!N18+June!M18)) | P18: =O18 -> 0 | Q18: =IF(B18="","",IF(May!Q18="",June!P18,May!Q18+June!P18)) | S18: =R18/500 -> 0 | T18: =IF(B18="","",IF(May!T18="",June!S18,May!T18+June!S18)) | V18: =U18*10 -> 0 | W18: =IF(B18="","",IF(May!W18="",June!V18,May!W18+June!V18)) | AB18: =(R18/F18)/175 -> #DIV/0!
B19: =IF(May!B19="","",May!B19) | C19: =IF(May!C19="","",May!C19) | D19: =IF(B19="","",May!D19) | E19: =IF(May!B19="","",May!E19) | G19: =IF(B19="","",May!G19) | H19: =IF((F19>G19),((F19-G19)/G19),"") | J19: =I19*10 -> 0 | K19: =IF(B19="","",IF(May!K19="",June!J19,May!K19+June!J19)) | M19: =L19/2 -> 0 | N19: =IF(B19="","",IF(May!N19="",June!M19,May!N19+June!M19)) | P19: =O19 -> 0 | Q19: =IF(B19="","",IF(May!Q19="",June!P19,May!Q19+June!P19)) | S19: =R19/500 -> 0 | T19: =IF(B19="","",IF(May!T19="",June!S19,May!T19+June!S19)) | V19: =U19*10 -> 0 | W19: =IF(B19="","",IF(May!W19="",June!V19,May!W19+June!V19)) | AB19: =(R19/F19)/175 -> #DIV/0!
B20: =IF(May!B20="","",May!B20) | C20: =IF(May!C20="","",May!C20) | D20: =IF(B20="","",May!D20) | E20: =IF(May!B20="","",May!E20) | G20: =IF(B20="","",May!G20) | H20: =IF((F20>G20),((F20-G20)/G20),"") | J20: =I20*10 -> 0 | K20: =IF(B20="","",IF(May!K20="",June!J20,May!K20+June!J20)) | M20: =L20/2 -> 0 | N20: =IF(B20="","",IF(May!N20="",June!M20,May!N20+June!M20)) | P20: =O20 -> 0 | Q20: =IF(B20="","",IF(May!Q20="",June!P20,May!Q20+June!P20)) | S20: =R20/500 -> 0 | T20: =IF(B20="","",IF(May!T20="",June!S20,May!T20+June!S20)) | V20: =U20*10 -> 0 | W20: =IF(B20="","",IF(May!W20="",June!V20,May!W20+June!V20)) | AB20: =(R20/F20)/175 -> #DIV/0!
B21: =IF(May!B21="","",May!B21) | C21: =IF(May!C21="","",May!C21) | D21: =IF(B21="","",May!D21) | E21: =IF(May!B21="","",May!E21) | G21: =IF(B21="","",May!G21) | H21: =IF((F21>G21),((F21-G21)/G21),"") | J21: =I21*10 -> 0 | K21: =IF(B21="","",IF(May!K21="",June!J21,May!K21+June!J21)) | M21: =L21/2 -> 0 | N21: =IF(B21="","",IF(May!N21="",June!M21,May!N21+June!M21)) | P21: =O21 -> 0 | Q21: =IF(B21="","",IF(May!Q21="",June!P21,May!Q21+June!P21)) | S21: =R21/500 -> 0 | T21: =IF(B21="","",IF(May!T21="",June!S21,May!T21+June!S21)) | V21: =U21*10 -> 0 | W21: =IF(B21="","",IF(May!W21="",June!V21,May!W21+June!V21)) | AB21: =(R21/F21)/175 -> #DIV/0!
B22: =IF(May!B22="","",May!B22) | C22: =IF(May!C22="","",May!C22) | D22: =IF(B22="","",May!D22) | E22: =IF(May!B22="","",May!E22) | G22: =IF(B22="","",May!G22) | H22: =IF((F22>G22),((F22-G22)/G22),"") | J22: =I22*10 -> 0 | K22: =IF(B22="","",IF(May!K22="",June!J22,May!K22+June!J22)) | M22: =L22/2 -> 0 | N22: =IF(B22="","",IF(May!N22="",June!M22,May!N22+June!M22)) | P22: =O22 -> 0 | Q22: =IF(B22="","",IF(May!Q22="",June!P22,May!Q22+June!P22)) | S22: =R22/500 -> 0 | T22: =IF(B22="","",IF(May!T22="",June!S22,May!T22+June!S22)) | V22: =U22*10 -> 0 | W22: =IF(B22="","",IF(May!W22="",June!V22,May!W22+June!V22)) | AB22: =(R22/F22)/175 -> #DIV/0!
B23: =IF(May!B23="","",May!B23) | C23: =IF(May!C23="","",May!C23) | D23: =IF(B23="","",May!D23) | E23: =IF(May!B23="","",May!E23) | G23: =IF(B23="","",May!G23) | H23: =IF((F23>G23),((F23-G23)/G23),"") | J23: =I23*10 -> 0 | K23: =IF(B23="","",IF(May!K23="",June!J23,May!K23+June!J23)) | M23: =L23/2 -> 0 | N23: =IF(B23="","",IF(May!N23="",June!M23,May!N23+June!M23)) | P23: =O23 -> 0 | Q23: =IF(B23="","",IF(May!Q23="",June!P23,May!Q23+June!P23)) | S23: =R23/500 -> 0 | T23: =IF(B23="","",IF(May!T23="",June!S23,May!T23+June!S23)) | V23: =U23*10 -> 0 | W23: =IF(B23="","",IF(May!W23="",June!V23,May!W23+June!V23)) | AB23: =(R23/F23)/175 -> #DIV/0!
B24: =IF(May!B24="","",May!B24) | C24: =IF(May!C24="","",May!C24) | D24: =IF(B24="","",May!D24) | E24: =IF(May!B24="","",May!E24) | G24: =IF(B24="","",May!G24) | H24: =IF((F24>G24),((F24-G24)/G24),"") | J24: =I24*10 -> 0 | K24: =IF(B24="","",IF(May!K24="",June!J24,May!K24+June!J24)) | M24: =L24/2 -> 0 | N24: =IF(B24="","",IF(May!N24="",June!M24,May!N24+June!M24)) | P24: =O24 -> 0 | Q24: =IF(B24="","",IF(May!Q24="",June!P24,May!Q24+June!P24)) | S24: =R24/500 -> 0 | T24: =IF(B24="","",IF(May!T24="",June!S24,May!T24+June!S24)) | V24: =U24*10 -> 0 | W24: =IF(B24="","",IF(May!W24="",June!V24,May!W24+June!V24)) | AB24: =(R24/F24)/175 -> #DIV/0!
B25: =IF(May!B25="","",May!B25) | C25: =IF(May!C25="","",May!C25) | D25: =IF(B25="","",May!D25) | E25: =IF(May!B25="","",May!E25) | G25: =IF(B25="","",May!G25) | H25: =IF((F25>G25),((F25-G25)/G25),"") | J25: =I25*10 -> 0 | K25: =IF(B25="","",IF(May!K25="",June!J25,May!K25+June!J25)) | M25: =L25/2 -> 0 | N25: =IF(B25="","",IF(May!N25="",June!M25,May!N25+June!M25)) | P25: =O25 -> 0 | Q25: =IF(B25="","",IF(May!Q25="",June!P25,May!Q25+June!P25)) | S25: =R25/500 -> 0 | T25: =IF(B25="","",IF(May!T25="",June!S25,May!T25+June!S25)) | V25: =U25*10 -> 0 | W25: =IF(B25="","",IF(May!W25="",June!V25,May!W25+June!V25)) | AB25: =(R25/F25)/175 -> #DIV/0!
B26: =IF(May!B26="","",May!B26) | C26: =IF(May!C26="","",May!C26) | D26: =IF(B26="","",May!D26) | E26: =IF(May!B26="","",May!E26) | G26: =IF(B26="","",May!G26) | H26: =IF((F26>G26),((F26-G26)/G26),"") | J26: =I26*10 -> 0 | K26: =IF(B26="","",IF(May!K26="",June!J26,May!K26+June!J26)) | M26: =L26/2 -> 0 | N26: =IF(B26="","",IF(May!N26="",June!M26,May!N26+June!M26)) | P26: =O26 -> 0 | Q26: =IF(B26="","",IF(May!Q26="",June!P26,May!Q26+June!P26)) | S26: =R26/500 -> 0 | T26: =IF(B26="","",IF(May!T26="",June!S26,May!T26+June!S26)) | V26: =U26*10 -> 0 | W26: =IF(B26="","",IF(May!W26="",June!V26,May!W26+June!V26)) | AB26: =(R26/F26)/175 -> #DIV/0!
... B90: =IF(May!B90="","",May!B90) | C90: =IF(May!C90="","",May!C90) | D90: =IF(B90="","",May!D90) | E90: =IF(May!B90="","",May!E90) | G90: =IF(B90="","",May!G90) | H90: =IF((F90>G90),((F90-G90)/G90),"") | J90: =I90*10 -> 0 | K90: =IF(B90="","",IF(May!K90="",June!J90,May!K90+June!J90)) | M90: =L90/2 -> 0 | N90: =IF(B90="","",IF(May!N90="",June!M90,May!N90+June!M90)) | P90: =O90 -> 0 | Q90: =IF(B90="","",IF(May!Q90="",June!P90,May!Q90+June!P90)) | S90: =R90/500 -> 0 | T90: =IF(B90="","",IF(May!T90="",June!S90,May!T90+June!S90)) | V90: =U90*10 -> 0 | W90: =IF(B90="","",IF(May!W90="",June!V90,May!W90+June!V90)) | AB90: =(R90/F90)/175 -> #DIV/0!

Sheet July
B2: =CONCATENATE('GENERAL GUIDELINES & SITE INFO'!E27," - monthly returns of biomass and anti-parasitic usage") -> Scottish Seafarms Ltd - monthly returns of biomass and anti-parasitic usage
B4: =CONCATENATE("Please complete and return by ",'GENERAL GUIDELINES & SITE INFO'!H32) -> Please complete and return by 14 Oct 2011;
AA5: Please Note
B6: Site Name | C6: Site ID | D6: Licence | E6: SEPA Team Area | F6: Max biomass (tonnes) | G6: Licensed Biomass (tonnes) | H6: Exceedence | I6: Enter the amount of chemical used NOT active ingredient. Entire treatment quantity should be entered in month treatment is initiated. | X6: Feed Used (kgs) | Y6: Mortalities | AA6: If Slice entry is highlighted in red please confirm value is correct here
I7: Excis (litres) containing 1% cypermethrin | J7: Cyp (grams) | K7: Total | L7: Salmosan (grams) containing 50% azamethiphos | M7: Aza (grams) | N7: Total | O7: Calicide (grams) containing 100% teflubenzuron | P7: TFBZ (grams) | Q7: Total | R7: Slice (grams) containing 0.2% emamectin benzoate | S7: Ema (grams) | T7: Total | U7: AMX (litres) containing 1% deltamethrin | V7: Delt (grams) | W7: Total | Y7: Number | Z7: Total weight (kgs)
B8: =IF(June!B8="","",June!B8) -> Bring Head | C8: =IF(June!C8="","",June!C8) -> SCAP1 | D8: =IF(B8="","",June!D8) -> CAR/L/1015854 | E8: =IF(June!B8="","",June!E8) -> ORK | F8: 695 | G8: =IF(B8="","",June!G8) -> 968 | H8: =IF((F8>G8),((F8-G8)/G8),"") | J8: =I8*10 -> 0 | K8: =IF(B8="","",IF(June!K8="",July!J8,June!K8+July!J8)) -> 0 | M8: =L8/2 -> 0 | N8: =IF(B8="","",IF(June!N8="",July!M8,June!N8+July!M8)) -> 0 | P8: =O8 -> 0 | Q8: =IF(B8="","",IF(June!Q8="",July!P8,June!Q8+July!P8)) -> 0 | S8: =R8/500 -> 0 | T8: =IF(B8="","",IF(June!T8="",July!S8,June!T8+July!S8)) -> 0 | V8: =U8*10 -> 0 | W8: =IF(B8="","",IF(June!W8="",July!V8,June!W8+July!V8)) -> 0 | X8: 191825 | Y8: 175 | Z8: 557 | AB8: =(R8/F8)/175 -> 0
B9: =IF(June!B9="","",June!B9) -> Eday Sound | C9: =IF(June!C9="","",June!C9) -> EDA1 | D9: =IF(B9="","",June!D9) -> CAR/L/1003956 | E9: =IF(June!B9="","",June!E9) -> ORK | G9: =IF(B9="","",June!G9) -> 800 | H9: =IF((F9>G9),((F9-G9)/G9),"") | J9: =I9*10 -> 0 | K9: =IF(B9="","",IF(June!K9="",July!J9,June!K9+July!J9)) -> 0 | M9: =L9/2 -> 0 | N9: =IF(B9="","",IF(June!N9="",July!M9,June!N9+July!M9)) -> 0 | P9: =O9 -> 0 | Q9: =IF(B9="","",IF(June!Q9="",July!P9,June!Q9+July!P9)) -> 0 | S9: =R9/500 -> 0 | T9: =IF(B9="","",IF(June!T9="",July!S9,June!T9+July!S9)) -> 0 | V9: =U9*10 -> 0 | W9: =IF(B9="","",IF(June!W9="",July!V9,June!W9+July!V9)) -> 0 | AB9: =(R9/F9)/175 -> #DIV/0!
B10: =IF(June!B10="","",June!B10) -> Kirk Taing | C10: =IF(June!C10="","",June!C10) -> MILL1 | D10: =IF(B10="","",June!D10) -> CAR/L/1003952 | E10: =IF(June!B10="","",June!E10) -> ORK | G10: =IF(B10="","",June!G10) -> 800 | H10: =IF((F10>G10),((F10-G10)/G10),"") | J10: =I10*10 -> 0 | K10: =IF(B10="","",IF(June!K10="",July!J10,June!K10+July!J10)) -> 0 | M10: =L10/2 -> 0 | N10: =IF(B10="","",IF(June!N10="",July!M10,June!N10+July!M10)) -> 0 | P10: =O10 -> 0 | Q10: =IF(B10="","",IF(June!Q10="",July!P10,June!Q10+July!P10)) -> 0 | S10: =R10/500 -> 0 | T10: =IF(B10="","",IF(June!T10="",July!S10,June!T10+July!S10)) -> 0 | V10: =U10*10 -> 0 | W10: =IF(B10="","",IF(June!W10="",July!V10,June!W10+July!V10)) -> 0 | AB10: =(R10/F10)/175 -> #DIV/0!
B11: =IF(June!B11="","",June!B11) -> Mill Bay, Stronsay | C11: =IF(June!C11="","",June!C11) -> MIL1 | D11: =IF(B11="","",June!D11) -> CAR/L/1034607 | E11: =IF(June!B11="","",June!E11) -> ORK | G11: =IF(B11="","",June!G11) -> 750 | H11: =IF((F11>G11),((F11-G11)/G11),"") | J11: =I11*10 -> 0 | K11: =IF(B11="","",IF(June!K11="",July!J11,June!K11+July!J11)) -> 0 | M11: =L11/2 -> 0 | N11: =IF(B11="","",IF(June!N11="",July!M11,June!N11+July!M11)) -> 0 | P11: =O11 -> 0 | Q11: =IF(B11="","",IF(June!Q11="",July!P11,June!Q11+July!P11)) -> 0 | S11: =R11/500 -> 0 | T11: =IF(B11="","",IF(June!T11="",July!S11,June!T11+July!S11)) -> 0 | V11: =U11*10 -> 0 | W11: =IF(B11="","",IF(June!W11="",July!V11,June!W11+July!V11)) -> 0 | AB11: =(R11/F11)/175 -> #DIV/0!
B12: =IF(June!B12="","",June!B12) -> Puldrite Bay | C12: =IF(June!C12="","",June!C12) -> PUL1 | D12: =IF(B12="","",June!D12) -> CAR/L/1003954 | E12: =IF(June!B12="","",June!E12) -> ORK | F12: 0 | G12: =IF(B12="","",June!G12) -> 980 | H12: =IF((F12>G12),((F12-G12)/G12),"") | J12: =I12*10 -> 0 | K12: =IF(B12="","",IF(June!K12="",July!J12,June!K12+July!J12)) -> 0 | M12: =L12/2 -> 0 | N12: =IF(B12="","",IF(June!N12="",July!M12,June!N12+July!M12)) -> 0 | P12: =O12 -> 0 | Q12: =IF(B12="","",IF(June!Q12="",July!P12,June!Q12+July!P12)) -> 0 | S12: =R12/500 -> 0 | T12: =IF(B12="","",IF(June!T12="",July!S12,June!T12+July!S12)) -> 0 | V12: =U12*10 -> 0 | W12: =IF(B12="","",IF(June!W12="",July!V12,June!W12+July!V12)) -> 0 | AB12: =(R12/F12)/175 -> #DIV/0!
B13: =IF(June!B13="","",June!B13) -> Toy Ness | C13: =IF(June!C13="","",June!C13) -> TOYN1 | D13: =IF(B13="","",June!D13) -> CAR/L/1015855 | E13: =IF(June!B13="","",June!E13) -> ORK | F13: 529 | G13: =IF(B13="","",June!G13) -> 650 | H13: =IF((F13>G13),((F13-G13)/G13),"") | J13: =I13*10 -> 0 | K13: =IF(B13="","",IF(June!K13="",July!J13,June!K13+July!J13)) -> 0 | M13: =L13/2 -> 0 | N13: =IF(B13="","",IF(June!N13="",July!M13,June!N13+July!M13)) -> 0 | P13: =O13 -> 0 | Q13: =IF(B13="","",IF(June!Q13="",July!P13,June!Q13+July!P13)) -> 0 | S13: =R13/500 -> 0 | T13: =IF(B13="","",IF(June!T13="",July!S13,June!T13+July!S13)) -> 0 | V13: =U13*10 -> 0 | W13: =IF(B13="","",IF(June!W13="",July!V13,June!W13+July!V13)) -> 0 | X13: 142875 | Y13: 428 | Z13: 1544 | AB13: =(R13/F13)/175 -> 0
B14: =IF(June!B14="","",June!B14) -> Veantrow Bay | C14: =IF(June!C14="","",June!C14) -> VEA1 | D14: =IF(B14="","",June!D14) -> CAR/L/1003931 | E14: =IF(June!B14="","",June!E14) -> ORK | F14: 639 | G14: =IF(B14="","",June!G14) -> 1264 | H14: =IF((F14>G14),((F14-G14)/G14),"") | J14: =I14*10 -> 0 | K14: =IF(B14="","",IF(June!K14="",July!J14,June!K14+July!J14)) -> 0 | M14: =L14/2 -> 0 | N14: =IF(B14="","",IF(June!N14="",July!M14,June!N14+July!M14)) -> 0 | P14: =O14 -> 0 | Q14: =IF(B14="","",IF(June!Q14="",July!P14,June!Q14+July!P14)) -> 0 | S14: =R14/500 -> 0 | T14: =IF(B14="","",IF(June!T14="",July!S14,June!T14+July!S14)) -> 0 | V14: =U14*10 -> 0 | W14: =IF(B14="","",IF(June!W14="",July!V14,June!W14+July!V14)) -> 0 | X14: 198626 | Y14: 2757 | Z14: 1357 | AB14: =(R14/F14)/175 -> 0
B15: =IF(June!B15="","",June!B15) | C15: =IF(June!C15="","",June!C15) | D15: =IF(B15="","",June!D15) | E15: =IF(June!B15="","",June!E15) | G15: =IF(B15="","",June!G15) | H15: =IF((F15>G15),((F15-G15)/G15),"") | J15: =I15*10 -> 0 | K15: =IF(B15="","",IF(June!K15="",July!J15,June!K15+July!J15)) | M15: =L15/2 -> 0 | N15: =IF(B15="","",IF(June!N15="",July!M15,June!N15+July!M15)) | P15: =O15 -> 0 | Q15: =IF(B15="","",IF(June!Q15="",July!P15,June!Q15+July!P15)) | S15: =R15/500 -> 0 | T15: =IF(B15="","",IF(June!T15="",July!S15,June!T15+July!S15)) | V15: =U15*10 -> 0 | W15: =IF(B15="","",IF(June!W15="",July!V15,June!W15+July!V15)) | AB15: =(R15/F15)/175 -> #DIV/0!
B16: =IF(June!B16="","",June!B16) | C16: =IF(June!C16="","",June!C16) | D16: =IF(B16="","",June!D16) | E16: =IF(June!B16="","",June!E16) | G16: =IF(B16="","",June!G16) | H16: =IF((F16>G16),((F16-G16)/G16),"") | J16: =I16*10 -> 0 | K16: =IF(B16="","",IF(June!K16="",July!J16,June!K16+July!J16)) | M16: =L16/2 -> 0 | N16: =IF(B16="","",IF(June!N16="",July!M16,June!N16+July!M16)) | P16: =O16 -> 0 | Q16: =IF(B16="","",IF(June!Q16="",July!P16,June!Q16+July!P16)) | S16: =R16/500 -> 0 | T16: =IF(B16="","",IF(June!T16="",July!S16,June!T16+July!S16)) | V16: =U16*10 -> 0 | W16: =IF(B16="","",IF(June!W16="",July!V16,June!W16+July!V16)) | AB16: =(R16/F16)/175 -> #DIV/0!
B17: =IF(June!B17="","",June!B17) | C17: =IF(June!C17="","",June!C17) | D17: =IF(B17="","",June!D17) | E17: =IF(June!B17="","",June!E17) | G17: =IF(B17="","",June!G17) | H17: =IF((F17>G17),((F17-G17)/G17),"") | J17: =I17*10 -> 0 | K17: =IF(B17="","",IF(June!K17="",July!J17,June!K17+July!J17)) | M17: =L17/2 -> 0 | N17: =IF(B17="","",IF(June!N17="",July!M17,June!N17+July!M17)) | P17: =O17 -> 0 | Q17: =IF(B17="","",IF(June!Q17="",July!P17,June!Q17+July!P17)) | S17: =R17/500 -> 0 | T17: =IF(B17="","",IF(June!T17="",July!S17,June!T17+July!S17)) | V17: =U17*10 -> 0 | W17: =IF(B17="","",IF(June!W17="",July!V17,June!W17+July!V17)) | AB17: =(R17/F17)/175 -> #DIV/0!
B18: =IF(June!B18="","",June!B18) | C18: =IF(June!C18="","",June!C18) | D18: =IF(B18="","",June!D18) | E18: =IF(June!B18="","",June!E18) | G18: =IF(B18="","",June!G18) | H18: =IF((F18>G18),((F18-G18)/G18),"") | J18: =I18*10 -> 0 | K18: =IF(B18="","",IF(June!K18="",July!J18,June!K18+July!J18)) | M18: =L18/2 -> 0 | N18: =IF(B18="","",IF(June!N18="",July!M18,June!N18+July!M18)) | P18: =O18 -> 0 | Q18: =IF(B18="","",IF(June!Q18="",July!P18,June!Q18+July!P18)) | S18: =R18/500 -> 0 | T18: =IF(B18="","",IF(June!T18="",July!S18,June!T18+July!S18)) | V18: =U18*10 -> 0 | W18: =IF(B18="","",IF(June!W18="",July!V18,June!W18+July!V18)) | AB18: =(R18/F18)/175 -> #DIV/0!
B19: =IF(June!B19="","",June!B19) | C19: =IF(June!C19="","",June!C19) | D19: =IF(B19="","",June!D19) | E19: =IF(June!B19="","",June!E19) | G19: =IF(B19="","",June!G19) | H19: =IF((F19>G19),((F19-G19)/G19),"") | J19: =I19*10 -> 0 | K19: =IF(B19="","",IF(June!K19="",July!J19,June!K19+July!J19)) | M19: =L19/2 -> 0 | N19: =IF(B19="","",IF(June!N19="",July!M19,June!N19+July!M19)) | P19: =O19 -> 0 | Q19: =IF(B19="","",IF(June!Q19="",July!P19,June!Q19+July!P19)) | S19: =R19/500 -> 0 | T19: =IF(B19="","",IF(June!T19="",July!S19,June!T19+July!S19)) | V19: =U19*10 -> 0 | W19: =IF(B19="","",IF(June!W19="",July!V19,June!W19+July!V19)) | AB19: =(R19/F19)/175 -> #DIV/0!
B20: =IF(June!B20="","",June!B20) | C20: =IF(June!C20="","",June!C20) | D20: =IF(B20="","",June!D20) | E20: =IF(June!B20="","",June!E20) | G20: =IF(B20="","",June!G20) | H20: =IF((F20>G20),((F20-G20)/G20),"") | J20: =I20*10 -> 0 | K20: =IF(B20="","",IF(June!K20="",July!J20,June!K20+July!J20)) | M20: =L20/2 -> 0 | N20: =IF(B20="","",IF(June!N20="",July!M20,June!N20+July!M20)) | P20: =O20 -> 0 | Q20: =IF(B20="","",IF(June!Q20="",July!P20,June!Q20+July!P20)) | S20: =R20/500 -> 0 | T20: =IF(B20="","",IF(June!T20="",July!S20,June!T20+July!S20)) | V20: =U20*10 -> 0 | W20: =IF(B20="","",IF(June!W20="",July!V20,June!W20+July!V20)) | AB20: =(R20/F20)/175 -> #DIV/0!
B21: =IF(June!B21="","",June!B21) | C21: =IF(June!C21="","",June!C21) | D21: =IF(B21="","",June!D21) | E21: =IF(June!B21="","",June!E21) | G21: =IF(B21="","",June!G21) | H21: =IF((F21>G21),((F21-G21)/G21),"") | J21: =I21*10 -> 0 | K21: =IF(B21="","",IF(June!K21="",July!J21,June!K21+July!J21)) | M21: =L21/2 -> 0 | N21: =IF(B21="","",IF(June!N21="",July!M21,June!N21+July!M21)) | P21: =O21 -> 0 | Q21: =IF(B21="","",IF(June!Q21="",July!P21,June!Q21+July!P21)) | S21: =R21/500 -> 0 | T21: =IF(B21="","",IF(June!T21="",July!S21,June!T21+July!S21)) | V21: =U21*10 -> 0 | W21: =IF(B21="","",IF(June!W21="",July!V21,June!W21+July!V21)) | AB21: =(R21/F21)/175 -> #DIV/0!
B22: =IF(June!B22="","",June!B22) | C22: =IF(June!C22="","",June!C22) | D22: =IF(B22="","",June!D22) | E22: =IF(June!B22="","",June!E22) | G22: =IF(B22="","",June!G22) | H22: =IF((F22>G22),((F22-G22)/G22),"") | J22: =I22*10 -> 0 | K22: =IF(B22="","",IF(June!K22="",July!J22,June!K22+July!J22)) | M22: =L22/2 -> 0 | N22: =IF(B22="","",IF(June!N22="",July!M22,June!N22+July!M22)) | P22: =O22 -> 0 | Q22: =IF(B22="","",IF(June!Q22="",July!P22,June!Q22+July!P22)) | S22: =R22/500 -> 0 | T22: =IF(B22="","",IF(June!T22="",July!S22,June!T22+July!S22)) | V22: =U22*10 -> 0 | W22: =IF(B22="","",IF(June!W22="",July!V22,June!W22+July!V22)) | AB22: =(R22/F22)/175 -> #DIV/0!
B23: =IF(June!B23="","",June!B23) | C23: =IF(June!C23="","",June!C23) | D23: =IF(B23="","",June!D23) | E23: =IF(June!B23="","",June!E23) | G23: =IF(B23="","",June!G23) | H23: =IF((F23>G23),((F23-G23)/G23),"") | J23: =I23*10 -> 0 | K23: =IF(B23="","",IF(June!K23="",July!J23,June!K23+July!J23)) | M23: =L23/2 -> 0 | N23: =IF(B23="","",IF(June!N23="",July!M23,June!N23+July!M23)) | P23: =O23 -> 0 | Q23: =IF(B23="","",IF(June!Q23="",July!P23,June!Q23+July!P23)) | S23: =R23/500 -> 0 | T23: =IF(B23="","",IF(June!T23="",July!S23,June!T23+July!S23)) | V23: =U23*10 -> 0 | W23: =IF(B23="","",IF(June!W23="",July!V23,June!W23+July!V23)) | AB23: =(R23/F23)/175 -> #DIV/0!
B24: =IF(June!B24="","",June!B24) | C24: =IF(June!C24="","",June!C24) | D24: =IF(B24="","",June!D24) | E24: =IF(June!B24="","",June!E24) | G24: =IF(B24="","",June!G24) | H24: =IF((F24>G24),((F24-G24)/G24),"") | J24: =I24*10 -> 0 | K24: =IF(B24="","",IF(June!K24="",July!J24,June!K24+July!J24)) | M24: =L24/2 -> 0 | N24: =IF(B24="","",IF(June!N24="",July!M24,June!N24+July!M24)) | P24: =O24 -> 0 | Q24: =IF(B24="","",IF(June!Q24="",July!P24,June!Q24+July!P24)) | S24: =R24/500 -> 0 | T24: =IF(B24="","",IF(June!T24="",July!S24,June!T24+July!S24)) | V24: =U24*10 -> 0 | W24: =IF(B24="","",IF(June!W24="",July!V24,June!W24+July!V24)) | AB24: =(R24/F24)/175 -> #DIV/0!
B25: =IF(June!B25="","",June!B25) | C25: =IF(June!C25="","",June!C25) | D25: =IF(B25="","",June!D25) | E25: =IF(June!B25="","",June!E25) | G25: =IF(B25="","",June!G25) | H25: =IF((F25>G25),((F25-G25)/G25),"") | J25: =I25*10 -> 0 | K25: =IF(B25="","",IF(June!K25="",July!J25,June!K25+July!J25)) | M25: =L25/2 -> 0 | N25: =IF(B25="","",IF(June!N25="",July!M25,June!N25+July!M25)) | P25: =O25 -> 0 | Q25: =IF(B25="","",IF(June!Q25="",July!P25,June!Q25+July!P25)) | S25: =R25/500 -> 0 | T25: =IF(B25="","",IF(June!T25="",July!S25,June!T25+July!S25)) | V25: =U25*10 -> 0 | W25: =IF(B25="","",IF(June!W25="",July!V25,June!W25+July!V25)) | AB25: =(R25/F25)/175 -> #DIV/0!
B26: =IF(June!B26="","",June!B26) | C26: =IF(June!C26="","",June!C26) | D26: =IF(B26="","",June!D26) | E26: =IF(June!B26="","",June!E26) | G26: =IF(B26="","",June!G26) | H26: =IF((F26>G26),((F26-G26)/G26),"") | J26: =I26*10 -> 0 | K26: =IF(B26="","",IF(June!K26="",July!J26,June!K26+July!J26)) | M26: =L26/2 -> 0 | N26: =IF(B26="","",IF(June!N26="",July!M26,June!N26+July!M26)) | P26: =O26 -> 0 | Q26: =IF(B26="","",IF(June!Q26="",July!P26,June!Q26+July!P26)) | S26: =R26/500 -> 0 | T26: =IF(B26="","",IF(June!T26="",July!S26,June!T26+July!S26)) | V26: =U26*10 -> 0 | W26: =IF(B26="","",IF(June!W26="",July!V26,June!W26+July!V26)) | AB26: =(R26/F26)/175 -> #DIV/0!
... B90: =IF(June!B90="","",June!B90) | C90: =IF(June!C90="","",June!C90) | D90: =IF(B90="","",June!D90) | E90: =IF(June!B90="","",June!E90) | G90: =IF(B90="","",June!G90) | H90: =IF((F90>G90),((F90-G90)/G90),"") | J90: =I90*10 -> 0 | K90: =IF(B90="","",IF(June!K90="",July!J90,June!K90+July!J90)) | M90: =L90/2 -> 0 | N90: =IF(B90="","",IF(June!N90="",July!M90,June!N90+July!M90)) | P90: =O90 -> 0 | Q90: =IF(B90="","",IF(June!Q90="",July!P90,June!Q90+July!P90)) | S90: =R90/500 -> 0 | T90: =IF(B90="","",IF(June!T90="",July!S90,June!T90+July!S90)) | V90: =U90*10 -> 0 | W90: =IF(B90="","",IF(June!W90="",July!V90,June!W90+July!V90)) | AB90: =(R90/F90)/175 -> #DIV/0!

Sheet Aug
B2: =CONCATENATE('GENERAL GUIDELINES & SITE INFO'!E27," - monthly returns of biomass and anti-parasitic usage") -> Scottish Seafarms Ltd - monthly returns of biomass and anti-parasitic usage
B4: =CONCATENATE("Please complete and return by ",'GENERAL GUIDELINES & SITE INFO'!H32) -> Please complete and return by 14 Oct 2011;
AA5: Please Note
B6: Site Name | C6: Site ID | D6: Licence | E6: SEPA Team Area | F6: Max biomass (tonnes) | G6: Licensed Biomass (tonnes) | H6: Exceedence | I6: Enter the amount of chemical used NOT active ingredient. Entire treatment quantity should be entered in month treatment is initiated. | X6: Feed Used (kgs) | Y6: Mortalities | AA6: If Slice entry is highlighted in red please confirm value is correct here
I7: Excis (litres) containing 1% cypermethrin | J7: Cyp (grams) | K7: Total | L7: Salmosan (grams) containing 50% azamethiphos | M7: Aza (grams) | N7: Total | O7: Calicide (grams) containing 100% teflubenzuron | P7: TFBZ (grams) | Q7: Total | R7: Slice (grams) containing 0.2% emamectin benzoate | S7: Ema (grams) | T7: Total | U7: AMX (litres) containing 1% deltamethrin | V7: Delt (grams) | W7: Total | Y7: Number | Z7: Total weight (kgs)
B8: =IF(July!B8="","",July!B8) -> Bring Head | C8: =IF(July!C8="","",July!C8) -> SCAP1 | D8: =IF(B8="","",July!D8) -> CAR/L/1015854 | E8: =IF(July!B8="","",July!E8) -> ORK | F8: 786 | G8: =IF(B8="","",July!G8) -> 968 | H8: =IF((F8>G8),((F8-G8)/G8),"") | J8: =I8*10 -> 0 | K8: =IF(B8="","",IF(July!K8="",Aug!J8,July!K8+Aug!J8)) -> 0 | M8: =L8/2 -> 0 | N8: =IF(B8="","",IF(July!N8="",Aug!M8,July!N8+Aug!M8)) -> 0 | P8: =O8 -> 0 | Q8: =IF(B8="","",IF(July!Q8="",Aug!P8,July!Q8+Aug!P8)) -> 0 | S8: =R8/500 -> 0 | T8: =IF(B8="","",IF(July!T8="",Aug!S8,July!T8+Aug!S8)) -> 0 | V8: =U8*10 -> 0 | W8: =IF(B8="","",IF(July!W8="",Aug!V8,July!W8+Aug!V8)) -> 0 | X8: 225500 | Y8: 657 | Z8: 2708 | AB8: =(R8/F8)/175 -> 0
B9: =IF(July!B9="","",July!B9) -> Eday Sound | C9: =IF(July!C9="","",July!C9) -> EDA1 | D9: =IF(B9="","",July!D9) -> CAR/L/1003956 | E9: =IF(July!B9="","",July!E9) -> ORK | G9: =IF(B9="","",July!G9) -> 800 | H9: =IF((F9>G9),((F9-G9)/G9),"") | J9: =I9*10 -> 0 | K9: =IF(B9="","",IF(July!K9="",Aug!J9,July!K9+Aug!J9)) -> 0 | M9: =L9/2 -> 0 | N9: =IF(B9="","",IF(July!N9="",Aug!M9,July!N9+Aug!M9)) -> 0 | P9: =O9 -> 0 | Q9: =IF(B9="","",IF(July!Q9="",Aug!P9,July!Q9+Aug!P9)) -> 0 | S9: =R9/500 -> 0 | T9: =IF(B9="","",IF(July!T9="",Aug!S9,July!T9+Aug!S9)) -> 0 | V9: =U9*10 -> 0 | W9: =IF(B9="","",IF(July!W9="",Aug!V9,July!W9+Aug!V9)) -> 0 | AB9: =(R9/F9)/175 -> #DIV/0!
B10: =IF(July!B10="","",July!B10) -> Kirk Taing | C10: =IF(July!C10="","",July!C10) -> MILL1 | D10: =IF(B10="","",July!D10) -> CAR/L/1003952 | E10: =IF(July!B10="","",July!E10) -> ORK | G10: =IF(B10="","",July!G10) -> 800 | H10: =IF((F10>G10),((F10-G10)/G10),"") | J10: =I10*10 -> 0 | K10: =IF(B10="","",IF(July!K10="",Aug!J10,July!K10+Aug!J10)) -> 0 | M10: =L10/2 -> 0 | N10: =IF(B10="","",IF(July!N10="",Aug!M10,July!N10+Aug!M10)) -> 0 | P10: =O10 -> 0 | Q10: =IF(B10="","",IF(July!Q10="",Aug!P10,July!Q10+Aug!P10)) -> 0 | S10: =R10/500 -> 0 | T10: =IF(B10="","",IF(July!T10="",Aug!S10,July!T10+Aug!S10)) -> 0 | V10: =U10*10 -> 0 | W10: =IF(B10="","",IF(July!W10="",Aug!V10,July!W10+Aug!V10)) -> 0 | AB10: =(R10/F10)/175 -> #DIV/0!
B11: =IF(July!B11="","",July!B11) -> Mill Bay, Stronsay | C11: =IF(July!C11="","",July!C11) -> MIL1 | D11: =IF(B11="","",July!D11) -> CAR/L/1034607 | E11: =IF(July!B11="","",July!E11) -> ORK | G11: =IF(B11="","",July!G11) -> 750 | H11: =IF((F11>G11),((F11-G11)/G11),"") | J11: =I11*10 -> 0 | K11: =IF(B11="","",IF(July!K11="",Aug!J11,July!K11+Aug!J11)) -> 0 | M11: =L11/2 -> 0 | N11: =IF(B11="","",IF(July!N11="",Aug!M11,July!N11+Aug!M11)) -> 0 | P11: =O11 -> 0 | Q11: =IF(B11="","",IF(July!Q11="",Aug!P11,July!Q11+Aug!P11)) -> 0 | S11: =R11/500 -> 0 | T11: =IF(B11="","",IF(July!T11="",Aug!S11,July!T11+Aug!S11)) -> 0 | V11: =U11*10 -> 0 | W11: =IF(B11="","",IF(July!W11="",Aug!V11,July!W11+Aug!V11)) -> 0 | AB11: =(R11/F11)/175 -> #DIV/0!
B12: =IF(July!B12="","",July!B12) -> Puldrite Bay | C12: =IF(July!C12="","",July!C12) -> PUL1 | D12: =IF(B12="","",July!D12) -> CAR/L/1003954 | E12: =IF(July!B12="","",July!E12) -> ORK | F12: 0 | G12: =IF(B12="","",July!G12) -> 980 | H12: =IF((F12>G12),((F12-G12)/G12),"") | J12: =I12*10 -> 0 | K12: =IF(B12="","",IF(July!K12="",Aug!J12,July!K12+Aug!J12)) -> 0 | M12: =L12/2 -> 0 | N12: =IF(B12="","",IF(July!N12="",Aug!M12,July!N12+Aug!M12)) -> 0 | P12: =O12 -> 0 | Q12: =IF(B12="","",IF(July!Q12="",Aug!P12,July!Q12+Aug!P12)) -> 0 | S12: =R12/500 -> 0 | T12: =IF(B12="","",IF(July!T12="",Aug!S12,July!T12+Aug!S12)) -> 0 | V12: =U12*10 -> 0 | W12: =IF(B12="","",IF(July!W12="",Aug!V12,July!W12+Aug!V12)) -> 0 | AB12: =(R12/F12)/175 -> #DIV/0!
B13: =IF(July!B13="","",July!B13) -> Toy Ness | C13: =IF(July!C13="","",July!C13) -> TOYN1 | D13: =IF(B13="","",July!D13) -> CAR/L/1015855 | E13: =IF(July!B13="","",July!E13) -> ORK | F13: 567 | G13: =IF(B13="","",July!G13) -> 650 | H13: =IF((F13>G13),((F13-G13)/G13),"") | J13: =I13*10 -> 0 | K13: =IF(B13="","",IF(July!K13="",Aug!J13,July!K13+Aug!J13)) -> 0 | M13: =L13/2 -> 0 | N13: =IF(B13="","",IF(July!N13="",Aug!M13,July!N13+Aug!M13)) -> 0 | P13: =O13 -> 0 | Q13: =IF(B13="","",IF(July!Q13="",Aug!P13,July!Q13+Aug!P13)) -> 0 | S13: =R13/500 -> 0 | T13: =IF(B13="","",IF(July!T13="",Aug!S13,July!T13+Aug!S13)) -> 0 | V13: =U13*10 -> 0 | W13: =IF(B13="","",IF(July!W13="",Aug!V13,July!W13+Aug!V13)) -> 0 | X13: 204700 | Y13: 437 | Z13: 1714 | AB13: =(R13/F13)/175 -> 0
B14: =IF(July!B14="","",July!B14) -> Veantrow Bay | C14: =IF(July!C14="","",July!C14) -> VEA1 | D14: =IF(B14="","",July!D14) -> CAR/L/1003931 | E14: =IF(July!B14="","",July!E14) -> ORK | F14: 832 | G14: =IF(B14="","",July!G14) -> 1264 | H14: =IF((F14>G14),((F14-G14)/G14),"") | J14: =I14*10 -> 0 | K14: =IF(B14="","",IF(July!K14="",Aug!J14,July!K14+Aug!J14)) -> 0 | M14: =L14/2 -> 0 | N14: =IF(B14="","",IF(July!N14="",Aug!M14,July!N14+Aug!M14)) -> 0 | P14: =O14 -> 0 | Q14: =IF(B14="","",IF(July!Q14="",Aug!P14,July!Q14+Aug!P14)) -> 0 | S14: =R14/500 -> 0 | T14: =IF(B14="","",IF(July!T14="",Aug!S14,July!T14+Aug!S14)) -> 0 | V14: =U14*10 -> 0 | W14: =IF(B14="","",IF(July!W14="",Aug!V14,July!W14+Aug!V14)) -> 0 | X14: 219767 | Y14: 1743 | Z14: 775 | AB14: =(R14/F14)/175 -> 0
B15: =IF(July!B15="","",July!B15) | C15: =IF(July!C15="","",July!C15) | D15: =IF(B15="","",July!D15) | E15: =IF(July!B15="","",July!E15) | G15: =IF(B15="","",July!G15) | H15: =IF((F15>G15),((F15-G15)/G15),"") | J15: =I15*10 -> 0 | K15: =IF(B15="","",IF(July!K15="",Aug!J15,July!K15+Aug!J15)) | M15: =L15/2 -> 0 | N15: =IF(B15="","",IF(July!N15="",Aug!M15,July!N15+Aug!M15)) | P15: =O15 -> 0 | Q15: =IF(B15="","",IF(July!Q15="",Aug!P15,July!Q15+Aug!P15)) | S15: =R15/500 -> 0 | T15: =IF(B15="","",IF(July!T15="",Aug!S15,July!T15+Aug!S15)) | V15: =U15*10 -> 0 | W15: =IF(B15="","",IF(July!W15="",Aug!V15,July!W15+Aug!V15)) | AB15: =(R15/F15)/175 -> #DIV/0!
B16: =IF(July!B16="","",July!B16) | C16: =IF(July!C16="","",July!C16) | D16: =IF(B16="","",July!D16) | E16: =IF(July!B16="","",July!E16) | G16: =IF(B16="","",July!G16) | H16: =IF((F16>G16),((F16-G16)/G16),"") | J16: =I16*10 -> 0 | K16: =IF(B16="","",IF(July!K16="",Aug!J16,July!K16+Aug!J16)) | M16: =L16/2 -> 0 | N16: =IF(B16="","",IF(July!N16="",Aug!M16,July!N16+Aug!M16)) | P16: =O16 -> 0 | Q16: =IF(B16="","",IF(July!Q16="",Aug!P16,July!Q16+Aug!P16)) | S16: =R16/500 -> 0 | T16: =IF(B16="","",IF(July!T16="",Aug!S16,July!T16+Aug!S16)) | V16: =U16*10 -> 0 | W16: =IF(B16="","",IF(July!W16="",Aug!V16,July!W16+Aug!V16)) | AB16: =(R16/F16)/175 -> #DIV/0!
B17: =IF(July!B17="","",July!B17) | C17: =IF(July!C17="","",July!C17) | D17: =IF(B17="","",July!D17) | E17: =IF(July!B17="","",July!E17) | G17: =IF(B17="","",July!G17) | H17: =IF((F17>G17),((F17-G17)/G17),"") | J17: =I17*10 -> 0 | K17: =IF(B17="","",IF(July!K17="",Aug!J17,July!K17+Aug!J17)) | M17: =L17/2 -> 0 | N17: =IF(B17="","",IF(July!N17="",Aug!M17,July!N17+Aug!M17)) | P17: =O17 -> 0 | Q17: =IF(B17="","",IF(July!Q17="",Aug!P17,July!Q17+Aug!P17)) | S17: =R17/500 -> 0 | T17: =IF(B17="","",IF(July!T17="",Aug!S17,July!T17+Aug!S17)) | V17: =U17*10 -> 0 | W17: =IF(B17="","",IF(July!W17="",Aug!V17,July!W17+Aug!V17)) | AB17: =(R17/F17)/175 -> #DIV/0!
B18: =IF(July!B18="","",July!B18) | C18: =IF(July!C18="","",July!C18) | D18: =IF(B18="","",July!D18) | E18: =IF(July!B18="","",July!E18) | G18: =IF(B18="","",July!G18) | H18: =IF((F18>G18),((F18-G18)/G18),"") | J18: =I18*10 -> 0 | K18: =IF(B18="","",IF(July!K18="",Aug!J18,July!K18+Aug!J18)) | M18: =L18/2 -> 0 | N18: =IF(B18="","",IF(July!N18="",Aug!M18,July!N18+Aug!M18)) | P18: =O18 -> 0 | Q18: =IF(B18="","",IF(July!Q18="",Aug!P18,July!Q18+Aug!P18)) | S18: =R18/500 -> 0 | T18: =IF(B18="","",IF(July!T18="",Aug!S18,July!T18+Aug!S18)) | V18: =U18*10 -> 0 | W18: =IF(B18="","",IF(July!W18="",Aug!V18,July!W18+Aug!V18)) | AB18: =(R18/F18)/175 -> #DIV/0!
B19: =IF(July!B19="","",July!B19) | C19: =IF(July!C19="","",July!C19) | D19: =IF(B19="","",July!D19) | E19: =IF(July!B19="","",July!E19) | G19: =IF(B19="","",July!G19) | H19: =IF((F19>G19),((F19-G19)/G19),"") | J19: =I19*10 -> 0 | K19: =IF(B19="","",IF(July!K19="",Aug!J19,July!K19+Aug!J19)) | M19: =L19/2 -> 0 | N19: =IF(B19="","",IF(July!N19="",Aug!M19,July!N19+Aug!M19)) | P19: =O19 -> 0 | Q19: =IF(B19="","",IF(July!Q19="",Aug!P19,July!Q19+Aug!P19)) | S19: =R19/500 -> 0 | T19: =IF(B19="","",IF(July!T19="",Aug!S19,July!T19+Aug!S19)) | V19: =U19*10 -> 0 | W19: =IF(B19="","",IF(July!W19="",Aug!V19,July!W19+Aug!V19)) | AB19: =(R19/F19)/175 -> #DIV/0!
B20: =IF(July!B20="","",July!B20) | C20: =IF(July!C20="","",July!C20) | D20: =IF(B20="","",July!D20) | E20: =IF(July!B20="","",July!E20) | G20: =IF(B20="","",July!G20) | H20: =IF((F20>G20),((F20-G20)/G20),"") | J20: =I20*10 -> 0 | K20: =IF(B20="","",IF(July!K20="",Aug!J20,July!K20+Aug!J20)) | M20: =L20/2 -> 0 | N20: =IF(B20="","",IF(July!N20="",Aug!M20,July!N20+Aug!M20)) | P20: =O20 -> 0 | Q20: =IF(B20="","",IF(July!Q20="",Aug!P20,July!Q20+Aug!P20)) | S20: =R20/500 -> 0 | T20: =IF(B20="","",IF(July!T20="",Aug!S20,July!T20+Aug!S20)) | V20: =U20*10 -> 0 | W20: =IF(B20="","",IF(July!W20="",Aug!V20,July!W20+Aug!V20)) | AB20: =(R20/F20)/175 -> #DIV/0!
B21: =IF(July!B21="","",July!B21) | C21: =IF(July!C21="","",July!C21) | D21: =IF(B21="","",July!D21) | E21: =IF(July!B21="","",July!E21) | G21: =IF(B21="","",July!G21) | H21: =IF((F21>G21),((F21-G21)/G21),"") | J21: =I21*10 -> 0 | K21: =IF(B21="","",IF(July!K21="",Aug!J21,July!K21+Aug!J21)) | M21: =L21/2 -> 0 | N21: =IF(B21="","",IF(July!N21="",Aug!M21,July!N21+Aug!M21)) | P21: =O21 -> 0 | Q21: =IF(B21="","",IF(July!Q21="",Aug!P21,July!Q21+Aug!P21)) | S21: =R21/500 -> 0 | T21: =IF(B21="","",IF(July!T21="",Aug!S21,July!T21+Aug!S21)) | V21: =U21*10 -> 0 | W21: =IF(B21="","",IF(July!W21="",Aug!V21,July!W21+Aug!V21)) | AB21: =(R21/F21)/175 -> #DIV/0!
B22: =IF(July!B22="","",July!B22) | C22: =IF(July!C22="","",July!C22) | D22: =IF(B22="","",July!D22) | E22: =IF(July!B22="","",July!E22) | G22: =IF(B22="","",July!G22) | H22: =IF((F22>G22),((F22-G22)/G22),"") | J22: =I22*10 -> 0 | K22: =IF(B22="","",IF(July!K22="",Aug!J22,July!K22+Aug!J22)) | M22: =L22/2 -> 0 | N22: =IF(B22="","",IF(July!N22="",Aug!M22,July!N22+Aug!M22)) | P22: =O22 -> 0 | Q22: =IF(B22="","",IF(July!Q22="",Aug!P22,July!Q22+Aug!P22)) | S22: =R22/500 -> 0 | T22: =IF(B22="","",IF(July!T22="",Aug!S22,July!T22+Aug!S22)) | V22: =U22*10 -> 0 | W22: =IF(B22="","",IF(July!W22="",Aug!V22,July!W22+Aug!V22)) | AB22: =(R22/F22)/175 -> #DIV/0!
B23: =IF(July!B23="","",July!B23) | C23: =IF(July!C23="","",July!C23) | D23: =IF(B23="","",July!D23) | E23: =IF(July!B23="","",July!E23) | G23: =IF(B23="","",July!G23) | H23: =IF((F23>G23),((F23-G23)/G23),"") | J23: =I23*10 -> 0 | K23: =IF(B23="","",IF(July!K23="",Aug!J23,July!K23+Aug!J23)) | M23: =L23/2 -> 0 | N23: =IF(B23="","",IF(July!N23="",Aug!M23,July!N23+Aug!M23)) | P23: =O23 -> 0 | Q23: =IF(B23="","",IF(July!Q23="",Aug!P23,July!Q23+Aug!P23)) | S23: =R23/500 -> 0 | T23: =IF(B23="","",IF(July!T23="",Aug!S23,July!T23+Aug!S23)) | V23: =U23*10 -> 0 | W23: =IF(B23="","",IF(July!W23="",Aug!V23,July!W23+Aug!V23)) | AB23: =(R23/F23)/175 -> #DIV/0!
B24: =IF(July!B24="","",July!B24) | C24: =IF(July!C24="","",July!C24) | D24: =IF(B24="","",July!D24) | E24: =IF(July!B24="","",July!E24) | G24: =IF(B24="","",July!G24) | H24: =IF((F24>G24),((F24-G24)/G24),"") | J24: =I24*10 -> 0 | K24: =IF(B24="","",IF(July!K24="",Aug!J24,July!K24+Aug!J24)) | M24: =L24/2 -> 0 | N24: =IF(B24="","",IF(July!N24="",Aug!M24,July!N24+Aug!M24)) | P24: =O24 -> 0 | Q24: =IF(B24="","",IF(July!Q24="",Aug!P24,July!Q24+Aug!P24)) | S24: =R24/500 -> 0 | T24: =IF(B24="","",IF(July!T24="",Aug!S24,July!T24+Aug!S24)) | V24: =U24*10 -> 0 | W24: =IF(B24="","",IF(July!W24="",Aug!V24,July!W24+Aug!V24)) | AB24: =(R24/F24)/175 -> #DIV/0!
B25: =IF(July!B25="","",July!B25) | C25: =IF(July!C25="","",July!C25) | D25: =IF(B25="","",July!D25) | E25: =IF(July!B25="","",July!E25) | G25: =IF(B25="","",July!G25) | H25: =IF((F25>G25),((F25-G25)/G25),"") | J25: =I25*10 -> 0 | K25: =IF(B25="","",IF(July!K25="",Aug!J25,July!K25+Aug!J25)) | M25: =L25/2 -> 0 | N25: =IF(B25="","",IF(July!N25="",Aug!M25,July!N25+Aug!M25)) | P25: =O25 -> 0 | Q25: =IF(B25="","",IF(July!Q25="",Aug!P25,July!Q25+Aug!P25)) | S25: =R25/500 -> 0 | T25: =IF(B25="","",IF(July!T25="",Aug!S25,July!T25+Aug!S25)) | V25: =U25*10 -> 0 | W25: =IF(B25="","",IF(July!W25="",Aug!V25,July!W25+Aug!V25)) | AB25: =(R25/F25)/175 -> #DIV/0!
B26: =IF(July!B26="","",July!B26) | C26: =IF(July!C26="","",July!C26) | D26: =IF(B26="","",July!D26) | E26: =IF(July!B26="","",July!E26) | G26: =IF(B26="","",July!G26) | H26: =IF((F26>G26),((F26-G26)/G26),"") | J26: =I26*10 -> 0 | K26: =IF(B26="","",IF(July!K26="",Aug!J26,July!K26+Aug!J26)) | M26: =L26/2 -> 0 | N26: =IF(B26="","",IF(July!N26="",Aug!M26,July!N26+Aug!M26)) | P26: =O26 -> 0 | Q26: =IF(B26="","",IF(July!Q26="",Aug!P26,July!Q26+Aug!P26)) | S26: =R26/500 -> 0 | T26: =IF(B26="","",IF(July!T26="",Aug!S26,July!T26+Aug!S26)) | V26: =U26*10 -> 0 | W26: =IF(B26="","",IF(July!W26="",Aug!V26,July!W26+Aug!V26)) | AB26: =(R26/F26)/175 -> #DIV/0!
... B90: =IF(July!B90="","",July!B90) | C90: =IF(July!C90="","",July!C90) | D90: =IF(B90="","",July!D90) | E90: =IF(July!B90="","",July!E90) | G90: =IF(B90="","",July!G90) | H90: =IF((F90>G90),((F90-G90)/G90),"") | J90: =I90*10 -> 0 | K90: =IF(B90="","",IF(July!K90="",Aug!J90,July!K90+Aug!J90)) | M90: =L90/2 -> 0 | N90: =IF(B90="","",IF(July!N90="",Aug!M90,July!N90+Aug!M90)) | P90: =O90 -> 0 | Q90: =IF(B90="","",IF(July!Q90="",Aug!P90,July!Q90+Aug!P90)) | S90: =R90/500 -> 0 | T90: =IF(B90="","",IF(July!T90="",Aug!S90,July!T90+Aug!S90)) | V90: =U90*10 -> 0 | W90: =IF(B90="","",IF(July!W90="",Aug!V90,July!W90+Aug!V90)) | AB90: =(R90/F90)/175 -> #DIV/0!

Sheet Sept
B2: =CONCATENATE('GENERAL GUIDELINES & SITE INFO'!E27," - monthly returns of biomass and anti-parasitic usage") -> Scottish Seafarms Ltd - monthly returns of biomass and anti-parasitic usage
B4: =CONCATENATE("Please complete and return by ",'GENERAL GUIDELINES & SITE INFO'!H32) -> Please complete and return by 14 Oct 2011;
AA5: Please Note
B6: Site Name | C6: Site ID | D6: Licence | E6: SEPA Team Area | F6: Max biomass (tonnes) | G6: Licensed Biomass (tonnes) | H6: Exceedence | I6: Enter the amount of chemical used NOT active ingredient. Entire treatment quantity should be entered in month treatment is initiated. | X6: Feed Used (kgs) | Y6: Mortalities | AA6: If Slice entry is highlighted in red please confirm value is correct here
I7: Excis (litres) containing 1% cypermethrin | J7: Cyp (grams) | K7: Total | L7: Salmosan (grams) containing 50% azamethiphos | M7: Aza (grams) | N7: Total | O7: Calicide (grams) containing 100% teflubenzuron | P7: TFBZ (grams) | Q7: Total | R7: Slice (grams) containing 0.2% emamectin benzoate | S7: Ema (grams) | T7: Total | U7: AMX (litres) containing 1% deltamethrin | V7: Delt (grams) | W7: Total | Y7: Number | Z7: Total weight (kgs)
B8: =IF(Aug!B8="","",Aug!B8) -> Bring Head | C8: =IF(Aug!C8="","",Aug!C8) -> SCAP1 | D8: =IF(B8="","",Aug!D8) -> CAR/L/1015854 | E8: =IF(Aug!B8="","",Aug!E8) -> ORK | F8: 822 | G8: =IF(B8="","",Aug!G8) -> 968 | H8: =IF((F8>G8),((F8-G8)/G8),"") | J8: =I8*10 -> 0 | K8: =IF(B8="","",IF(Aug!K8="",Sept!J8,Aug!K8+Sept!J8)) -> 0 | M8: =L8/2 -> 0 | N8: =IF(B8="","",IF(Aug!N8="",Sept!M8,Aug!N8+Sept!M8)) -> 0 | P8: =O8 -> 0 | Q8: =IF(B8="","",IF(Aug!Q8="",Sept!P8,Aug!Q8+Sept!P8)) -> 0 | S8: =R8/500 -> 0 | T8: =IF(B8="","",IF(Aug!T8="",Sept!S8,Aug!T8+Sept!S8)) -> 0 | V8: =U8*10 -> 0 | W8: =IF(B8="","",IF(Aug!W8="",Sept!V8,Aug!W8+Sept!V8)) -> 0 | X8: 260650 | Y8: 281 | Z8: 1159 | AB8: =(R8/F8)/175 -> 0
B9: =IF(Aug!B9="","",Aug!B9) -> Eday Sound | C9: =IF(Aug!C9="","",Aug!C9) -> EDA1 | D9: =IF(B9="","",Aug!D9) -> CAR/L/1003956 | E9: =IF(Aug!B9="","",Aug!E9) -> ORK | G9: =IF(B9="","",Aug!G9) -> 800 | H9: =IF((F9>G9),((F9-G9)/G9),"") | J9: =I9*10 -> 0 | K9: =IF(B9="","",IF(Aug!K9="",Sept!J9,Aug!K9+Sept!J9)) -> 0 | M9: =L9/2 -> 0 | N9: =IF(B9="","",IF(Aug!N9="",Sept!M9,Aug!N9+Sept!M9)) -> 0 | P9: =O9 -> 0 | Q9: =IF(B9="","",IF(Aug!Q9="",Sept!P9,Aug!Q9+Sept!P9)) -> 0 | S9: =R9/500 -> 0 | T9: =IF(B9="","",IF(Aug!T9="",Sept!S9,Aug!T9+Sept!S9)) -> 0 | V9: =U9*10 -> 0 | W9: =IF(B9="","",IF(Aug!W9="",Sept!V9,Aug!W9+Sept!V9)) -> 0 | AB9: =(R9/F9)/175 -> #DIV/0!
B10: =IF(Aug!B10="","",Aug!B10) -> Kirk Taing | C10: =IF(Aug!C10="","",Aug!C10) -> MILL1 | D10: =IF(B10="","",Aug!D10) -> CAR/L/1003952 | E10: =IF(Aug!B10="","",Aug!E10) -> ORK | G10: =IF(B10="","",Aug!G10) -> 800 | H10: =IF((F10>G10),((F10-G10)/G10),"") | J10: =I10*10 -> 0 | K10: =IF(B10="","",IF(Aug!K10="",Sept!J10,Aug!K10+Sept!J10)) -> 0 | M10: =L10/2 -> 0 | N10: =IF(B10="","",IF(Aug!N10="",Sept!M10,Aug!N10+Sept!M10)) -> 0 | P10: =O10 -> 0 | Q10: =IF(B10="","",IF(Aug!Q10="",Sept!P10,Aug!Q10+Sept!P10)) -> 0 | S10: =R10/500 -> 0 | T10: =IF(B10="","",IF(Aug!T10="",Sept!S10,Aug!T10+Sept!S10)) -> 0 | V10: =U10*10 -> 0 | W10: =IF(B10="","",IF(Aug!W10="",Sept!V10,Aug!W10+Sept!V10)) -> 0 | AB10: =(R10/F10)/175 -> #DIV/0!
B11: =IF(Aug!B11="","",Aug!B11) -> Mill Bay, Stronsay | C11: =IF(Aug!C11="","",Aug!C11) -> MIL1 | D11: =IF(B11="","",Aug!D11) -> CAR/L/1034607 | E11: =IF(Aug!B11="","",Aug!E11) -> ORK | G11: =IF(B11="","",Aug!G11) -> 750 | H11: =IF((F11>G11),((F11-G11)/G11),"") | J11: =I11*10 -> 0 | K11: =IF(B11="","",IF(Aug!K11="",Sept!J11,Aug!K11+Sept!J11)) -> 0 | M11: =L11/2 -> 0 | N11: =IF(B11="","",IF(Aug!N11="",Sept!M11,Aug!N11+Sept!M11)) -> 0 | P11: =O11 -> 0 | Q11: =IF(B11="","",IF(Aug!Q11="",Sept!P11,Aug!Q11+Sept!P11)) -> 0 | S11: =R11/500 -> 0 | T11: =IF(B11="","",IF(Aug!T11="",Sept!S11,Aug!T11+Sept!S11)) -> 0 | V11: =U11*10 -> 0 | W11: =IF(B11="","",IF(Aug!W11="",Sept!V11,Aug!W11+Sept!V11)) -> 0 | AB11: =(R11/F11)/175 -> #DIV/0!
B12: =IF(Aug!B12="","",Aug!B12) -> Puldrite Bay | C12: =IF(Aug!C12="","",Aug!C12) -> PUL1 | D12: =IF(B12="","",Aug!D12) -> CAR/L/1003954 | E12: =IF(Aug!B12="","",Aug!E12) -> ORK | F12: 0 | G12: =IF(B12="","",Aug!G12) -> 980 | H12: =IF((F12>G12),((F12-G12)/G12),"") | J12: =I12*10 -> 0 | K12: =IF(B12="","",IF(Aug!K12="",Sept!J12,Aug!K12+Sept!J12)) -> 0 | M12: =L12/2 -> 0 | N12: =IF(B12="","",IF(Aug!N12="",Sept!M12,Aug!N12+Sept!M12)) -> 0 | P12: =O12 -> 0 | Q12: =IF(B12="","",IF(Aug!Q12="",Sept!P12,Aug!Q12+Sept!P12)) -> 0 | S12: =R12/500 -> 0 | T12: =IF(B12="","",IF(Aug!T12="",Sept!S12,Aug!T12+Sept!S12)) -> 0 | V12: =U12*10 -> 0 | W12: =IF(B12="","",IF(Aug!W12="",Sept!V12,Aug!W12+Sept!V12)) -> 0 | AB12: =(R12/F12)/175 -> #DIV/0!
B13: =IF(Aug!B13="","",Aug!B13) -> Toy Ness | C13: =IF(Aug!C13="","",Aug!C13) -> TOYN1 | D13: =IF(B13="","",Aug!D13) -> CAR/L/1015855 | E13: =IF(Aug!B13="","",Aug!E13) -> ORK | F13: 607 | G13: =IF(B13="","",Aug!G13) -> 650 | H13: =IF((F13>G13),((F13-G13)/G13),"") | J13: =I13*10 -> 0 | K13: =IF(B13="","",IF(Aug!K13="",Sept!J13,Aug!K13+Sept!J13)) -> 0 | M13: =L13/2 -> 0 | N13: =IF(B13="","",IF(Aug!N13="",Sept!M13,Aug!N13+Sept!M13)) -> 0 | P13: =O13 -> 0 | Q13: =IF(B13="","",IF(Aug!Q13="",Sept!P13,Aug!Q13+Sept!P13)) -> 0 | S13: =R13/500 -> 0 | T13: =IF(B13="","",IF(Aug!T13="",Sept!S13,Aug!T13+Sept!S13)) -> 0 | V13: =U13*10 -> 0 | W13: =IF(B13="","",IF(Aug!W13="",Sept!V13,Aug!W13+Sept!V13)) -> 0 | X13: 253350 | Y13: 445 | Z13: 1891 | AB13: =(R13/F13)/175 -> 0
B14: =IF(Aug!B14="","",Aug!B14) -> Veantrow Bay | C14: =IF(Aug!C14="","",Aug!C14) -> VEA1 | D14: =IF(B14="","",Aug!D14) -> CAR/L/1003931 | E14: =IF(Aug!B14="","",Aug!E14) -> ORK | F14: 1135 | G14: =IF(B14="","",Aug!G14) -> 1264 | H14: =IF((F14>G14),((F14-G14)/G14),"") | J14: =I14*10 -> 0 | K14: =IF(B14="","",IF(Aug!K14="",Sept!J14,Aug!K14+Sept!J14)) -> 0 | M14: =L14/2 -> 0 | N14: =IF(B14="","",IF(Aug!N14="",Sept!M14,Aug!N14+Sept!M14)) -> 0 | P14: =O14 -> 0 | Q14: =IF(B14="","",IF(Aug!Q14="",Sept!P14,Aug!Q14+Sept!P14)) -> 0 | S14: =R14/500 -> 0 | T14: =IF(B14="","",IF(Aug!T14="",Sept!S14,Aug!T14+Sept!S14)) -> 0 | V14: =U14*10 -> 0 | W14: =IF(B14="","",IF(Aug!W14="",Sept!V14,Aug!W14+Sept!V14)) -> 0 | X14: 359026 | Y14: 2693 | Z14: 3294 | AB14: =(R14/F14)/175 -> 0
B15: =IF(Aug!B15="","",Aug!B15) | C15: =IF(Aug!C15="","",Aug!C15) | D15: =IF(B15="","",Aug!D15) | E15: =IF(Aug!B15="","",Aug!E15) | G15: =IF(B15="","",Aug!G15) | H15: =IF((F15>G15),((F15-G15)/G15),"") | J15: =I15*10 -> 0 | K15: =IF(B15="","",IF(Aug!K15="",Sept!J15,Aug!K15+Sept!J15)) | M15: =L15/2 -> 0 | N15: =IF(B15="","",IF(Aug!N15="",Sept!M15,Aug!N15+Sept!M15)) | P15: =O15 -> 0 | Q15: =IF(B15="","",IF(Aug!Q15="",Sept!P15,Aug!Q15+Sept!P15)) | S15: =R15/500 -> 0 | T15: =IF(B15="","",IF(Aug!T15="",Sept!S15,Aug!T15+Sept!S15)) | V15: =U15*10 -> 0 | W15: =IF(B15="","",IF(Aug!W15="",Sept!V15,Aug!W15+Sept!V15)) | AB15: =(R15/F15)/175 -> #DIV/0!
B16: =IF(Aug!B16="","",Aug!B16) | C16: =IF(Aug!C16="","",Aug!C16) | D16: =IF(B16="","",Aug!D16) | E16: =IF(Aug!B16="","",Aug!E16) | G16: =IF(B16="","",Aug!G16) | H16: =IF((F16>G16),((F16-G16)/G16),"") | J16: =I16*10 -> 0 | K16: =IF(B16="","",IF(Aug!K16="",Sept!J16,Aug!K16+Sept!J16)) | M16: =L16/2 -> 0 | N16: =IF(B16="","",IF(Aug!N16="",Sept!M16,Aug!N16+Sept!M16)) | P16: =O16 -> 0 | Q16: =IF(B16="","",IF(Aug!Q16="",Sept!P16,Aug!Q16+Sept!P16)) | S16: =R16/500 -> 0 | T16: =IF(B16="","",IF(Aug!T16="",Sept!S16,Aug!T16+Sept!S16)) | V16: =U16*10 -> 0 | W16: =IF(B16="","",IF(Aug!W16="",Sept!V16,Aug!W16+Sept!V16)) | AB16: =(R16/F16)/175 -> #DIV/0!
B17: =IF(Aug!B17="","",Aug!B17) | C17: =IF(Aug!C17="","",Aug!C17) | D17: =IF(B17="","",Aug!D17) | E17: =IF(Aug!B17="","",Aug!E17) | G17: =IF(B17="","",Aug!G17) | H17: =IF((F17>G17),((F17-G17)/G17),"") | J17: =I17*10 -> 0 | K17: =IF(B17="","",IF(Aug!K17="",Sept!J17,Aug!K17+Sept!J17)) | M17: =L17/2 -> 0 | N17: =IF(B17="","",IF(Aug!N17="",Sept!M17,Aug!N17+Sept!M17)) | P17: =O17 -> 0 | Q17: =IF(B17="","",IF(Aug!Q17="",Sept!P17,Aug!Q17+Sept!P17)) | S17: =R17/500 -> 0 | T17: =IF(B17="","",IF(Aug!T17="",Sept!S17,Aug!T17+Sept!S17)) | V17: =U17*10 -> 0 | W17: =IF(B17="","",IF(Aug!W17="",Sept!V17,Aug!W17+Sept!V17)) | AB17: =(R17/F17)/175 -> #DIV/0!
B18: =IF(Aug!B18="","",Aug!B18) | C18: =IF(Aug!C18="","",Aug!C18) | D18: =IF(B18="","",Aug!D18) | E18: =IF(Aug!B18="","",Aug!E18) | G18: =IF(B18="","",Aug!G18) | H18: =IF((F18>G18),((F18-G18)/G18),"") | J18: =I18*10 -> 0 | K18: =IF(B18="","",IF(Aug!K18="",Sept!J18,Aug!K18+Sept!J18)) | M18: =L18/2 -> 0 | N18: =IF(B18="","",IF(Aug!N18="",Sept!M18,Aug!N18+Sept!M18)) | P18: =O18 -> 0 | Q18: =IF(B18="","",IF(Aug!Q18="",Sept!P18,Aug!Q18+Sept!P18)) | S18: =R18/500 -> 0 | T18: =IF(B18="","",IF(Aug!T18="",Sept!S18,Aug!T18+Sept!S18)) | V18: =U18*10 -> 0 | W18: =IF(B18="","",IF(Aug!W18="",Sept!V18,Aug!W18+Sept!V18)) | AB18: =(R18/F18)/175 -> #DIV/0!
B19: =IF(Aug!B19="","",Aug!B19) | C19: =IF(Aug!C19="","",Aug!C19) | D19: =IF(B19="","",Aug!D19) | E19: =IF(Aug!B19="","",Aug!E19) | G19: =IF(B19="","",Aug!G19) | H19: =IF((F19>G19),((F19-G19)/G19),"") | J19: =I19*10 -> 0 | K19: =IF(B19="","",IF(Aug!K19="",Sept!J19,Aug!K19+Sept!J19)) | M19: =L19/2 -> 0 | N19: =IF(B19="","",IF(Aug!N19="",Sept!M19,Aug!N19+Sept!M19)) | P19: =O19 -> 0 | Q19: =IF(B19="","",IF(Aug!Q19="",Sept!P19,Aug!Q19+Sept!P19)) | S19: =R19/500 -> 0 | T19: =IF(B19="","",IF(Aug!T19="",Sept!S19,Aug!T19+Sept!S19)) | V19: =U19*10 -> 0 | W19: =IF(B19="","",IF(Aug!W19="",Sept!V19,Aug!W19+Sept!V19)) | AB19: =(R19/F19)/175 -> #DIV/0!
B20: =IF(Aug!B20="","",Aug!B20) | C20: =IF(Aug!C20="","",Aug!C20) | D20: =IF(B20="","",Aug!D20) | E20: =IF(Aug!B20="","",Aug!E20) | G20: =IF(B20="","",Aug!G20) | H20: =IF((F20>G20),((F20-G20)/G20),"") | J20: =I20*10 -> 0 | K20: =IF(B20="","",IF(Aug!K20="",Sept!J20,Aug!K20+Sept!J20)) | M20: =L20/2 -> 0 | N20: =IF(B20="","",IF(Aug!N20="",Sept!M20,Aug!N20+Sept!M20)) | P20: =O20 -> 0 | Q20: =IF(B20="","",IF(Aug!Q20="",Sept!P20,Aug!Q20+Sept!P20)) | S20: =R20/500 -> 0 | T20: =IF(B20="","",IF(Aug!T20="",Sept!S20,Aug!T20+Sept!S20)) | V20: =U20*10 -> 0 | W20: =IF(B20="","",IF(Aug!W20="",Sept!V20,Aug!W20+Sept!V20)) | AB20: =(R20/F20)/175 -> #DIV/0!
B21: =IF(Aug!B21="","",Aug!B21) | C21: =IF(Aug!C21="","",Aug!C21) | D21: =IF(B21="","",Aug!D21) | E21: =IF(Aug!B21="","",Aug!E21) | G21: =IF(B21="","",Aug!G21) | H21: =IF((F21>G21),((F21-G21)/G21),"") | J21: =I21*10 -> 0 | K21: =IF(B21="","",IF(Aug!K21="",Sept!J21,Aug!K21+Sept!J21)) | M21: =L21/2 -> 0 | N21: =IF(B21="","",IF(Aug!N21="",Sept!M21,Aug!N21+Sept!M21)) | P21: =O21 -> 0 | Q21: =IF(B21="","",IF(Aug!Q21="",Sept!P21,Aug!Q21+Sept!P21)) | S21: =R21/500 -> 0 | T21: =IF(B21="","",IF(Aug!T21="",Sept!S21,Aug!T21+Sept!S21)) | V21: =U21*10 -> 0 | W21: =IF(B21="","",IF(Aug!W21="",Sept!V21,Aug!W21+Sept!V21)) | AB21: =(R21/F21)/175 -> #DIV/0!
B22: =IF(Aug!B22="","",Aug!B22) | C22: =IF(Aug!C22="","",Aug!C22) | D22: =IF(B22="","",Aug!D22) | E22: =IF(Aug!B22="","",Aug!E22) | G22: =IF(B22="","",Aug!G22) | H22: =IF((F22>G22),((F22-G22)/G22),"") | J22: =I22*10 -> 0 | K22: =IF(B22="","",IF(Aug!K22="",Sept!J22,Aug!K22+Sept!J22)) | M22: =L22/2 -> 0 | N22: =IF(B22="","",IF(Aug!N22="",Sept!M22,Aug!N22+Sept!M22)) | P22: =O22 -> 0 | Q22: =IF(B22="","",IF(Aug!Q22="",Sept!P22,Aug!Q22+Sept!P22)) | S22: =R22/500 -> 0 | T22: =IF(B22="","",IF(Aug!T22="",Sept!S22,Aug!T22+Sept!S22)) | V22: =U22*10 -> 0 | W22: =IF(B22="","",IF(Aug!W22="",Sept!V22,Aug!W22+Sept!V22)) | AB22: =(R22/F22)/175 -> #DIV/0!
B23: =IF(Aug!B23="","",Aug!B23) | C23: =IF(Aug!C23="","",Aug!C23) | D23: =IF(B23="","",Aug!D23) | E23: =IF(Aug!B23="","",Aug!E23) | G23: =IF(B23="","",Aug!G23) | H23: =IF((F23>G23),((F23-G23)/G23),"") | J23: =I23*10 -> 0 | K23: =IF(B23="","",IF(Aug!K23="",Sept!J23,Aug!K23+Sept!J23)) | M23: =L23/2 -> 0 | N23: =IF(B23="","",IF(Aug!N23="",Sept!M23,Aug!N23+Sept!M23)) | P23: =O23 -> 0 | Q23: =IF(B23="","",IF(Aug!Q23="",Sept!P23,Aug!Q23+Sept!P23)) | S23: =R23/500 -> 0 | T23: =IF(B23="","",IF(Aug!T23="",Sept!S23,Aug!T23+Sept!S23)) | V23: =U23*10 -> 0 | W23: =IF(B23="","",IF(Aug!W23="",Sept!V23,Aug!W23+Sept!V23)) | AB23: =(R23/F23)/175 -> #DIV/0!
B24: =IF(Aug!B24="","",Aug!B24) | C24: =IF(Aug!C24="","",Aug!C24) | D24: =IF(B24="","",Aug!D24) | E24: =IF(Aug!B24="","",Aug!E24) | G24: =IF(B24="","",Aug!G24) | H24: =IF((F24>G24),((F24-G24)/G24),"") | J24: =I24*10 -> 0 | K24: =IF(B24="","",IF(Aug!K24="",Sept!J24,Aug!K24+Sept!J24)) | M24: =L24/2 -> 0 | N24: =IF(B24="","",IF(Aug!N24="",Sept!M24,Aug!N24+Sept!M24)) | P24: =O24 -> 0 | Q24: =IF(B24="","",IF(Aug!Q24="",Sept!P24,Aug!Q24+Sept!P24)) | S24: =R24/500 -> 0 | T24: =IF(B24="","",IF(Aug!T24="",Sept!S24,Aug!T24+Sept!S24)) | V24: =U24*10 -> 0 | W24: =IF(B24="","",IF(Aug!W24="",Sept!V24,Aug!W24+Sept!V24)) | AB24: =(R24/F24)/175 -> #DIV/0!
B25: =IF(Aug!B25="","",Aug!B25) | C25: =IF(Aug!C25="","",Aug!C25) | D25: =IF(B25="","",Aug!D25) | E25: =IF(Aug!B25="","",Aug!E25) | G25: =IF(B25="","",Aug!G25) | H25: =IF((F25>G25),((F25-G25)/G25),"") | J25: =I25*10 -> 0 | K25: =IF(B25="","",IF(Aug!K25="",Sept!J25,Aug!K25+Sept!J25)) | M25: =L25/2 -> 0 | N25: =IF(B25="","",IF(Aug!N25="",Sept!M25,Aug!N25+Sept!M25)) | P25: =O25 -> 0 | Q25: =IF(B25="","",IF(Aug!Q25="",Sept!P25,Aug!Q25+Sept!P25)) | S25: =R25/500 -> 0 | T25: =IF(B25="","",IF(Aug!T25="",Sept!S25,Aug!T25+Sept!S25)) | V25: =U25*10 -> 0 | W25: =IF(B25="","",IF(Aug!W25="",Sept!V25,Aug!W25+Sept!V25)) | AB25: =(R25/F25)/175 -> #DIV/0!
B26: =IF(Aug!B26="","",Aug!B26) | C26: =IF(Aug!C26="","",Aug!C26) | D26: =IF(B26="","",Aug!D26) | E26: =IF(Aug!B26="","",Aug!E26) | G26: =IF(B26="","",Aug!G26) | H26: =IF((F26>G26),((F26-G26)/G26),"") | J26: =I26*10 -> 0 | K26: =IF(B26="","",IF(Aug!K26="",Sept!J26,Aug!K26+Sept!J26)) | M26: =L26/2 -> 0 | N26: =IF(B26="","",IF(Aug!N26="",Sept!M26,Aug!N26+Sept!M26)) | P26: =O26 -> 0 | Q26: =IF(B26="","",IF(Aug!Q26="",Sept!P26,Aug!Q26+Sept!P26)) | S26: =R26/500 -> 0 | T26: =IF(B26="","",IF(Aug!T26="",Sept!S26,Aug!T26+Sept!S26)) | V26: =U26*10 -> 0 | W26: =IF(B26="","",IF(Aug!W26="",Sept!V26,Aug!W26+Sept!V26)) | AB26: =(R26/F26)/175 -> #DIV/0!
... B90: =IF(Aug!B90="","",Aug!B90) | C90: =IF(Aug!C90="","",Aug!C90) | D90: =IF(B90="","",Aug!D90) | E90: =IF(Aug!B90="","",Aug!E90) | G90: =IF(B90="","",Aug!G90) | H90: =IF((F90>G90),((F90-G90)/G90),"") | J90: =I90*10 -> 0 | K90: =IF(B90="","",IF(Aug!K90="",Sept!J90,Aug!K90+Sept!J90)) | M90: =L90/2 -> 0 | N90: =IF(B90="","",IF(Aug!N90="",Sept!M90,Aug!N90+Sept!M90)) | P90: =O90 -> 0 | Q90: =IF(B90="","",IF(Aug!Q90="",Sept!P90,Aug!Q90+Sept!P90)) | S90: =R90/500 -> 0 | T90: =IF(B90="","",IF(Aug!T90="",Sept!S90,Aug!T90+Sept!S90)) | V90: =U90*10 -> 0 | W90: =IF(B90="","",IF(Aug!W90="",Sept!V90,Aug!W90+Sept!V90)) | AB90: =(R90/F90)/175 -> #DIV/0!

Sheet Oct
B2: =CONCATENATE('GENERAL GUIDELINES & SITE INFO'!E27," - monthly returns of biomass and anti-parasitic usage") -> Scottish Seafarms Ltd - monthly returns of biomass and anti-parasitic usage
H3: REMEMBER QUESTIONAIRE REQUIREMENTS FOR DECEMBER RETURN
B4: =CONCATENATE("Please complete and return by ",'GENERAL GUIDELINES & SITE INFO'!I32) -> Please complete and return by 20 Jan 2012;
AA5: Please Note
B6: Site Name | C6: Site ID | D6: Licence | E6: SEPA Team Area | F6: Max biomass (tonnes) | G6: Licensed Biomass (tonnes) | H6: Exceedence | I6: Enter the amount of chemical used NOT active ingredient. Entire treatment quantity should be entered in month treatment is initiated. | X6: Feed Used (kgs) | Y6: Mortalities | AA6: If Slice entry is highlighted in red please confirm value is correct here
I7: Excis (litres) containing 1% cypermethrin | J7: Cyp (grams) | K7: Total | L7: Salmosan (grams) containing 50% azamethiphos | M7: Aza (grams) | N7: Total | O7: Calicide (grams) containing 100% teflubenzuron | P7: TFBZ (grams) | Q7: Total | R7: Slice (grams) containing 0.2% emamectin benzoate | S7: Ema (grams) | T7: Total | U7: AMX (litres) containing 1% deltamethrin | V7: Delt (grams) | W7: Total | Y7: Number | Z7: Total weight (kgs)
B8: =IF(Sept!B8="","",Sept!B8) -> Bring Head | C8: =IF(Sept!C8="","",Sept!C8) -> SCAP1 | D8: =IF(B8="","",Sept!D8) -> CAR/L/1015854 | E8: =IF(Sept!B8="","",Sept!E8) -> ORK | F8: 822 | G8: =IF(B8="","",Sept!G8) -> 968 | H8: =IF((F8>G8),((F8-G8)/G8),"") | J8: =I8*10 -> 0 | K8: =IF(B8="","",IF(Sept!K8="",Oct!J8,Sept!K8+Oct!J8)) -> 0 | M8: =L8/2 -> 0 | N8: =IF(B8="","",IF(Sept!N8="",Oct!M8,Sept!N8+Oct!M8)) -> 0 | P8: =O8 -> 0 | Q8: =IF(B8="","",IF(Sept!Q8="",Oct!P8,Sept!Q8+Oct!P8)) -> 0 | S8: =R8/500 -> 0 | T8: =IF(B8="","",IF(Sept!T8="",Oct!S8,Sept!T8+Oct!S8)) -> 0 | V8: =U8*10 -> 0 | W8: =IF(B8="","",IF(Sept!W8="",Oct!V8,Sept!W8+Oct!V8)) -> 0 | X8: 150950 | Y8: 1841 | Z8: 9952 | AB8: =(R8/F8)/175 -> 0
B9: =IF(Sept!B9="","",Sept!B9) -> Eday Sound | C9: =IF(Sept!C9="","",Sept!C9) -> EDA1 | D9: =IF(B9="","",Sept!D9) -> CAR/L/1003956 | E9: =IF(Sept!B9="","",Sept!E9) -> ORK | G9: =IF(B9="","",Sept!G9) -> 800 | H9: =IF((F9>G9),((F9-G9)/G9),"") | J9: =I9*10 -> 0 | K9: =IF(B9="","",IF(Sept!K9="",Oct!J9,Sept!K9+Oct!J9)) -> 0 | M9: =L9/2 -> 0 | N9: =IF(B9="","",IF(Sept!N9="",Oct!M9,Sept!N9+Oct!M9)) -> 0 | P9: =O9 -> 0 | Q9: =IF(B9="","",IF(Sept!Q9="",Oct!P9,Sept!Q9+Oct!P9)) -> 0 | S9: =R9/500 -> 0 | T9: =IF(B9="","",IF(Sept!T9="",Oct!S9,Sept!T9+Oct!S9)) -> 0 | V9: =U9*10 -> 0 | W9: =IF(B9="","",IF(Sept!W9="",Oct!V9,Sept!W9+Oct!V9)) -> 0 | AB9: =(R9/F9)/175 -> #DIV/0!
B10: =IF(Sept!B10="","",Sept!B10) -> Kirk Taing | C10: =IF(Sept!C10="","",Sept!C10) -> MILL1 | D10: =IF(B10="","",Sept!D10) -> CAR/L/1003952 | E10: =IF(Sept!B10="","",Sept!E10) -> ORK | G10: =IF(B10="","",Sept!G10) -> 800 | H10: =IF((F10>G10),((F10-G10)/G10),"") | J10: =I10*10 -> 0 | K10: =IF(B10="","",IF(Sept!K10="",Oct!J10,Sept!K10+Oct!J10)) -> 0 | M10: =L10/2 -> 0 | N10: =IF(B10="","",IF(Sept!N10="",Oct!M10,Sept!N10+Oct!M10)) -> 0 | P10: =O10 -> 0 | Q10: =IF(B10="","",IF(Sept!Q10="",Oct!P10,Sept!Q10+Oct!P10)) -> 0 | S10: =R10/500 -> 0 | T10: =IF(B10="","",IF(Sept!T10="",Oct!S10,Sept!T10+Oct!S10)) -> 0 | V10: =U10*10 -> 0 | W10: =IF(B10="","",IF(Sept!W10="",Oct!V10,Sept!W10+Oct!V10)) -> 0 | AB10: =(R10/F10)/175 -> #DIV/0!
B11: =IF(Sept!B11="","",Sept!B11) -> Mill Bay, Stronsay | C11: =IF(Sept!C11="","",Sept!C11) -> MIL1 | D11: =IF(B11="","",Sept!D11) -> CAR/L/1034607 | E11: =IF(Sept!B11="","",Sept!E11) -> ORK | G11: =IF(B11="","",Sept!G11) -> 750 | H11: =IF((F11>G11),((F11-G11)/G11),"") | J11: =I11*10 -> 0 | K11: =IF(B11="","",IF(Sept!K11="",Oct!J11,Sept!K11+Oct!J11)) -> 0 | M11: =L11/2 -> 0 | N11: =IF(B11="","",IF(Sept!N11="",Oct!M11,Sept!N11+Oct!M11)) -> 0 | P11: =O11 -> 0 | Q11: =IF(B11="","",IF(Sept!Q11="",Oct!P11,Sept!Q11+Oct!P11)) -> 0 | S11: =R11/500 -> 0 | T11: =IF(B11="","",IF(Sept!T11="",Oct!S11,Sept!T11+Oct!S11)) -> 0 | V11: =U11*10 -> 0 | W11: =IF(B11="","",IF(Sept!W11="",Oct!V11,Sept!W11+Oct!V11)) -> 0 | AB11: =(R11/F11)/175 -> #DIV/0!
B12: =IF(Sept!B12="","",Sept!B12) -> Puldrite Bay | C12: =IF(Sept!C12="","",Sept!C12) -> PUL1 | D12: =IF(B12="","",Sept!D12) -> CAR/L/1003954 | E12: =IF(Sept!B12="","",Sept!E12) -> ORK | F12: 323 | G12: =IF(B12="","",Sept!G12) -> 980 | H12: =IF((F12>G12),((F12-G12)/G12),"") | J12: =I12*10 -> 0 | K12: =IF(B12="","",IF(Sept!K12="",Oct!J12,Sept!K12+Oct!J12)) -> 0 | M12: =L12/2 -> 0 | N12: =IF(B12="","",IF(Sept!N12="",Oct!M12,Sept!N12+Oct!M12)) -> 0 | P12: =O12 -> 0 | Q12: =IF(B12="","",IF(Sept!Q12="",Oct!P12,Sept!Q12+Oct!P12)) -> 0 | S12: =R12/500 -> 0 | T12: =IF(B12="","",IF(Sept!T12="",Oct!S12,Sept!T12+Oct!S12)) -> 0 | V12: =U12*10 -> 0 | W12: =IF(B12="","",IF(Sept!W12="",Oct!V12,Sept!W12+Oct!V12)) -> 0 | X12: 60225 | Y12: 621 | Z12: 548 | AB12: =(R12/F12)/175 -> 0
B13: =IF(Sept!B13="","",Sept!B13) -> Toy Ness | C13: =IF(Sept!C13="","",Sept!C13) -> TOYN1 | D13: =IF(B13="","",Sept!D13) -> CAR/L/1015855 | E13: =IF(Sept!B13="","",Sept!E13) -> ORK | F13: 608 | G13: =IF(B13="","",Sept!G13) -> 650 | H13: =IF((F13>G13),((F13-G13)/G13),"") | J13: =I13*10 -> 0 | K13: =IF(B13="","",IF(Sept!K13="",Oct!J13,Sept!K13+Oct!J13)) -> 0 | M13: =L13/2 -> 0 | N13: =IF(B13="","",IF(Sept!N13="",Oct!M13,Sept!N13+Oct!M13)) -> 0 | P13: =O13 -> 0 | Q13: =IF(B13="","",IF(Sept!Q13="",Oct!P13,Sept!Q13+Oct!P13)) -> 0 | S13: =R13/500 -> 0 | T13: =IF(B13="","",IF(Sept!T13="",Oct!S13,Sept!T13+Oct!S13)) -> 0 | V13: =U13*10 -> 0 | W13: =IF(B13="","",IF(Sept!W13="",Oct!V13,Sept!W13+Oct!V13)) -> 0 | X13: 126650 | Y13: 331 | Z13: 1703 | AB13: =(R13/F13)/175 -> 0
B14: =IF(Sept!B14="","",Sept!B14) -> Veantrow Bay | C14: =IF(Sept!C14="","",Sept!C14) -> VEA1 | D14: =IF(B14="","",Sept!D14) -> CAR/L/1003931 | E14: =IF(Sept!B14="","",Sept!E14) -> ORK | F14: 915 | G14: =IF(B14="","",Sept!G14) -> 1264 | H14: =IF((F14>G14),((F14-G14)/G14),"") | J14: =I14*10 -> 0 | K14: =IF(B14="","",IF(Sept!K14="",Oct!J14,Sept!K14+Oct!J14)) -> 0 | M14: =L14/2 -> 0 | N14: =IF(B14="","",IF(Sept!N14="",Oct!M14,Sept!N14+Oct!M14)) -> 0 | P14: =O14 -> 0 | Q14: =IF(B14="","",IF(Sept!Q14="",Oct!P14,Sept!Q14+Oct!P14)) -> 0 | S14: =R14/500 -> 0 | T14: =IF(B14="","",IF(Sept!T14="",Oct!S14,Sept!T14+Oct!S14)) -> 0 | V14: =U14*10 -> 0 | W14: =IF(B14="","",IF(Sept!W14="",Oct!V14,Sept!W14+Oct!V14)) -> 0 | X14: 122139 | Y14: 825 | Z14: 2238 | AB14: =(R14/F14)/175 -> 0
B15: =IF(Sept!B15="","",Sept!B15) | C15: =IF(Sept!C15="","",Sept!C15) | D15: =IF(B15="","",Sept!D15) | E15: =IF(Sept!B15="","",Sept!E15) | G15: =IF(B15="","",Sept!G15) | H15: =IF((F15>G15),((F15-G15)/G15),"") | J15: =I15*10 -> 0 | K15: =IF(B15="","",IF(Sept!K15="",Oct!J15,Sept!K15+Oct!J15)) | M15: =L15/2 -> 0 | N15: =IF(B15="","",IF(Sept!N15="",Oct!M15,Sept!N15+Oct!M15)) | P15: =O15 -> 0 | Q15: =IF(B15="","",IF(Sept!Q15="",Oct!P15,Sept!Q15+Oct!P15)) | S15: =R15/500 -> 0 | T15: =IF(B15="","",IF(Sept!T15="",Oct!S15,Sept!T15+Oct!S15)) | V15: =U15*10 -> 0 | W15: =IF(B15="","",IF(Sept!W15="",Oct!V15,Sept!W15+Oct!V15)) | AB15: =(R15/F15)/175 -> #DIV/0!
B16: =IF(Sept!B16="","",Sept!B16) | C16: =IF(Sept!C16="","",Sept!C16) | D16: =IF(B16="","",Sept!D16) | E16: =IF(Sept!B16="","",Sept!E16) | G16: =IF(B16="","",Sept!G16) | H16: =IF((F16>G16),((F16-G16)/G16),"") | J16: =I16*10 -> 0 | K16: =IF(B16="","",IF(Sept!K16="",Oct!J16,Sept!K16+Oct!J16)) | M16: =L16/2 -> 0 | N16: =IF(B16="","",IF(Sept!N16="",Oct!M16,Sept!N16+Oct!M16)) | P16: =O16 -> 0 | Q16: =IF(B16="","",IF(Sept!Q16="",Oct!P16,Sept!Q16+Oct!P16)) | S16: =R16/500 -> 0 | T16: =IF(B16="","",IF(Sept!T16="",Oct!S16,Sept!T16+Oct!S16)) | V16: =U16*10 -> 0 | W16: =IF(B16="","",IF(Sept!W16="",Oct!V16,Sept!W16+Oct!V16)) | AB16: =(R16/F16)/175 -> #DIV/0!
B17: =IF(Sept!B17="","",Sept!B17) | C17: =IF(Sept!C17="","",Sept!C17) | D17: =IF(B17="","",Sept!D17) | E17: =IF(Sept!B17="","",Sept!E17) | G17: =IF(B17="","",Sept!G17) | H17: =IF((F17>G17),((F17-G17)/G17),"") | J17: =I17*10 -> 0 | K17: =IF(B17="","",IF(Sept!K17="",Oct!J17,Sept!K17+Oct!J17)) | M17: =L17/2 -> 0 | N17: =IF(B17="","",IF(Sept!N17="",Oct!M17,Sept!N17+Oct!M17)) | P17: =O17 -> 0 | Q17: =IF(B17="","",IF(Sept!Q17="",Oct!P17,Sept!Q17+Oct!P17)) | S17: =R17/500 -> 0 | T17: =IF(B17="","",IF(Sept!T17="",Oct!S17,Sept!T17+Oct!S17)) | V17: =U17*10 -> 0 | W17: =IF(B17="","",IF(Sept!W17="",Oct!V17,Sept!W17+Oct!V17)) | AB17: =(R17/F17)/175 -> #DIV/0!
B18: =IF(Sept!B18="","",Sept!B18) | C18: =IF(Sept!C18="","",Sept!C18) | D18: =IF(B18="","",Sept!D18) | E18: =IF(Sept!B18="","",Sept!E18) | G18: =IF(B18="","",Sept!G18) | H18: =IF((F18>G18),((F18-G18)/G18),"") | J18: =I18*10 -> 0 | K18: =IF(B18="","",IF(Sept!K18="",Oct!J18,Sept!K18+Oct!J18)) | M18: =L18/2 -> 0 | N18: =IF(B18="","",IF(Sept!N18="",Oct!M18,Sept!N18+Oct!M18)) | P18: =O18 -> 0 | Q18: =IF(B18="","",IF(Sept!Q18="",Oct!P18,Sept!Q18+Oct!P18)) | S18: =R18/500 -> 0 | T18: =IF(B18="","",IF(Sept!T18="",Oct!S18,Sept!T18+Oct!S18)) | V18: =U18*10 -> 0 | W18: =IF(B18="","",IF(Sept!W18="",Oct!V18,Sept!W18+Oct!V18)) | AB18: =(R18/F18)/175 -> #DIV/0!
B19: =IF(Sept!B19="","",Sept!B19) | C19: =IF(Sept!C19="","",Sept!C19) | D19: =IF(B19="","",Sept!D19) | E19: =IF(Sept!B19="","",Sept!E19) | G19: =IF(B19="","",Sept!G19) | H19: =IF((F19>G19),((F19-G19)/G19),"") | J19: =I19*10 -> 0 | K19: =IF(B19="","",IF(Sept!K19="",Oct!J19,Sept!K19+Oct!J19)) | M19: =L19/2 -> 0 | N19: =IF(B19="","",IF(Sept!N19="",Oct!M19,Sept!N19+Oct!M19)) | P19: =O19 -> 0 | Q19: =IF(B19="","",IF(Sept!Q19="",Oct!P19,Sept!Q19+Oct!P19)) | S19: =R19/500 -> 0 | T19: =IF(B19="","",IF(Sept!T19="",Oct!S19,Sept!T19+Oct!S19)) | V19: =U19*10 -> 0 | W19: =IF(B19="","",IF(Sept!W19="",Oct!V19,Sept!W19+Oct!V19)) | AB19: =(R19/F19)/175 -> #DIV/0!
B20: =IF(Sept!B20="","",Sept!B20) | C20: =IF(Sept!C20="","",Sept!C20) | D20: =IF(B20="","",Sept!D20) | E20: =IF(Sept!B20="","",Sept!E20) | G20: =IF(B20="","",Sept!G20) | H20: =IF((F20>G20),((F20-G20)/G20),"") | J20: =I20*10 -> 0 | K20: =IF(B20="","",IF(Sept!K20="",Oct!J20,Sept!K20+Oct!J20)) | M20: =L20/2 -> 0 | N20: =IF(B20="","",IF(Sept!N20="",Oct!M20,Sept!N20+Oct!M20)) | P20: =O20 -> 0 | Q20: =IF(B20="","",IF(Sept!Q20="",Oct!P20,Sept!Q20+Oct!P20)) | S20: =R20/500 -> 0 | T20: =IF(B20="","",IF(Sept!T20="",Oct!S20,Sept!T20+Oct!S20)) | V20: =U20*10 -> 0 | W20: =IF(B20="","",IF(Sept!W20="",Oct!V20,Sept!W20+Oct!V20)) | AB20: =(R20/F20)/175 -> #DIV/0!
B21: =IF(Sept!B21="","",Sept!B21) | C21: =IF(Sept!C21="","",Sept!C21) | D21: =IF(B21="","",Sept!D21) | E21: =IF(Sept!B21="","",Sept!E21) | G21: =IF(B21="","",Sept!G21) | H21: =IF((F21>G21),((F21-G21)/G21),"") | J21: =I21*10 -> 0 | K21: =IF(B21="","",IF(Sept!K21="",Oct!J21,Sept!K21+Oct!J21)) | M21: =L21/2 -> 0 | N21: =IF(B21="","",IF(Sept!N21="",Oct!M21,Sept!N21+Oct!M21)) | P21: =O21 -> 0 | Q21: =IF(B21="","",IF(Sept!Q21="",Oct!P21,Sept!Q21+Oct!P21)) | S21: =R21/500 -> 0 | T21: =IF(B21="","",IF(Sept!T21="",Oct!S21,Sept!T21+Oct!S21)) | V21: =U21*10 -> 0 | W21: =IF(B21="","",IF(Sept!W21="",Oct!V21,Sept!W21+Oct!V21)) | AB21: =(R21/F21)/175 -> #DIV/0!
B22: =IF(Sept!B22="","",Sept!B22) | C22: =IF(Sept!C22="","",Sept!C22) | D22: =IF(B22="","",Sept!D22) | E22: =IF(Sept!B22="","",Sept!E22) | G22: =IF(B22="","",Sept!G22) | H22: =IF((F22>G22),((F22-G22)/G22),"") | J22: =I22*10 -> 0 | K22: =IF(B22="","",IF(Sept!K22="",Oct!J22,Sept!K22+Oct!J22)) | M22: =L22/2 -> 0 | N22: =IF(B22="","",IF(Sept!N22="",Oct!M22,Sept!N22+Oct!M22)) | P22: =O22 -> 0 | Q22: =IF(B22="","",IF(Sept!Q22="",Oct!P22,Sept!Q22+Oct!P22)) | S22: =R22/500 -> 0 | T22: =IF(B22="","",IF(Sept!T22="",Oct!S22,Sept!T22+Oct!S22)) | V22: =U22*10 -> 0 | W22: =IF(B22="","",IF(Sept!W22="",Oct!V22,Sept!W22+Oct!V22)) | AB22: =(R22/F22)/175 -> #DIV/0!
B23: =IF(Sept!B23="","",Sept!B23) | C23: =IF(Sept!C23="","",Sept!C23) | D23: =IF(B23="","",Sept!D23) | E23: =IF(Sept!B23="","",Sept!E23) | G23: =IF(B23="","",Sept!G23) | H23: =IF((F23>G23),((F23-G23)/G23),"") | J23: =I23*10 -> 0 | K23: =IF(B23="","",IF(Sept!K23="",Oct!J23,Sept!K23+Oct!J23)) | M23: =L23/2 -> 0 | N23: =IF(B23="","",IF(Sept!N23="",Oct!M23,Sept!N23+Oct!M23)) | P23: =O23 -> 0 | Q23: =IF(B23="","",IF(Sept!Q23="",Oct!P23,Sept!Q23+Oct!P23)) | S23: =R23/500 -> 0 | T23: =IF(B23="","",IF(Sept!T23="",Oct!S23,Sept!T23+Oct!S23)) | V23: =U23*10 -> 0 | W23: =IF(B23="","",IF(Sept!W23="",Oct!V23,Sept!W23+Oct!V23)) | AB23: =(R23/F23)/175 -> #DIV/0!
B24: =IF(Sept!B24="","",Sept!B24) | C24: =IF(Sept!C24="","",Sept!C24) | D24: =IF(B24="","",Sept!D24) | E24: =IF(Sept!B24="","",Sept!E24) | G24: =IF(B24="","",Sept!G24) | H24: =IF((F24>G24),((F24-G24)/G24),"") | J24: =I24*10 -> 0 | K24: =IF(B24="","",IF(Sept!K24="",Oct!J24,Sept!K24+Oct!J24)) | M24: =L24/2 -> 0 | N24: =IF(B24="","",IF(Sept!N24="",Oct!M24,Sept!N24+Oct!M24)) | P24: =O24 -> 0 | Q24: =IF(B24="","",IF(Sept!Q24="",Oct!P24,Sept!Q24+Oct!P24)) | S24: =R24/500 -> 0 | T24: =IF(B24="","",IF(Sept!T24="",Oct!S24,Sept!T24+Oct!S24)) | V24: =U24*10 -> 0 | W24: =IF(B24="","",IF(Sept!W24="",Oct!V24,Sept!W24+Oct!V24)) | AB24: =(R24/F24)/175 -> #DIV/0!
B25: =IF(Sept!B25="","",Sept!B25) | C25: =IF(Sept!C25="","",Sept!C25) | D25: =IF(B25="","",Sept!D25) | E25: =IF(Sept!B25="","",Sept!E25) | G25: =IF(B25="","",Sept!G25) | H25: =IF((F25>G25),((F25-G25)/G25),"") | J25: =I25*10 -> 0 | K25: =IF(B25="","",IF(Sept!K25="",Oct!J25,Sept!K25+Oct!J25)) | M25: =L25/2 -> 0 | N25: =IF(B25="","",IF(Sept!N25="",Oct!M25,Sept!N25+Oct!M25)) | P25: =O25 -> 0 | Q25: =IF(B25="","",IF(Sept!Q25="",Oct!P25,Sept!Q25+Oct!P25)) | S25: =R25/500 -> 0 | T25: =IF(B25="","",IF(Sept!T25="",Oct!S25,Sept!T25+Oct!S25)) | V25: =U25*10 -> 0 | W25: =IF(B25="","",IF(Sept!W25="",Oct!V25,Sept!W25+Oct!V25)) | AB25: =(R25/F25)/175 -> #DIV/0!
B26: =IF(Sept!B26="","",Sept!B26) | C26: =IF(Sept!C26="","",Sept!C26) | D26: =IF(B26="","",Sept!D26) | E26: =IF(Sept!B26="","",Sept!E26) | G26: =IF(B26="","",Sept!G26) | H26: =IF((F26>G26),((F26-G26)/G26),"") | J26: =I26*10 -> 0 | K26: =IF(B26="","",IF(Sept!K26="",Oct!J26,Sept!K26+Oct!J26)) | M26: =L26/2 -> 0 | N26: =IF(B26="","",IF(Sept!N26="",Oct!M26,Sept!N26+Oct!M26)) | P26: =O26 -> 0 | Q26: =IF(B26="","",IF(Sept!Q26="",Oct!P26,Sept!Q26+Oct!P26)) | S26: =R26/500 -> 0 | T26: =IF(B26="","",IF(Sept!T26="",Oct!S26,Sept!T26+Oct!S26)) | V26: =U26*10 -> 0 | W26: =IF(B26="","",IF(Sept!W26="",Oct!V26,Sept!W26+Oct!V26)) | AB26: =(R26/F26)/175 -> #DIV/0!
... B90: =IF(Sept!B90="","",Sept!B90) | C90: =IF(Sept!C90="","",Sept!C90) | D90: =IF(B90="","",Sept!D90) | E90: =IF(Sept!B90="","",Sept!E90) | G90: =IF(B90="","",Sept!G90) | H90: =IF((F90>G90),((F90-G90)/G90),"") | J90: =I90*10 -> 0 | K90: =IF(B90="","",IF(Sept!K90="",Oct!J90,Sept!K90+Oct!J90)) | M90: =L90/2 -> 0 | N90: =IF(B90="","",IF(Sept!N90="",Oct!M90,Sept!N90+Oct!M90)) | P90: =O90 -> 0 | Q90: =IF(B90="","",IF(Sept!Q90="",Oct!P90,Sept!Q90+Oct!P90)) | S90: =R90/500 -> 0 | T90: =IF(B90="","",IF(Sept!T90="",Oct!S90,Sept!T90+Oct!S90)) | V90: =U90*10 -> 0 | W90: =IF(B90="","",IF(Sept!W90="",Oct!V90,Sept!W90+Oct!V90)) | AB90: =(R90/F90)/175 -> #DIV/0!

Sheet Nov
B2: =CONCATENATE('GENERAL GUIDELINES & SITE INFO'!E27," - monthly returns of biomass and anti-parasitic usage") -> Scottish Seafarms Ltd - monthly returns of biomass and anti-parasitic usage
H3: REMEMBER QUESTIONAIRE REQUIREMENTS FOR DECEMBER RETURN
B4: =CONCATENATE("Please complete and return by ",'GENERAL GUIDELINES & SITE INFO'!I32) -> Please complete and return by 20 Jan 2012;
AA5: Please Note
B6: Site Name | C6: Site ID | D6: Licence | E6: SEPA Team Area | F6: Max biomass (tonnes) | G6: Licensed Biomass (tonnes) | H6: Exceedence | I6: Enter the amount of chemical used NOT active ingredient. Entire treatment quantity should be entered in month treatment is initiated. | X6: Feed Used (kgs) | Y6: Mortalities | AA6: If Slice entry is highlighted in red please confirm value is correct here
I7: Excis (litres) containing 1% cypermethrin | J7: Cyp (grams) | K7: Total | L7: Salmosan (grams) containing 50% azamethiphos | M7: Aza (grams) | N7: Total | O7: Calicide (grams) containing 100% teflubenzuron | P7: TFBZ (grams) | Q7: Total | R7: Slice (grams) containing 0.2% emamectin benzoate | S7: Ema (grams) | T7: Total | U7: AMX (litres) containing 1% deltamethrin | V7: Delt (grams) | W7: Total | Y7: Number | Z7: Total weight (kgs)
B8: =IF(Oct!B8="","",Oct!B8) -> Bring Head | C8: =IF(Oct!C8="","",Oct!C8) -> SCAP1 | D8: =IF(B8="","",Oct!D8) -> CAR/L/1015854 | E8: =IF(Oct!B8="","",Oct!E8) -> ORK | F8: 813 | G8: =IF(B8="","",Oct!G8) -> 968 | H8: =IF((F8>G8),((F8-G8)/G8),"") | J8: =I8*10 -> 0 | K8: =IF(B8="","",IF(Oct!K8="",Nov!J8,Oct!K8+Nov!J8)) -> 0 | M8: =L8/2 -> 0 | N8: =IF(B8="","",IF(Oct!N8="",Nov!M8,Oct!N8+Nov!M8)) -> 0 | P8: =O8 -> 0 | Q8: =IF(B8="","",IF(Oct!Q8="",Nov!P8,Oct!Q8+Nov!P8)) -> 0 | S8: =R8/500 -> 0 | T8: =IF(B8="","",IF(Oct!T8="",Nov!S8,Oct!T8+Nov!S8)) -> 0 | V8: =U8*10 -> 0 | W8: =IF(B8="","",IF(Oct!W8="",Nov!V8,Oct!W8+Nov!V8)) -> 0 | X8: 93450 | Y8: 1981 | Z8: 9428 | AB8: =(R8/F8)/175 -> 0
B9: =IF(Oct!B9="","",Oct!B9) -> Eday Sound | C9: =IF(Oct!C9="","",Oct!C9) -> EDA1 | D9: =IF(B9="","",Oct!D9) -> CAR/L/1003956 | E9: =IF(Oct!B9="","",Oct!E9) -> ORK | G9: =IF(B9="","",Oct!G9) -> 800 | H9: =IF((F9>G9),((F9-G9)/G9),"") | J9: =I9*10 -> 0 | K9: =IF(B9="","",IF(Oct!K9="",Nov!J9,Oct!K9+Nov!J9)) -> 0 | M9: =L9/2 -> 0 | N9: =IF(B9="","",IF(Oct!N9="",Nov!M9,Oct!N9+Nov!M9)) -> 0 | P9: =O9 -> 0 | Q9: =IF(B9="","",IF(Oct!Q9="",Nov!P9,Oct!Q9+Nov!P9)) -> 0 | S9: =R9/500 -> 0 | T9: =IF(B9="","",IF(Oct!T9="",Nov!S9,Oct!T9+Nov!S9)) -> 0 | V9: =U9*10 -> 0 | W9: =IF(B9="","",IF(Oct!W9="",Nov!V9,Oct!W9+Nov!V9)) -> 0 | AB9: =(R9/F9)/175 -> #DIV/0!
B10: =IF(Oct!B10="","",Oct!B10) -> Kirk Taing | C10: =IF(Oct!C10="","",Oct!C10) -> MILL1 | D10: =IF(B10="","",Oct!D10) -> CAR/L/1003952 | E10: =IF(Oct!B10="","",Oct!E10) -> ORK | G10: =IF(B10="","",Oct!G10) -> 800 | H10: =IF((F10>G10),((F10-G10)/G10),"") | J10: =I10*10 -> 0 | K10: =IF(B10="","",IF(Oct!K10="",Nov!J10,Oct!K10+Nov!J10)) -> 0 | M10: =L10/2 -> 0 | N10: =IF(B10="","",IF(Oct!N10="",Nov!M10,Oct!N10+Nov!M10)) -> 0 | P10: =O10 -> 0 | Q10: =IF(B10="","",IF(Oct!Q10="",Nov!P10,Oct!Q10+Nov!P10)) -> 0 | S10: =R10/500 -> 0 | T10: =IF(B10="","",IF(Oct!T10="",Nov!S10,Oct!T10+Nov!S10)) -> 0 | V10: =U10*10 -> 0 | W10: =IF(B10="","",IF(Oct!W10="",Nov!V10,Oct!W10+Nov!V10)) -> 0 | AB10: =(R10/F10)/175 -> #DIV/0!
B11: =IF(Oct!B11="","",Oct!B11) -> Mill Bay, Stronsay | C11: =IF(Oct!C11="","",Oct!C11) -> MIL1 | D11: =IF(B11="","",Oct!D11) -> CAR/L/1034607 | E11: =IF(Oct!B11="","",Oct!E11) -> ORK | G11: =IF(B11="","",Oct!G11) -> 750 | H11: =IF((F11>G11),((F11-G11)/G11),"") | J11: =I11*10 -> 0 | K11: =IF(B11="","",IF(Oct!K11="",Nov!J11,Oct!K11+Nov!J11)) -> 0 | M11: =L11/2 -> 0 | N11: =IF(B11="","",IF(Oct!N11="",Nov!M11,Oct!N11+Nov!M11)) -> 0 | P11: =O11 -> 0 | Q11: =IF(B11="","",IF(Oct!Q11="",Nov!P11,Oct!Q11+Nov!P11)) -> 0 | S11: =R11/500 -> 0 | T11: =IF(B11="","",IF(Oct!T11="",Nov!S11,Oct!T11+Nov!S11)) -> 0 | V11: =U11*10 -> 0 | W11: =IF(B11="","",IF(Oct!W11="",Nov!V11,Oct!W11+Nov!V11)) -> 0 | AB11: =(R11/F11)/175 -> #DIV/0!
B12: =IF(Oct!B12="","",Oct!B12) -> Puldrite Bay | C12: =IF(Oct!C12="","",Oct!C12) -> PUL1 | D12: =IF(B12="","",Oct!D12) -> CAR/L/1003954 | E12: =IF(Oct!B12="","",Oct!E12) -> ORK | F12: 401 | G12: =IF(B12="","",Oct!G12) -> 980 | H12: =IF((F12>G12),((F12-G12)/G12),"") | J12: =I12*10 -> 0 | K12: =IF(B12="","",IF(Oct!K12="",Nov!J12,Oct!K12+Nov!J12)) -> 0 | M12: =L12/2 -> 0 | N12: =IF(B12="","",IF(Oct!N12="",Nov!M12,Oct!N12+Nov!M12)) -> 0 | P12: =O12 -> 0 | Q12: =IF(B12="","",IF(Oct!Q12="",Nov!P12,Oct!Q12+Nov!P12)) -> 0 | S12: =R12/500 -> 0 | T12: =IF(B12="","",IF(Oct!T12="",Nov!S12,Oct!T12+Nov!S12)) -> 0 | V12: =U12*10 -> 0 | W12: =IF(B12="","",IF(Oct!W12="",Nov!V12,Oct!W12+Nov!V12)) -> 0 | X12: 90000 | Y12: 506 | Z12: 636 | AB12: =(R12/F12)/175 -> 0
B13: =IF(Oct!B13="","",Oct!B13) -> Toy Ness | C13: =IF(Oct!C13="","",Oct!C13) -> TOYN1 | D13: =IF(B13="","",Oct!D13) -> CAR/L/1015855 | E13: =IF(Oct!B13="","",Oct!E13) -> ORK | F13: 646 | G13: =IF(B13="","",Oct!G13) -> 650 | H13: =IF((F13>G13),((F13-G13)/G13),"") | J13: =I13*10 -> 0 | K13: =IF(B13="","",IF(Oct!K13="",Nov!J13,Oct!K13+Nov!J13)) -> 0 | M13: =L13/2 -> 0 | N13: =IF(B13="","",IF(Oct!N13="",Nov!M13,Oct!N13+Nov!M13)) -> 0 | P13: =O13 -> 0 | Q13: =IF(B13="","",IF(Oct!Q13="",Nov!P13,Oct!Q13+Nov!P13)) -> 0 | S13: =R13/500 -> 0 | T13: =IF(B13="","",IF(Oct!T13="",Nov!S13,Oct!T13+Nov!S13)) -> 0 | V13: =U13*10 -> 0 | W13: =IF(B13="","",IF(Oct!W13="",Nov!V13,Oct!W13+Nov!V13)) -> 0 | X13: 121300 | Y13: 275 | Z13: 1276 | AB13: =(R13/F13)/175 -> 0
B14: =IF(Oct!B14="","",Oct!B14) -> Veantrow Bay | C14: =IF(Oct!C14="","",Oct!C14) -> VEA1 | D14: =IF(B14="","",Oct!D14) -> CAR/L/1003931 | E14: =IF(Oct!B14="","",Oct!E14) -> ORK | F14: 967 | G14: =IF(B14="","",Oct!G14) -> 1264 | H14: =IF((F14>G14),((F14-G14)/G14),"") | J14: =I14*10 -> 0 | K14: =IF(B14="","",IF(Oct!K14="",Nov!J14,Oct!K14+Nov!J14)) -> 0 | M14: =L14/2 -> 0 | N14: =IF(B14="","",IF(Oct!N14="",Nov!M14,Oct!N14+Nov!M14)) -> 0 | P14: =O14 -> 0 | Q14: =IF(B14="","",IF(Oct!Q14="",Nov!P14,Oct!Q14+Nov!P14)) -> 0 | S14: =R14/500 -> 0 | T14: =IF(B14="","",IF(Oct!T14="",Nov!S14,Oct!T14+Nov!S14)) -> 0 | V14: =U14*10 -> 0 | W14: =IF(B14="","",IF(Oct!W14="",Nov!V14,Oct!W14+Nov!V14)) -> 0 | X14: 144998 | Y14: 221 | Z14: 640 | AB14: =(R14/F14)/175 -> 0
B15: =IF(Oct!B15="","",Oct!B15) | C15: =IF(Oct!C15="","",Oct!C15) | D15: =IF(B15="","",Oct!D15) | E15: =IF(Oct!B15="","",Oct!E15) | G15: =IF(B15="","",Oct!G15) | H15: =IF((F15>G15),((F15-G15)/G15),"") | J15: =I15*10 -> 0 | K15: =IF(B15="","",IF(Oct!K15="",Nov!J15,Oct!K15+Nov!J15)) | M15: =L15/2 -> 0 | N15: =IF(B15="","",IF(Oct!N15="",Nov!M15,Oct!N15+Nov!M15)) | P15: =O15 -> 0 | Q15: =IF(B15="","",IF(Oct!Q15="",Nov!P15,Oct!Q15+Nov!P15)) | S15: =R15/500 -> 0 | T15: =IF(B15="","",IF(Oct!T15="",Nov!S15,Oct!T15+Nov!S15)) | V15: =U15*10 -> 0 | W15: =IF(B15="","",IF(Oct!W15="",Nov!V15,Oct!W15+Nov!V15)) | AB15: =(R15/F15)/175 -> #DIV/0!
B16: =IF(Oct!B16="","",Oct!B16) | C16: =IF(Oct!C16="","",Oct!C16) | D16: =IF(B16="","",Oct!D16) | E16: =IF(Oct!B16="","",Oct!E16) | G16: =IF(B16="","",Oct!G16) | H16: =IF((F16>G16),((F16-G16)/G16),"") | J16: =I16*10 -> 0 | K16: =IF(B16="","",IF(Oct!K16="",Nov!J16,Oct!K16+Nov!J16)) | M16: =L16/2 -> 0 | N16: =IF(B16="","",IF(Oct!N16="",Nov!M16,Oct!N16+Nov!M16)) | P16: =O16 -> 0 | Q16: =IF(B16="","",IF(Oct!Q16="",Nov!P16,Oct!Q16+Nov!P16)) | S16: =R16/500 -> 0 | T16: =IF(B16="","",IF(Oct!T16="",Nov!S16,Oct!T16+Nov!S16)) | V16: =U16*10 -> 0 | W16: =IF(B16="","",IF(Oct!W16="",Nov!V16,Oct!W16+Nov!V16)) | AB16: =(R16/F16)/175 -> #DIV/0!
B17: =IF(Oct!B17="","",Oct!B17) | C17: =IF(Oct!C17="","",Oct!C17) | D17: =IF(B17="","",Oct!D17) | E17: =IF(Oct!B17="","",Oct!E17) | G17: =IF(B17="","",Oct!G17) | H17: =IF((F17>G17),((F17-G17)/G17),"") | J17: =I17*10 -> 0 | K17: =IF(B17="","",IF(Oct!K17="",Nov!J17,Oct!K17+Nov!J17)) | M17: =L17/2 -> 0 | N17: =IF(B17="","",IF(Oct!N17="",Nov!M17,Oct!N17+Nov!M17)) | P17: =O17 -> 0 | Q17: =IF(B17="","",IF(Oct!Q17="",Nov!P17,Oct!Q17+Nov!P17)) | S17: =R17/500 -> 0 | T17: =IF(B17="","",IF(Oct!T17="",Nov!S17,Oct!T17+Nov!S17)) | V17: =U17*10 -> 0 | W17: =IF(B17="","",IF(Oct!W17="",Nov!V17,Oct!W17+Nov!V17)) | AB17: =(R17/F17)/175 -> #DIV/0!
B18: =IF(Oct!B18="","",Oct!B18) | C18: =IF(Oct!C18="","",Oct!C18) | D18: =IF(B18="","",Oct!D18) | E18: =IF(Oct!B18="","",Oct!E18) | G18: =IF(B18="","",Oct!G18) | H18: =IF((F18>G18),((F18-G18)/G18),"") | J18: =I18*10 -> 0 | K18: =IF(B18="","",IF(Oct!K18="",Nov!J18,Oct!K18+Nov!J18)) | M18: =L18/2 -> 0 | N18: =IF(B18="","",IF(Oct!N18="",Nov!M18,Oct!N18+Nov!M18)) | P18: =O18 -> 0 | Q18: =IF(B18="","",IF(Oct!Q18="",Nov!P18,Oct!Q18+Nov!P18)) | S18: =R18/500 -> 0 | T18: =IF(B18="","",IF(Oct!T18="",Nov!S18,Oct!T18+Nov!S18)) | V18: =U18*10 -> 0 | W18: =IF(B18="","",IF(Oct!W18="",Nov!V18,Oct!W18+Nov!V18)) | AB18: =(R18/F18)/175 -> #DIV/0!
B19: =IF(Oct!B19="","",Oct!B19) | C19: =IF(Oct!C19="","",Oct!C19) | D19: =IF(B19="","",Oct!D19) | E19: =IF(Oct!B19="","",Oct!E19) | G19: =IF(B19="","",Oct!G19) | H19: =IF((F19>G19),((F19-G19)/G19),"") | J19: =I19*10 -> 0 | K19: =IF(B19="","",IF(Oct!K19="",Nov!J19,Oct!K19+Nov!J19)) | M19: =L19/2 -> 0 | N19: =IF(B19="","",IF(Oct!N19="",Nov!M19,Oct!N19+Nov!M19)) | P19: =O19 -> 0 | Q19: =IF(B19="","",IF(Oct!Q19="",Nov!P19,Oct!Q19+Nov!P19)) | S19: =R19/500 -> 0 | T19: =IF(B19="","",IF(Oct!T19="",Nov!S19,Oct!T19+Nov!S19)) | V19: =U19*10 -> 0 | W19: =IF(B19="","",IF(Oct!W19="",Nov!V19,Oct!W19+Nov!V19)) | AB19: =(R19/F19)/175 -> #DIV/0!
B20: =IF(Oct!B20="","",Oct!B20) | C20: =IF(Oct!C20="","",Oct!C20) | D20: =IF(B20="","",Oct!D20) | E20: =IF(Oct!B20="","",Oct!E20) | G20: =IF(B20="","",Oct!G20) | H20: =IF((F20>G20),((F20-G20)/G20),"") | J20: =I20*10 -> 0 | K20: =IF(B20="","",IF(Oct!K20="",Nov!J20,Oct!K20+Nov!J20)) | M20: =L20/2 -> 0 | N20: =IF(B20="","",IF(Oct!N20="",Nov!M20,Oct!N20+Nov!M20)) | P20: =O20 -> 0 | Q20: =IF(B20="","",IF(Oct!Q20="",Nov!P20,Oct!Q20+Nov!P20)) | S20: =R20/500 -> 0 | T20: =IF(B20="","",IF(Oct!T20="",Nov!S20,Oct!T20+Nov!S20)) | V20: =U20*10 -> 0 | W20: =IF(B20="","",IF(Oct!W20="",Nov!V20,Oct!W20+Nov!V20)) | AB20: =(R20/F20)/175 -> #DIV/0!
B21: =IF(Oct!B21="","",Oct!B21) | C21: =IF(Oct!C21="","",Oct!C21) | D21: =IF(B21="","",Oct!D21) | E21: =IF(Oct!B21="","",Oct!E21) | G21: =IF(B21="","",Oct!G21) | H21: =IF((F21>G21),((F21-G21)/G21),"") | J21: =I21*10 -> 0 | K21: =IF(B21="","",IF(Oct!K21="",Nov!J21,Oct!K21+Nov!J21)) | M21: =L21/2 -> 0 | N21: =IF(B21="","",IF(Oct!N21="",Nov!M21,Oct!N21+Nov!M21)) | P21: =O21 -> 0 | Q21: =IF(B21="","",IF(Oct!Q21="",Nov!P21,Oct!Q21+Nov!P21)) | S21: =R21/500 -> 0 | T21: =IF(B21="","",IF(Oct!T21="",Nov!S21,Oct!T21+Nov!S21)) | V21: =U21*10 -> 0 | W21: =IF(B21="","",IF(Oct!W21="",Nov!V21,Oct!W21+Nov!V21)) | AB21: =(R21/F21)/175 -> #DIV/0!
B22: =IF(Oct!B22="","",Oct!B22) | C22: =IF(Oct!C22="","",Oct!C22) | D22: =IF(B22="","",Oct!D22) | E22: =IF(Oct!B22="","",Oct!E22) | G22: =IF(B22="","",Oct!G22) | H22: =IF((F22>G22),((F22-G22)/G22),"") | J22: =I22*10 -> 0 | K22: =IF(B22="","",IF(Oct!K22="",Nov!J22,Oct!K22+Nov!J22)) | M22: =L22/2 -> 0 | N22: =IF(B22="","",IF(Oct!N22="",Nov!M22,Oct!N22+Nov!M22)) | P22: =O22 -> 0 | Q22: =IF(B22="","",IF(Oct!Q22="",Nov!P22,Oct!Q22+Nov!P22)) | S22: =R22/500 -> 0 | T22: =IF(B22="","",IF(Oct!T22="",Nov!S22,Oct!T22+Nov!S22)) | V22: =U22*10 -> 0 | W22: =IF(B22="","",IF(Oct!W22="",Nov!V22,Oct!W22+Nov!V22)) | AB22: =(R22/F22)/175 -> #DIV/0!
B23: =IF(Oct!B23="","",Oct!B23) | C23: =IF(Oct!C23="","",Oct!C23) | D23: =IF(B23="","",Oct!D23) | E23: =IF(Oct!B23="","",Oct!E23) | G23: =IF(B23="","",Oct!G23) | H23: =IF((F23>G23),((F23-G23)/G23),"") | J23: =I23*10 -> 0 | K23: =IF(B23="","",IF(Oct!K23="",Nov!J23,Oct!K23+Nov!J23)) | M23: =L23/2 -> 0 | N23: =IF(B23="","",IF(Oct!N23="",Nov!M23,Oct!N23+Nov!M23)) | P23: =O23 -> 0 | Q23: =IF(B23="","",IF(Oct!Q23="",Nov!P23,Oct!Q23+Nov!P23)) | S23: =R23/500 -> 0 | T23: =IF(B23="","",IF(Oct!T23="",Nov!S23,Oct!T23+Nov!S23)) | V23: =U23*10 -> 0 | W23: =IF(B23="","",IF(Oct!W23="",Nov!V23,Oct!W23+Nov!V23)) | AB23: =(R23/F23)/175 -> #DIV/0!
B24: =IF(Oct!B24="","",Oct!B24) | C24: =IF(Oct!C24="","",Oct!C24) | D24: =IF(B24="","",Oct!D24) | E24: =IF(Oct!B24="","",Oct!E24) | G24: =IF(B24="","",Oct!G24) | H24: =IF((F24>G24),((F24-G24)/G24),"") | J24: =I24*10 -> 0 | K24: =IF(B24="","",IF(Oct!K24="",Nov!J24,Oct!K24+Nov!J24)) | M24: =L24/2 -> 0 | N24: =IF(B24="","",IF(Oct!N24="",Nov!M24,Oct!N24+Nov!M24)) | P24: =O24 -> 0 | Q24: =IF(B24="","",IF(Oct!Q24="",Nov!P24,Oct!Q24+Nov!P24)) | S24: =R24/500 -> 0 | T24: =IF(B24="","",IF(Oct!T24="",Nov!S24,Oct!T24+Nov!S24)) | V24: =U24*10 -> 0 | W24: =IF(B24="","",IF(Oct!W24="",Nov!V24,Oct!W24+Nov!V24)) | AB24: =(R24/F24)/175 -> #DIV/0!
B25: =IF(Oct!B25="","",Oct!B25) | C25: =IF(Oct!C25="","",Oct!C25) | D25: =IF(B25="","",Oct!D25) | E25: =IF(Oct!B25="","",Oct!E25) | G25: =IF(B25="","",Oct!G25) | H25: =IF((F25>G25),((F25-G25)/G25),"") | J25: =I25*10 -> 0 | K25: =IF(B25="","",IF(Oct!K25="",Nov!J25,Oct!K25+Nov!J25)) | M25: =L25/2 -> 0 | N25: =IF(B25="","",IF(Oct!N25="",Nov!M25,Oct!N25+Nov!M25)) | P25: =O25 -> 0 | Q25: =IF(B25="","",IF(Oct!Q25="",Nov!P25,Oct!Q25+Nov!P25)) | S25: =R25/500 -> 0 | T25: =IF(B25="","",IF(Oct!T25="",Nov!S25,Oct!T25+Nov!S25)) | V25: =U25*10 -> 0 | W25: =IF(B25="","",IF(Oct!W25="",Nov!V25,Oct!W25+Nov!V25)) | AB25: =(R25/F25)/175 -> #DIV/0!
B26: =IF(Oct!B26="","",Oct!B26) | C26: =IF(Oct!C26="","",Oct!C26) | D26: =IF(B26="","",Oct!D26) | E26: =IF(Oct!B26="","",Oct!E26) | G26: =IF(B26="","",Oct!G26) | H26: =IF((F26>G26),((F26-G26)/G26),"") | J26: =I26*10 -> 0 | K26: =IF(B26="","",IF(Oct!K26="",Nov!J26,Oct!K26+Nov!J26)) | M26: =L26/2 -> 0 | N26: =IF(B26="","",IF(Oct!N26="",Nov!M26,Oct!N26+Nov!M26)) | P26: =O26 -> 0 | Q26: =IF(B26="","",IF(Oct!Q26="",Nov!P26,Oct!Q26+Nov!P26)) | S26: =R26/500 -> 0 | T26: =IF(B26="","",IF(Oct!T26="",Nov!S26,Oct!T26+Nov!S26)) | V26: =U26*10 -> 0 | W26: =IF(B26="","",IF(Oct!W26="",Nov!V26,Oct!W26+Nov!V26)) | AB26: =(R26/F26)/175 -> #DIV/0!
... B90: =IF(Oct!B90="","",Oct!B90) | C90: =IF(Oct!C90="","",Oct!C90) | D90: =IF(B90="","",Oct!D90) | E90: =IF(Oct!B90="","",Oct!E90) | G90: =IF(B90="","",Oct!G90) | H90: =IF((F90>G90),((F90-G90)/G90),"") | J90: =I90*10 -> 0 | K90: =IF(B90="","",IF(Oct!K90="",Nov!J90,Oct!K90+Nov!J90)) | M90: =L90/2 -> 0 | N90: =IF(B90="","",IF(Oct!N90="",Nov!M90,Oct!N90+Nov!M90)) | P90: =O90 -> 0 | Q90: =IF(B90="","",IF(Oct!Q90="",Nov!P90,Oct!Q90+Nov!P90)) | S90: =R90/500 -> 0 | T90: =IF(B90="","",IF(Oct!T90="",Nov!S90,Oct!T90+Nov!S90)) | V90: =U90*10 -> 0 | W90: =IF(B90="","",IF(Oct!W90="",Nov!V90,Oct!W90+Nov!V90)) | AB90: =(R90/F90)/175 -> #DIV/0!

Sheet Dec
B2: =CONCATENATE('GENERAL GUIDELINES & SITE INFO'!E27," - monthly returns of biomass and anti-parasitic usage") -> Scottish Seafarms Ltd - monthly returns of biomass and anti-parasitic usage
