Workbook

Sheet GENERAL GUIDELINES & SITE INFO
C3: SEPA DATA RETURNS - 2012
C5: SPRI
C6: Regulation 26(2) of the Pollution Prevention and Control (Scotland) Regulations is being used to require operators to provide mass emission data for the Scottish Pollutant Release Inventory (SPRI). Before submitting the spreadsheet please ensure you have completed the declaration in the worksheet entitled "SPRI DECLARATION"
C8: CAR
C9: Under Schedule 6 of the CAR licence, the discharger is required to keep, maintain and provide records of biomass and chemical use and to submit them to SEPA as required. This form provides a means of recording the information required.
C12: Please note the following:
C13: 1. The site information has been entered for your company.
C14: 2. This file is for the year 2012 only. Following years will have a separate file.
C15: 3. The information is required on a monthly basis and the returns should be made quarterly - see schedule below.
C16: 4. Each site has a small questionnaire for chemical use (other than those to treat sea lice infestations) appended as a separate spreadsheet (Chem-SiteID). Please ensure that you maintain the necessary records in order to complete the questionnaire on an annual basis.
C18: 5. The questionnaire should be completed along with the December biomass return. A reminder is attached to the October, November and December sheets.
C19: 6. If you acquire or open a new site, please enter Site Name, Licence Number and Licensed Biomass in the spreadsheet for the month that you began site operations, in the next available row. Following months will update automatically.
... C25: 10. Please ensure that the correct species is listed in the site information table below, entered as "salmon", "cod","haddock","halibut" or "trout".
C27: Company | D27: : | E27: Scottish Seafarms Ltd
C28: Contact name | D28: : | E28: Sally Davies
C29: Phone number | D29: : | E29: 01680 300533
C30: Email address | D30: : | E30: sally.davies@scottishseafarms.com
C32: 2012 Submission dates | E32: : | F32: 13 Apr 2012; | G32: 13 July 2012; | H32: 12 Oct 2012; | I32: 18 Jan 2013;
C34: RETURN ALL FILES TO: FFBiomass@SEPA.ORG.UK
C36: Please enter the following information for each of the sites below:
G37: Date(s) of fish input(s) | I37: Date Self Monitoring submitted to SEPA | K37: Comments
K38: (Please enter any | N38: Check
K39: pertinent information) | N39: Species
C40: Bring Head | D40: SCAP1 | E40: CAR/L/1015854 | N40: salmon
C41: Eday Sound | D41: EDA1 | E41: CAR/L/1003956 | N41: salmon
C42: Kirk Taing | D42: MILL1 | E42: CAR/L/1003952 | N42: salmon
C43: Mill Bay, Stronsay | D43: MIL1 | E43: CAR/L/1034607 | N43: salmon
C44: Puldrite Bay | D44: PUL1 | E44: CAR/L/1003954 | N44: salmon
C45: Toy Ness | D45: TOYN1 | E45: CAR/L/1015855 | N45: salmon
C46: Veantrow Bay | D46: VEA1 | E46: CAR/L/1003931 | N46: salmon

Sheet SPRI DECLARATION
A1: =CONCATENATE('GENERAL GUIDELINES & SITE INFO'!E27," - SPRI DECLARATION") -> Scottish Seafarms Ltd - SPRI DECLARATION
A2: The information contained in the table below will be derived from the figures entered in the monthly worksheets. Please complete the declaration, in rows 13-15 below, that you agree that the information displayed in this table is true and accurate.
A5: Note: In the worksheet entilted "CALCULATIONS", the white cells contain formulae and are locked. Default figures for FCR and total phosphorous content in food have been entered. These cells, which are coloured yellow, are not locked and you may amend these in light of more accurate input data.
A8: Declaration:
A9: It is an offence under Regulation 30 of the PPC (Scotland) Regulations 2000 for a person to make a statement which that person knows to be false or misleading in a material particular, or recklessly to make a statement which is false or misleading in a material particular, where the statement is made in purpoted compliance with a requirement to furnish information imposed under Regulation 26(2) of those Regulations.
A12: I declare that the information provided in this form is correct, to the best of my knowledge.
A14: Sign off by typing name here:
A15: Position:
A16: Date:
A19: Data Protection Notice
A20: The Scottish Environment Protection Agency is responsible for maintaining and improving the environment and regulating environmental emissions. It has a duty to protect and enhance the environment and to promote conservation and recreation.
A22: The information provided will be processed by the Scottish Environment Protection Agency and will be placed on SEPA’s website and used to monitor compliance with licence/permit conditions. We may also process and/or disclose any of the information you give us in connection with the following:
A24: • Offering/providing you with our information/services relating to environmental matters;
... A34: Note that the materials required by SPRI that are below the threshold will be displayed as BRT (Below Reporting Threshold).
A35: Site Name | B35: Site ID | C35: SEPA Team Area | D35: Excis (litres) | E35: Cypermethrin (kgs) Threshold = 0.005kg | F35: Salmosan (grams) | G35: Azamethiphos (kgs) Threshold = 0.001kg | H35: Calicide (grams) | I35: Teflubenzuron (kgs) Threshold = 0.001kg | J35: Slice (grams) | K35: Emamectin salts and derivatives (kg) Threshold = 0.001kg | L35: Copper from nets (active ingredient copper-oxide, kg) | M35: Copper from feed (kgs) | N35: Total Copper (kg) | O35: Zinc from feed (kg) | P35: Nitrogen (kg) | Q35: Phosphorus (kg) | R35: Total Organic Carbon (kg) | S35: AMX (litres) | T35: Deltamethrin (kg) Threshold = 0.002kg
A36: =IF(Jan!B8="","",Jan!B8) -> Bring Head | B36: =IF(Jan!B8="","",Jan!C8) -> SCAP1 | C36: =IF(Jan!B8="","",Jan!E8) -> ORK | D36: =(SUM(Jan!I8,Feb!I8,Mar!I8,Apr!I8,May!I8,June!I8,July!I8,Aug!I8,Sept!I8,Oct!I8,Nov!I8,Dec!I8)) -> 0 | E36: =IF(Dec!K8="","",Dec!K8/1000) -> 0 | F36: =(SUM(Jan!L8,Feb!L8,Mar!L8,Apr!L8,May!L8,June!L8,July!L8,Aug!L8,Sept!L8,Oct!L8,Nov!L8,Dec!L8)) -> 0 | G36: =IF(Dec!N8="","",Dec!N8/1000) -> 0 | H36: =(SUM(Jan!O8,Feb!O8,Mar!O8,Apr!O8,May!O8,June!O8,July!O8,Aug!O8,Sept!O8,Oct!O8,Nov!O8,Dec!O8)) -> 0 | I36: =IF(Dec!Q8="","",Dec!Q8/1000) -> 0 | J36: =(SUM(Jan!R8,Feb!R8,Mar!R8,Apr!R8,May!R8,June!R8,July!R8,Aug!R8,Sept!R8,Oct!R8,Nov!R8,Dec!R8)) -> 0 | K36: =IF(Dec!T8="","",Dec!T8/1000) -> 0 | L36: =('Chem-SCAP1'!H15)/1000 -> 0 | M36: =CALCULATIONS!Q2 -> 0.99586 | N36: =IF(ISNUMBER(L36),L36,0)+M36 -> 0.99586 | O36: =CALCULATIONS!O2 -> 20.839835 | P36: =CALCULATIONS!H2 -> 7381.08 | Q36: =CALCULATIONS!K2 -> 1019.292 | R36: =CALCULATIONS!M2 -> 23680.965 | S36: =(SUM(Jan!U8,Feb!U8,Mar!U8,Apr!U8,May!U8,June!U8,July!U8,Aug!U8,Sept!U8,Oct!U8,Nov!U8,Dec!U8)) -> 0 | T36: =IF(Dec!W8="","",Dec!W8/1000) -> 0
A37: =IF(Jan!B9="","",Jan!B9) -> Eday Sound | B37: =IF(Jan!B9="","",Jan!C9) -> EDA1 | C37: =IF(Jan!B9="","",Jan!E9) -> ORK | D37: =(SUM(Jan!I9,Feb!I9,Mar!I9,Apr!I9,May!I9,June!I9,July!I9,Aug!I9,Sept!I9,Oct!I9,Nov!I9,Dec!I9)) -> 0 | E37: =IF(Dec!K9="","",Dec!K9/1000) -> 0 | F37: =(SUM(Jan!L9,Feb!L9,Mar!L9,Apr!L9,May!L9,June!L9,July!L9,Aug!L9,Sept!L9,Oct!L9,Nov!L9,Dec!L9)) -> 0 | G37: =IF(Dec!N9="","",Dec!N9/1000) -> 0 | H37: =(SUM(Jan!O9,Feb!O9,Mar!O9,Apr!O9,May!O9,June!O9,July!O9,Aug!O9,Sept!O9,Oct!O9,Nov!O9,Dec!O9)) -> 0 | I37: =IF(Dec!Q9="","",Dec!Q9/1000) -> 0 | J37: =(SUM(Jan!R9,Feb!R9,Mar!R9,Apr!R9,May!R9,June!R9,July!R9,Aug!R9,Sept!R9,Oct!R9,Nov!R9,Dec!R9)) -> 0 | K37: =IF(Dec!T9="","",Dec!T9/1000) -> 0 | L37: =('Chem-EDA1'!H15)/1000 -> 0 | M37: =CALCULATIONS!Q3 -> 0 | N37: =IF(ISNUMBER(L37),L37,0)+M37 -> 0 | O37: =CALCULATIONS!O3 -> 0 | P37: =CALCULATIONS!H3 -> 0 | Q37: =CALCULATIONS!K3 -> 0 | R37: =CALCULATIONS!M3 -> 0 | S37: =(SUM(Jan!U9,Feb!U9,Mar!U9,Apr!U9,May!U9,June!U9,July!U9,Aug!U9,Sept!U9,Oct!U9,Nov!U9,Dec!U9)) -> 0 | T37: =IF(Dec!W9="","",Dec!W9/1000) -> 0
A38: =IF(Jan!B10="","",Jan!B10) -> Kirk Taing | B38: =IF(Jan!B10="","",Jan!C10) -> MILL1 | C38: =IF(Jan!B10="","",Jan!E10) -> ORK | D38: =(SUM(Jan!I10,Feb!I10,Mar!I10,Apr!I10,May!I10,June!I10,July!I10,Aug!I10,Sept!I10,Oct!I10,Nov!I10,Dec!I10)) -> 0 | E38: =IF(Dec!K10="","",Dec!K10/1000) -> 0 | F38: =(SUM(Jan!L10,Feb!L10,Mar!L10,Apr!L10,May!L10,June!L10,July!L10,Aug!L10,Sept!L10,Oct!L10,Nov!L10,Dec!L10)) -> 0 | G38: =IF(Dec!N10="","",Dec!N10/1000) -> 0 | H38: =(SUM(Jan!O10,Feb!O10,Mar!O10,Apr!O10,May!O10,June!O10,July!O10,Aug!O10,Sept!O10,Oct!O10,Nov!O10,Dec!O10)) -> 0 | I38: =IF(Dec!Q10="","",Dec!Q10/1000) -> 0 | J38: =(SUM(Jan!R10,Feb!R10,Mar!R10,Apr!R10,May!R10,June!R10,July!R10,Aug!R10,Sept!R10,Oct!R10,Nov!R10,Dec!R10)) -> 0 | K38: =IF(Dec!T10="","",Dec!T10/1000) -> 0 | L38: =('Chem-MILL1'!H15)/1000 -> 0 | M38: =CALCULATIONS!Q4 -> 0 | N38: =IF(ISNUMBER(L38),L38,0)+M38 -> 0 | O38: =CALCULATIONS!O4 -> 0 | P38: =CALCULATIONS!H4 -> 0 | Q38: =CALCULATIONS!K4 -> 0 | R38: =CALCULATIONS!M4 -> 0 | S38: =(SUM(Jan!U10,Feb!U10,Mar!U10,Apr!U10,May!U10,June!U10,July!U10,Aug!U10,Sept!U10,Oct!U10,Nov!U10,Dec!U10)) -> 0 | T38: =IF(Dec!W10="","",Dec!W10/1000) -> 0
A39: =IF(Jan!B11="","",Jan!B11) -> Mill Bay, Stronsay | B39: =IF(Jan!B11="","",Jan!C11) -> MIL1 | C39: =IF(Jan!B11="","",Jan!E11) -> ORK | D39: =(SUM(Jan!I11,Feb!I11,Mar!I11,Apr!I11,May!I11,June!I11,July!I11,Aug!I11,Sept!I11,Oct!I11,Nov!I11,Dec!I11)) -> 0 | E39: =IF(Dec!K11="","",Dec!K11/1000) -> 0 | F39: =(SUM(Jan!L11,Feb!L11,Mar!L11,Apr!L11,May!L11,June!L11,July!L11,Aug!L11,Sept!L11,Oct!L11,Nov!L11,Dec!L11)) -> 0 | G39: =IF(Dec!N11="","",Dec!N11/1000) -> 0 | H39: =(SUM(Jan!O11,Feb!O11,Mar!O11,Apr!O11,May!O11,June!O11,July!O11,Aug!O11,Sept!O11,Oct!O11,Nov!O11,Dec!O11)) -> 0 | I39: =IF(Dec!Q11="","",Dec!Q11/1000) -> 0 | J39: =(SUM(Jan!R11,Feb!R11,Mar!R11,Apr!R11,May!R11,June!R11,July!R11,Aug!R11,Sept!R11,Oct!R11,Nov!R11,Dec!R11)) -> 0 | K39: =IF(Dec!T11="","",Dec!T11/1000) -> 0 | L39: =('Chem-MIL1'!H15)/1000 -> 0 | M39: =CALCULATIONS!Q5 -> 0 | N39: =IF(ISNUMBER(L39),L39,0)+M39 -> 0 | O39: =CALCULATIONS!O5 -> 0 | P39: =CALCULATIONS!H5 -> 0 | Q39: =CALCULATIONS!K5 -> 0 | R39: =CALCULATIONS!M5 -> 0 | S39: =(SUM(Jan!U11,Feb!U11,Mar!U11,Apr!U11,May!U11,June!U11,July!U11,Aug!U11,Sept!U11,Oct!U11,Nov!U11,Dec!U11)) -> 0 | T39: =IF(Dec!W11="","",Dec!W11/1000) -> 0
A40: =IF(Jan!B12="","",Jan!B12) -> Puldrite Bay | B40: =IF(Jan!B12="","",Jan!C12) -> PUL1 | C40: =IF(Jan!B12="","",Jan!E12) -> ORK | D40: =(SUM(Jan!I12,Feb!I12,Mar!I12,Apr!I12,May!I12,June!I12,July!I12,Aug!I12,Sept!I12,Oct!I12,Nov!I12,Dec!I12)) -> 0 | E40: =IF(Dec!K12="","",Dec!K12/1000) -> 0 | F40: =(SUM(Jan!L12,Feb!L12,Mar!L12,Apr!L12,May!L12,June!L12,July!L12,Aug!L12,Sept!L12,Oct!L12,Nov!L12,Dec!L12)) -> 0 | G40: =IF(Dec!N12="","",Dec!N12/1000) -> 0 | H40: =(SUM(Jan!O12,Feb!O12,Mar!O12,Apr!O12,May!O12,June!O12,July!O12,Aug!O12,Sept!O12,Oct!O12,Nov!O12,Dec!O12)) -> 0 | I40: =IF(Dec!Q12="","",Dec!Q12/1000) -> 0 | J40: =(SUM(Jan!R12,Feb!R12,Mar!R12,Apr!R12,May!R12,June!R12,July!R12,Aug!R12,Sept!R12,Oct!R12,Nov!R12,Dec!R12)) -> 0 | K40: =IF(Dec!T12="","",Dec!T12/1000) -> 0 | L40: =('Chem-PUL1'!H15)/1000 -> 0 | M40: =CALCULATIONS!Q6 -> 1.8021496 | N40: =IF(ISNUMBER(L40),L40,0)+M40 -> 1.8021496 | O40: =CALCULATIONS!O6 -> 37.712631 | P40: =CALCULATIONS!H6 -> 13357.109 | Q40: =CALCULATIONS!K6 -> 1844.5531 | R40: =CALCULATIONS!M6 -> 42854.057 | S40: =(SUM(Jan!U12,Feb!U12,Mar!U12,Apr!U12,May!U12,June!U12,July!U12,Aug!U12,Sept!U12,Oct!U12,Nov!U12,Dec!U12)) -> 0 | T40: =IF(Dec!W12="","",Dec!W12/1000) -> 0
A41: =IF(Jan!B13="","",Jan!B13) -> Toy Ness | B41: =IF(Jan!B13="","",Jan!C13) -> TOYN1 | C41: =IF(Jan!B13="","",Jan!E13) -> ORK | D41: =(SUM(Jan!I13,Feb!I13,Mar!I13,Apr!I13,May!I13,June!I13,July!I13,Aug!I13,Sept!I13,Oct!I13,Nov!I13,Dec!I13)) -> 0 | E41: =IF(Dec!K13="","",Dec!K13/1000) -> 0 | F41: =(SUM(Jan!L13,Feb!L13,Mar!L13,Apr!L13,May!L13,June!L13,July!L13,Aug!L13,Sept!L13,Oct!L13,Nov!L13,Dec!L13)) -> 0 | G41: =IF(Dec!N13="","",Dec!N13/1000) -> 0 | H41: =(SUM(Jan!O13,Feb!O13,Mar!O13,Apr!O13,May!O13,June!O13,July!O13,Aug!O13,Sept!O13,Oct!O13,Nov!O13,Dec!O13)) -> 0 | I41: =IF(Dec!Q13="","",Dec!Q13/1000) -> 0 | J41: =(SUM(Jan!R13,Feb!R13,Mar!R13,Apr!R13,May!R13,June!R13,July!R13,Aug!R13,Sept!R13,Oct!R13,Nov!R13,Dec!R13)) -> 0 | K41: =IF(Dec!T13="","",Dec!T13/1000) -> 0 | L41: =('Chem-TOYN1'!H15)/1000 -> 0 | M41: =CALCULATIONS!Q7 -> 0.3498124 | N41: =IF(ISNUMBER(L41),L41,0)+M41 -> 0.3498124 | O41: =CALCULATIONS!O7 -> 7.3203389 | P41: =CALCULATIONS!H7 -> 2592.7272 | Q41: =CALCULATIONS!K7 -> 358.04328 | R41: =CALCULATIONS!M7 -> 8318.3331 | S41: =(SUM(Jan!U13,Feb!U13,Mar!U13,Apr!U13,May!U13,June!U13,July!U13,Aug!U13,Sept!U13,Oct!U13,Nov!U13,Dec!U13)) -> 0 | T41: =IF(Dec!W13="","",Dec!W13/1000) -> 0
A42: =IF(Jan!B14="","",Jan!B14) -> Veantrow Bay | B42: =IF(Jan!B14="","",Jan!C14) -> VEA1 | C42: =IF(Jan!B14="","",Jan!E14) -> ORK | D42: =(SUM(Jan!I14,Feb!I14,Mar!I14,Apr!I14,May!I14,June!I14,July!I14,Aug!I14,Sept!I14,Oct!I14,Nov!I14,Dec!I14)) -> 0 | E42: =IF(Dec!K14="","",Dec!K14/1000) -> 0 | F42: =(SUM(Jan!L14,Feb!L14,Mar!L14,Apr!L14,May!L14,June!L14,July!L14,Aug!L14,Sept!L14,Oct!L14,Nov!L14,Dec!L14)) -> 0 | G42: =IF(Dec!N14="","",Dec!N14/1000) -> 0 | H42: =(SUM(Jan!O14,Feb!O14,Mar!O14,Apr!O14,May!O14,June!O14,July!O14,Aug!O14,Sept!O14,Oct!O14,Nov!O14,Dec!O14)) -> 0 | I42: =IF(Dec!Q14="","",Dec!Q14/1000) -> 0 | J42: =(SUM(Jan!R14,Feb!R14,Mar!R14,Apr!R14,May!R14,June!R14,July!R14,Aug!R14,Sept!R14,Oct!R14,Nov!R14,Dec!R14)) -> 0 | K42: =IF(Dec!T14="","",Dec!T14/1000) -> 0 | L42: =('Chem-VEA1'!H15)/1000 -> 0 | M42: =CALCULATIONS!Q8 -> 4.4690416 | N42: =IF(ISNUMBER(L42),L42,0)+M42 -> 4.4690416 | O42: =CALCULATIONS!O8 -> 93.521268 | P42: =CALCULATIONS!H8 -> 33123.485 | Q42: =CALCULATIONS!K8 -> 4574.1955 | R42: =CALCULATIONS!M8 -> 106271.18 | S42: =(SUM(Jan!U14,Feb!U14,Mar!U14,Apr!U14,May!U14,June!U14,July!U14,Aug!U14,Sept!U14,Oct!U14,Nov!U14,Dec!U14)) -> 0 | T42: =IF(Dec!W14="","",Dec!W14/1000) -> 0
A43: =IF(Jan!B15="","",Jan!B15) | B43: =IF(Jan!B15="","",Jan!C15) | C43: =IF(Jan!B15="","",Jan!E15) | D43: =(SUM(Jan!I15,Feb!I15,Mar!I15,Apr!I15,May!I15,June!I15,July!I15,Aug!I15,Sept!I15,Oct!I15,Nov!I15,Dec!I15)) -> 0 | E43: =IF(Dec!K15="","",Dec!K15/1000) | F43: =(SUM(Jan!L15,Feb!L15,Mar!L15,Apr!L15,May!L15,June!L15,July!L15,Aug!L15,Sept!L15,Oct!L15,Nov!L15,Dec!L15)) -> 0 | G43: =IF(Dec!N15="","",Dec!N15/1000) | H43: =(SUM(Jan!O15,Feb!O15,Mar!O15,Apr!O15,May!O15,June!O15,July!O15,Aug!O15,Sept!O15,Oct!O15,Nov!O15,Dec!O15)) -> 0 | I43: =IF(Dec!Q15="","",Dec!Q15/1000) | J43: =(SUM(Jan!R15,Feb!R15,Mar!R15,Apr!R15,May!R15,June!R15,July!R15,Aug!R15,Sept!R15,Oct!R15,Nov!R15,Dec!R15)) -> 0 | K43: =IF(Dec!T15="","",Dec!T15/1000) | L43: =('Chem-SiteID8'!H15)/1000 -> 0 | M43: =CALCULATIONS!Q9 -> 0 | N43: =IF(ISNUMBER(L43),L43,0)+M43 -> 0 | O43: =CALCULATIONS!O9 -> 0 | P43: =CALCULATIONS!H9 -> 0 | Q43: =CALCULATIONS!K9 -> 0 | R43: =CALCULATIONS!M9 -> 0 | S43: =(SUM(Jan!U15,Feb!U15,Mar!U15,Apr!U15,May!U15,June!U15,July!U15,Aug!U15,Sept!U15,Oct!U15,Nov!U15,Dec!U15)) -> 0 | T43: =IF(Dec!W15="","",Dec!W15/1000)
A44: =IF(Jan!B16="","",Jan!B16) | B44: =IF(Jan!B16="","",Jan!C16) | C44: =IF(Jan!B16="","",Jan!E16) | D44: =(SUM(Jan!I16,Feb!I16,Mar!I16,Apr!I16,May!I16,June!I16,July!I16,Aug!I16,Sept!I16,Oct!I16,Nov!I16,Dec!I16)) -> 0 | E44: =IF(Dec!K16="","",Dec!K16/1000) | F44: =(SUM(Jan!L16,Feb!L16,Mar!L16,Apr!L16,May!L16,June!L16,July!L16,Aug!L16,Sept!L16,Oct!L16,Nov!L16,Dec!L16)) -> 0 | G44: =IF(Dec!N16="","",Dec!N16/1000) | H44: =(SUM(Jan!O16,Feb!O16,Mar!O16,Apr!O16,May!O16,June!O16,July!O16,Aug!O16,Sept!O16,Oct!O16,Nov!O16,Dec!O16)) -> 0 | I44: =IF(Dec!Q16="","",Dec!Q16/1000) | J44: =(SUM(Jan!R16,Feb!R16,Mar!R16,Apr!R16,May!R16,June!R16,July!R16,Aug!R16,Sept!R16,Oct!R16,Nov!R16,Dec!R16)) -> 0 | K44: =IF(Dec!T16="","",Dec!T16/1000) | L44: =('Chem-SiteID9'!H15)/1000 -> 0 | M44: =CALCULATIONS!Q10 -> 0 | N44: =IF(ISNUMBER(L44),L44,0)+M44 -> 0 | O44: =CALCULATIONS!O10 -> 0 | P44: =CALCULATIONS!H10 -> 0 | Q44: =CALCULATIONS!K10 -> 0 | R44: =CALCULATIONS!M10 -> 0 | S44: =(SUM(Jan!U16,Feb!U16,Mar!U16,Apr!U16,May!U16,June!U16,July!U16,Aug!U16,Sept!U16,Oct!U16,Nov!U16,Dec!U16)) -> 0 | T44: =IF(Dec!W16="","",Dec!W16/1000)
A45: =IF(Jan!B17="","",Jan!B17) | B45: =IF(Jan!B17="","",Jan!C17) | C45: =IF(Jan!B17="","",Jan!E17) | D45: =(SUM(Jan!I17,Feb!I17,Mar!I17,Apr!I17,May!I17,June!I17,July!I17,Aug!I17,Sept!I17,Oct!I17,Nov!I17,Dec!I17)) -> 0 | E45: =IF(Dec!K17="","",Dec!K17/1000) | F45: =(SUM(Jan!L17,Feb!L17,Mar!L17,Apr!L17,May!L17,June!L17,July!L17,Aug!L17,Sept!L17,Oct!L17,Nov!L17,Dec!L17)) -> 0 | G45: =IF(Dec!N17="","",Dec!N17/1000) | H45: =(SUM(Jan!O17,Feb!O17,Mar!O17,Apr!O17,May!O17,June!O17,July!O17,Aug!O17,Sept!O17,Oct!O17,Nov!O17,Dec!O17)) -> 0 | I45: =IF(Dec!Q17="","",Dec!Q17/1000) | J45: =(SUM(Jan!R17,Feb!R17,Mar!R17,Apr!R17,May!R17,June!R17,July!R17,Aug!R17,Sept!R17,Oct!R17,Nov!R17,Dec!R17)) -> 0 | K45: =IF(Dec!T17="","",Dec!T17/1000) | L45: =('Chem-SiteID10'!H15)/1000 -> 0 | M45: =CALCULATIONS!Q11 -> 0 | N45: =IF(ISNUMBER(L45),L45,0)+M45 -> 0 | O45: =CALCULATIONS!O11 -> 0 | P45: =CALCULATIONS!H11 -> 0 | Q45: =CALCULATIONS!K11 -> 0 | R45: =CALCULATIONS!M11 -> 0 | S45: =(SUM(Jan!U17,Feb!U17,Mar!U17,Apr!U17,May!U17,June!U17,July!U17,Aug!U17,Sept!U17,Oct!U17,Nov!U17,Dec!U17)) -> 0 | T45: =IF(Dec!W17="","",Dec!W17/1000)

Sheet CALCULATIONS
B1: Site Name | C1: Site ID | D1: Licence | E1: Species | F1: Total feed input (kg) | G1: Species factor | H1: Nitrogen release (kg) | I1: Nitrogen threshold, 50000kg | J1: Total Phosphorus content in feed (%) | K1: Phosphorus release (kg) | L1: Phosphorus threshold, 5000kg | M1: TOC release (kg) | N1: TOC threshold, 50000kg | O1: Zinc release (kg) | P1: Zinc Threshold, 100kg | Q1: Copper loss via feed only (kg) | R1: Copper threshold, 20kg
B2: =IF(Jan!B8="","",Jan!B8) -> Bring Head | C2: =IF(Jan!B8="","",Jan!C8) -> SCAP1 | D2: =IF(Jan!B8="","",Jan!D8) -> CAR/L/1015854 | E2: =IF('GENERAL GUIDELINES & SITE INFO'!N40="","",'GENERAL GUIDELINES & SITE INFO'!N40) -> salmon | F2: =SUM(Jan!X8,Feb!X8,Mar!X8,Apr!X8,May!X8,June!X8,July!X8,Aug!X8,Sept!X8,Oct!X8,Nov!X8,Dec!X8) -> 146450 | G2: =IF(E2="Salmon",1)+IF(E2="Cod",1.5)+IF(E2="Halibut",1.4)+IF(E2="Haddock",1.5)+IF(E2="Trout",1) -> 1 | H2: =((F2*0.03*0.08)+(F2*0.08*0.6))*G2 -> 7381.08 | I2: =IF(H2<=50000,"BRT",H2) -> BRT | J2: 1.2 | K2: =((F2*0.03*(J2/100))+(F2*(J2/100)*0.55)) -> 1019.292 | L2: =IF(K2<=5000,"BRT",K2) -> BRT | M2: =(F2*0.03*0.49)+(F2*0.49*0.3) -> 23680.965 | N2: =IF(M2<=50000,"BRT",M2) -> BRT | O2: =F2*0.0001423 -> 20.839835 | P2: =IF(O2<=100,"BRT",O2) -> BRT | Q2: =F2*0.0000068 -> 0.99586 | R2: =IF(Q2<=20,"BRT",Q2) -> BRT
B3: =IF(Jan!B9="","",Jan!B9) -> Eday Sound | C3: =IF(Jan!C9="","",Jan!C9) -> EDA1 | D3: =IF(Jan!B9="","",Jan!D9) -> CAR/L/1003956 | E3: =IF('GENERAL GUIDELINES & SITE INFO'!N41="","",'GENERAL GUIDELINES & SITE INFO'!N41) -> salmon | F3: =SUM(Jan!X9,Feb!X9,Mar!X9,Apr!X9,May!X9,June!X9,July!X9,Aug!X9,Sept!X9,Oct!X9,Nov!X9,Dec!X9) -> 0 | G3: =IF(E3="Salmon",1)+IF(E3="Cod",1.5)+IF(E3="Halibut",1.4)+IF(E3="Haddock",1.5)+IF(E3="Trout",1) -> 1 | H3: =((F3*0.03*0.08)+(F3*0.08*0.6))*G3 -> 0 | I3: =IF(H3<=50000,"BRT",H3) -> BRT | J3: 1.2 | K3: =((F3*0.03*(J3/100))+(F3*(J3/100)*0.55)) -> 0 | L3: =IF(K3<=5000,"BRT",K3) -> BRT | M3: =(F3*0.03*0.49)+(F3*0.49*0.3) -> 0 | N3: =IF(M3<=50000,"BRT",M3) -> BRT | O3: =F3*0.0001423 -> 0 | P3: =IF(O3<=100,"BRT",O3) -> BRT | Q3: =F3*0.0000068 -> 0 | R3: =IF(Q3<=20,"BRT",Q3) -> BRT
B4: =IF(Jan!B10="","",Jan!B10) -> Kirk Taing | C4: =IF(Jan!C10="","",Jan!C10) -> MILL1 | D4: =IF(Jan!B10="","",Jan!D10) -> CAR/L/1003952 | E4: =IF('GENERAL GUIDELINES & SITE INFO'!N42="","",'GENERAL GUIDELINES & SITE INFO'!N42) -> salmon | F4: =SUM(Jan!X10,Feb!X10,Mar!X10,Apr!X10,May!X10,June!X10,July!X10,Aug!X10,Sept!X10,Oct!X10,Nov!X10,Dec!X10) -> 0 | G4: =IF(E4="Salmon",1)+IF(E4="Cod",1.5)+IF(E4="Halibut",1.4)+IF(E4="Haddock",1.5)+IF(E4="Trout",1) -> 1 | H4: =((F4*0.03*0.08)+(F4*0.08*0.6))*G4 -> 0 | I4: =IF(H4<=50000,"BRT",H4) -> BRT | J4: 1.2 | K4: =((F4*0.03*(J4/100))+(F4*(J4/100)*0.55)) -> 0 | L4: =IF(K4<=5000,"BRT",K4) -> BRT | M4: =(F4*0.03*0.49)+(F4*0.49*0.3) -> 0 | N4: =IF(M4<=50000,"BRT",M4) -> BRT | O4: =F4*0.0001423 -> 0 | P4: =IF(O4<=100,"BRT",O4) -> BRT | Q4: =F4*0.0000068 -> 0 | R4: =IF(Q4<=20,"BRT",Q4) -> BRT
B5: =IF(Jan!B11="","",Jan!B11) -> Mill Bay, Stronsay | C5: =IF(Jan!C11="","",Jan!C11) -> MIL1 | D5: =IF(Jan!B11="","",Jan!D11) -> CAR/L/1034607 | E5: =IF('GENERAL GUIDELINES & SITE INFO'!N43="","",'GENERAL GUIDELINES & SITE INFO'!N43) -> salmon | F5: =SUM(Jan!X11,Feb!X11,Mar!X11,Apr!X11,May!X11,June!X11,July!X11,Aug!X11,Sept!X11,Oct!X11,Nov!X11,Dec!X11) -> 0 | G5: =IF(E5="Salmon",1)+IF(E5="Cod",1.5)+IF(E5="Halibut",1.4)+IF(E5="Haddock",1.5)+IF(E5="Trout",1) -> 1 | H5: =((F5*0.03*0.08)+(F5*0.08*0.6))*G5 -> 0 | I5: =IF(H5<=50000,"BRT",H5) -> BRT | J5: 1.2 | K5: =((F5*0.03*(J5/100))+(F5*(J5/100)*0.55)) -> 0 | L5: =IF(K5<=5000,"BRT",K5) -> BRT | M5: =(F5*0.03*0.49)+(F5*0.49*0.3) -> 0 | N5: =IF(M5<=50000,"BRT",M5) -> BRT | O5: =F5*0.0001423 -> 0 | P5: =IF(O5<=100,"BRT",O5) -> BRT | Q5: =F5*0.0000068 -> 0 | R5: =IF(Q5<=20,"BRT",Q5) -> BRT
B6: =IF(Jan!B12="","",Jan!B12) -> Puldrite Bay | C6: =IF(Jan!C12="","",Jan!C12) -> PUL1 | D6: =IF(Jan!B12="","",Jan!D12) -> CAR/L/1003954 | E6: =IF('GENERAL GUIDELINES & SITE INFO'!N44="","",'GENERAL GUIDELINES & SITE INFO'!N44) -> salmon | F6: =SUM(Jan!X12,Feb!X12,Mar!X12,Apr!X12,May!X12,June!X12,July!X12,Aug!X12,Sept!X12,Oct!X12,Nov!X12,Dec!X12) -> 265022 | G6: =IF(E6="Salmon",1)+IF(E6="Cod",1.5)+IF(E6="Halibut",1.4)+IF(E6="Haddock",1.5)+IF(E6="Trout",1) -> 1 | H6: =((F6*0.03*0.08)+(F6*0.08*0.6))*G6 -> 13357.109 | I6: =IF(H6<=50000,"BRT",H6) -> BRT | J6: 1.2 | K6: =((F6*0.03*(J6/100))+(F6*(J6/100)*0.55)) -> 1844.5531 | L6: =IF(K6<=5000,"BRT",K6) -> BRT | M6: =(F6*0.03*0.49)+(F6*0.49*0.3) -> 42854.057 | N6: =IF(M6<=50000,"BRT",M6) -> BRT | O6: =F6*0.0001423 -> 37.712631 | P6: =IF(O6<=100,"BRT",O6) -> BRT | Q6: =F6*0.0000068 -> 1.8021496 | R6: =IF(Q6<=20,"BRT",Q6) -> BRT
B7: =IF(Jan!B13="","",Jan!B13) -> Toy Ness | C7: =IF(Jan!C13="","",Jan!C13) -> TOYN1 | D7: =IF(Jan!B13="","",Jan!D13) -> CAR/L/1015855 | E7: =IF('GENERAL GUIDELINES & SITE INFO'!N45="","",'GENERAL GUIDELINES & SITE INFO'!N45) -> salmon | F7: =SUM(Jan!X13,Feb!X13,Mar!X13,Apr!X13,May!X13,June!X13,July!X13,Aug!X13,Sept!X13,Oct!X13,Nov!X13,Dec!X13) -> 51443 | G7: =IF(E7="Salmon",1)+IF(E7="Cod",1.5)+IF(E7="Halibut",1.4)+IF(E7="Haddock",1.5)+IF(E7="Trout",1) -> 1 | H7: =((F7*0.03*0.08)+(F7*0.08*0.6))*G7 -> 2592.7272 | I7: =IF(H7<=50000,"BRT",H7) -> BRT | J7: 1.2 | K7: =((F7*0.03*(J7/100))+(F7*(J7/100)*0.55)) -> 358.04328 | L7: =IF(K7<=5000,"BRT",K7) -> BRT | M7: =(F7*0.03*0.49)+(F7*0.49*0.3) -> 8318.3331 | N7: =IF(M7<=50000,"BRT",M7) -> BRT | O7: =F7*0.0001423 -> 7.3203389 | P7: =IF(O7<=100,"BRT",O7) -> BRT | Q7: =F7*0.0000068 -> 0.3498124 | R7: =IF(Q7<=20,"BRT",Q7) -> BRT
B8: =IF(Jan!B14="","",Jan!B14) -> Veantrow Bay | C8: =IF(Jan!C14="","",Jan!C14) -> VEA1 | D8: =IF(Jan!B14="","",Jan!D14) -> CAR/L/1003931 | E8: =IF('GENERAL GUIDELINES & SITE INFO'!N46="","",'GENERAL GUIDELINES & SITE INFO'!N46) -> salmon | F8: =SUM(Jan!X14,Feb!X14,Mar!X14,Apr!X14,May!X14,June!X14,July!X14,Aug!X14,Sept!X14,Oct!X14,Nov!X14,Dec!X14) -> 657212 | G8: =IF(E8="Salmon",1)+IF(E8="Cod",1.5)+IF(E8="Halibut",1.4)+IF(E8="Haddock",1.5)+IF(E8="Trout",1) -> 1 | H8: =((F8*0.03*0.08)+(F8*0.08*0.6))*G8 -> 33123.485 | I8: =IF(H8<=50000,"BRT",H8) -> BRT | J8: 1.2 | K8: =((F8*0.03*(J8/100))+(F8*(J8/100)*0.55)) -> 4574.1955 | L8: =IF(K8<=5000,"BRT",K8) -> BRT | M8: =(F8*0.03*0.49)+(F8*0.49*0.3) -> 106271.18 | N8: =IF(M8<=50000,"BRT",M8) -> 106271.18 | O8: =F8*0.0001423 -> 93.521268 | P8: =IF(O8<=100,"BRT",O8) -> BRT | Q8: =F8*0.0000068 -> 4.4690416 | R8: =IF(Q8<=20,"BRT",Q8) -> BRT
B9: =IF(Jan!B15="","",Jan!B15) | C9: =IF(Jan!C15="","",Jan!C15) | D9: =IF(Jan!B15="","",Jan!D15) | E9: =IF('GENERAL GUIDELINES & SITE INFO'!N47="","",'GENERAL GUIDELINES & SITE INFO'!N47) | F9: =SUM(Jan!X15,Feb!X15,Mar!X15,Apr!X15,May!X15,June!X15,July!X15,Aug!X15,Sept!X15,Oct!X15,Nov!X15,Dec!X15) -> 0 | G9: =IF(E9="Salmon",1)+IF(E9="Cod",1.5)+IF(E9="Halibut",1.4)+IF(E9="Haddock",1.5)+IF(E9="Trout",1) -> 0 | H9: =((F9*0.03*0.08)+(F9*0.08*0.6))*G9 -> 0 | I9: =IF(H9<=50000,"BRT",H9) -> BRT | J9: 1.2 | K9: =((F9*0.03*(J9/100))+(F9*(J9/100)*0.55)) -> 0 | L9: =IF(K9<=5000,"BRT",K9) -> BRT | M9: =(F9*0.03*0.49)+(F9*0.49*0.3) -> 0 | N9: =IF(M9<=50000,"BRT",M9) -> BRT | O9: =F9*0.0001423 -> 0 | P9: =IF(O9<=100,"BRT",O9) -> BRT | Q9: =F9*0.0000068 -> 0 | R9: =IF(Q9<=20,"BRT",Q9) -> BRT
B10: =IF(Jan!B16="","",Jan!B16) | C10: =IF(Jan!C16="","",Jan!C16) | D10: =IF(Jan!B16="","",Jan!D16) | E10: =IF('GENERAL GUIDELINES & SITE INFO'!N48="","",'GENERAL GUIDELINES & SITE INFO'!N48) | F10: =SUM(Jan!X16,Feb!X16,Mar!X16,Apr!X16,May!X16,June!X16,July!X16,Aug!X16,Sept!X16,Oct!X16,Nov!X16,Dec!X16) -> 0 | G10: =IF(E10="Salmon",1)+IF(E10="Cod",1.5)+IF(E10="Halibut",1.4)+IF(E10="Haddock",1.5)+IF(E10="Trout",1) -> 0 | H10: =((F10*0.03*0.08)+(F10*0.08*0.6))*G10 -> 0 | I10: =IF(H10<=50000,"BRT",H10) -> BRT | J10: 1.2 | K10: =((F10*0.03*(J10/100))+(F10*(J10/100)*0.55)) -> 0 | L10: =IF(K10<=5000,"BRT",K10) -> BRT | M10: =(F10*0.03*0.49)+(F10*0.49*0.3) -> 0 | N10: =IF(M10<=50000,"BRT",M10) -> BRT | O10: =F10*0.0001423 -> 0 | P10: =IF(O10<=100,"BRT",O10) -> BRT | Q10: =F10*0.0000068 -> 0 | R10: =IF(Q10<=20,"BRT",Q10) -> BRT
B11: =IF(Jan!B17="","",Jan!B17) | C11: =IF(Jan!C17="","",Jan!C17) | D11: =IF(Jan!B17="","",Jan!D17) | E11: =IF('GENERAL GUIDELINES & SITE INFO'!N49="","",'GENERAL GUIDELINES & SITE INFO'!N49) | F11: =SUM(Jan!X17,Feb!X17,Mar!X17,Apr!X17,May!X17,June!X17,July!X17,Aug!X17,Sept!X17,Oct!X17,Nov!X17,Dec!X17) -> 0 | G11: =IF(E11="Salmon",1)+IF(E11="Cod",1.5)+IF(E11="Halibut",1.4)+IF(E11="Haddock",1.5)+IF(E11="Trout",1) -> 0 | H11: =((F11*0.03*0.08)+(F11*0.08*0.6))*G11 -> 0 | I11: =IF(H11<=50000,"BRT",H11) -> BRT | J11: 1.2 | K11: =((F11*0.03*(J11/100))+(F11*(J11/100)*0.55)) -> 0 | L11: =IF(K11<=5000,"BRT",K11) -> BRT | M11: =(F11*0.03*0.49)+(F11*0.49*0.3) -> 0 | N11: =IF(M11<=50000,"BRT",M11) -> BRT | O11: =F11*0.0001423 -> 0 | P11: =IF(O11<=100,"BRT",O11) -> BRT | Q11: =F11*0.0000068 -> 0 | R11: =IF(Q11<=20,"BRT",Q11) -> BRT
B12: =IF(Jan!B18="","",Jan!B18) | C12: =IF(Jan!C18="","",Jan!C18) | D12: =IF(Jan!B18="","",Jan!D18) | E12: =IF('GENERAL GUIDELINES & SITE INFO'!N50="","",'GENERAL GUIDELINES & SITE INFO'!N50) | F12: =SUM(Jan!X18,Feb!X18,Mar!X18,Apr!X18,May!X18,June!X18,July!X18,Aug!X18,Sept!X18,Oct!X18,Nov!X18,Dec!X18) -> 0 | G12: =IF(E12="Salmon",1)+IF(E12="Cod",1.5)+IF(E12="Halibut",1.4)+IF(E12="Haddock",1.5)+IF(E12="Trout",1) -> 0 | H12: =((F12*0.03*0.08)+(F12*0.08*0.6))*G12 -> 0 | I12: =IF(H12<=50000,"BRT",H12) -> BRT | J12: 1.2 | K12: =((F12*0.03*(J12/100))+(F12*(J12/100)*0.55)) -> 0 | L12: =IF(K12<=5000,"BRT",K12) -> BRT | M12: =(F12*0.03*0.49)+(F12*0.49*0.3) -> 0 | N12: =IF(M12<=50000,"BRT",M12) -> BRT | O12: =F12*0.0001423 -> 0 | P12: =IF(O12<=100,"BRT",O12) -> BRT | Q12: =F12*0.0000068 -> 0 | R12: =IF(Q12<=20,"BRT",Q12) -> BRT

Sheet ADDITIONAL SPRI INFO
B2: =CONCATENATE('GENERAL GUIDELINES & SITE INFO'!E27," - NOTIFIABLE EMISSIONS") -> Scottish Seafarms Ltd - NOTIFIABLE EMISSIONS
B4: Notifiable emissions are unplanned and unlicenced emissions of a particular substance or substances to the environment. They may result from an emergency, mis-operation, accident or plant failure. Please enter details of any notifiable emissions below.
B7: Site Name | E7: Site ID | F7: Substance Emitted | I7: Amount (kg) | K7: Comments
B17: =CONCATENATE('GENERAL GUIDELINES & SITE INFO'!E27," - VOLUNTARY INFORMATION") -> Scottish Seafarms Ltd - VOLUNTARY INFORMATION
B19: This is voluntary information which, if provided, will appear with your data on the SPRI website. This will provide background information that will help users put your reported emission in context.
B22: Please note that this information will not be validated by SEPA.
B24: Please include a brief description of the activities or processes carried out at your site or installation (Max 4 lines)
B28: Is your installation regulated by other bodies? Please give details.
B32: Please provide your web address.
B33: (If you provide this it will appear with your data on the SPRI website as a hyperlink to your site.)
B35: What was the production volume from your main activity during the reporting year, including units? (eg. tonnes/year, MWh/yr, units/yr)
B37: How many staff were employed at the installation on the 31st December of the reporting year?
B39: On how many days did the facility operate during the reporting year?
B40: How are the emissions distributed over the reporting year?
B41: (Please see 'Guidance on completing the Scottish Pollutant Release Inventory reporting form' for information on how to complete this question.)
B44: What was your total Carbon (CO2) footprint in tonnes?
... B50: Water in m³

Sheet Jan
B2: =CONCATENATE('GENERAL GUIDELINES & SITE INFO'!E27," - monthly returns of biomass and anti-parasitic usage") -> Scottish Seafarms Ltd - monthly returns of biomass and anti-parasitic usage
B4: =CONCATENATE("Please complete and return by ",'GENERAL GUIDELINES & SITE INFO'!F32) -> Please complete and return by 13 Apr 2012;
AA5: Please Note
B6: Site Name | C6: Site ID | D6: Licence | E6: SEPA Team Area | F6: Enter the maximum biomass held on site during the month (tonnes) | G6: Licensed Biomass (tonnes) | H6: Biomass Exceedance (%) | I6: Enter the amount of chemical used NOT active ingredient. Entire treatment quantity should be entered in month treatment is initiated. | X6: Feed Used (kgs) | Y6: Mortalities | AA6: If Slice entry is highlighted in red please confirm value is correct here | AB6: Exceedance | AC6: Biomass Exceedance (tonnes)
I7: Excis (litres) containing 1% cypermethrin | J7: Cyp (grams) | K7: Total | L7: Salmosan (grams) containing 50% azamethiphos | M7: Aza (grams) | N7: Total | O7: Calicide (grams) containing 100% teflubenzuron | P7: TFBZ (grams) | Q7: Total | R7: Slice (grams) containing 0.2% emamectin benzoate | S7: Ema (grams) | T7: Total | U7: AMX (litres) containing 1% deltamethrin | V7: Delt (grams) | W7: Total | Y7: Number | Z7: Total weight (kgs)
A8: Scottish Sea Farms Ltd | B8: Bring Head | C8: SCAP1 | D8: CAR/L/1015854 | E8: ORK | F8: 506 | G8: 968 | H8: =IF((F8>G8),((F8-G8)/G8),"") | J8: =I8*10 -> 0 | K8: =IF(B8="","",Jan!J8) -> 0 | M8: =L8/2 -> 0 | N8: =IF(B8="","",Jan!M8) -> 0 | P8: =O8 -> 0 | Q8: =IF(B8="","",Jan!P8) -> 0 | S8: =R8/500 -> 0 | T8: =IF(B8="","",Jan!S8) -> 0 | V8: =U8*10 -> 0 | W8: =IF(B8="","",Jan!V8) -> 0 | X8: 61750 | Y8: 239 | Z8: 1257 | AB8: =F8-G8 -> -462 | AC8: =IF(AB8<0.0001,"",AB8) | AD8: =(R8/F8)/175 -> 0
A9: =IF(B9="","",A8) -> Scottish Sea Farms Ltd | B9: Eday Sound | C9: EDA1 | D9: CAR/L/1003956 | E9: ORK | G9: 800 | H9: =IF((F9>G9),((F9-G9)/G9),"") | J9: =I9*10 -> 0 | K9: =IF(B9="","",Jan!J9) -> 0 | M9: =L9/2 -> 0 | N9: =IF(B9="","",Jan!M9) -> 0 | P9: =O9 -> 0 | Q9: =IF(B9="","",Jan!P9) -> 0 | S9: =R9/500 -> 0 | T9: =IF(B9="","",Jan!S9) -> 0 | V9: =U9*10 -> 0 | W9: =IF(B9="","",Jan!V9) -> 0 | AB9: =F9-G9 -> -800 | AC9: =IF(AB9<0.0001,"",AB9) | AD9: =(R9/F9)/175 -> #DIV/0!
A10: =IF(B10="","",A9) -> Scottish Sea Farms Ltd | B10: Kirk Taing | C10: MILL1 | D10: CAR/L/1003952 | E10: ORK | G10: 800 | H10: =IF((F10>G10),((F10-G10)/G10),"") | J10: =I10*10 -> 0 | K10: =IF(B10="","",Jan!J10) -> 0 | M10: =L10/2 -> 0 | N10: =IF(B10="","",Jan!M10) -> 0 | P10: =O10 -> 0 | Q10: =IF(B10="","",Jan!P10) -> 0 | S10: =R10/500 -> 0 | T10: =IF(B10="","",Jan!S10) -> 0 | V10: =U10*10 -> 0 | W10: =IF(B10="","",Jan!V10) -> 0 | AB10: =F10-G10 -> -800 | AC10: =IF(AB10<0.0001,"",AB10) | AD10: =(R10/F10)/175 -> #DIV/0!
A11: =IF(B11="","",A10) -> Scottish Sea Farms Ltd | B11: Mill Bay, Stronsay | C11: MIL1 | D11: CAR/L/1034607 | E11: ORK | G11: 750 | H11: =IF((F11>G11),((F11-G11)/G11),"") | J11: =I11*10 -> 0 | K11: =IF(B11="","",Jan!J11) -> 0 | M11: =L11/2 -> 0 | N11: =IF(B11="","",Jan!M11) -> 0 | P11: =O11 -> 0 | Q11: =IF(B11="","",Jan!P11) -> 0 | S11: =R11/500 -> 0 | T11: =IF(B11="","",Jan!S11) -> 0 | V11: =U11*10 -> 0 | W11: =IF(B11="","",Jan!V11) -> 0 | AB11: =F11-G11 -> -750 | AC11: =IF(AB11<0.0001,"",AB11) | AD11: =(R11/F11)/175 -> #DIV/0!
A12: =IF(B12="","",A11) -> Scottish Sea Farms Ltd | B12: Puldrite Bay | C12: PUL1 | D12: CAR/L/1003954 | E12: ORK | F12: 510 | G12: 980 | H12: =IF((F12>G12),((F12-G12)/G12),"") | J12: =I12*10 -> 0 | K12: =IF(B12="","",Jan!J12) -> 0 | M12: =L12/2 -> 0 | N12: =IF(B12="","",Jan!M12) -> 0 | P12: =O12 -> 0 | Q12: =IF(B12="","",Jan!P12) -> 0 | S12: =R12/500 -> 0 | T12: =IF(B12="","",Jan!S12) -> 0 | V12: =U12*10 -> 0 | W12: =IF(B12="","",Jan!V12) -> 0 | X12: 79350 | Y12: 384 | Z12: 581 | AB12: =F12-G12 -> -470 | AC12: =IF(AB12<0.0001,"",AB12) | AD12: =(R12/F12)/175 -> 0
A13: =IF(B13="","",A12) -> Scottish Sea Farms Ltd | B13: Toy Ness | C13: TOYN1 | D13: CAR/L/1015855 | E13: ORK | F13: 615 | G13: 650 | H13: =IF((F13>G13),((F13-G13)/G13),"") | J13: =I13*10 -> 0 | K13: =IF(B13="","",Jan!J13) -> 0 | M13: =L13/2 -> 0 | N13: =IF(B13="","",Jan!M13) -> 0 | P13: =O13 -> 0 | Q13: =IF(B13="","",Jan!P13) -> 0 | S13: =R13/500 -> 0 | T13: =IF(B13="","",Jan!S13) -> 0 | V13: =U13*10 -> 0 | W13: =IF(B13="","",Jan!V13) -> 0 | X13: 49943 | Y13: 128 | Z13: 841 | AB13: =F13-G13 -> -35 | AC13: =IF(AB13<0.0001,"",AB13) | AD13: =(R13/F13)/175 -> 0
A14: =IF(B14="","",A13) -> Scottish Sea Farms Ltd | B14: Veantrow Bay | C14: VEA1 | D14: CAR/L/1003931 | E14: ORK | F14: 1089 | G14: 1264 | H14: =IF((F14>G14),((F14-G14)/G14),"") | J14: =I14*10 -> 0 | K14: =IF(B14="","",Jan!J14) -> 0 | M14: =L14/2 -> 0 | N14: =IF(B14="","",Jan!M14) -> 0 | P14: =O14 -> 0 | Q14: =IF(B14="","",Jan!P14) -> 0 | S14: =R14/500 -> 0 | T14: =IF(B14="","",Jan!S14) -> 0 | V14: =U14*10 -> 0 | W14: =IF(B14="","",Jan!V14) -> 0 | X14: 182138 | Y14: 5277 | Z14: 13623 | AB14: =F14-G14 -> -175 | AC14: =IF(AB14<0.0001,"",AB14) | AD14: =(R14/F14)/175 -> 0
A15: =IF(B15="","",A14) | H15: =IF((F15>G15),((F15-G15)/G15),"") | J15: =I15*10 -> 0 | K15: =IF(B15="","",Jan!J15) | M15: =L15/2 -> 0 | N15: =IF(B15="","",Jan!M15) | P15: =O15 -> 0 | Q15: =IF(B15="","",Jan!P15) | S15: =R15/500 -> 0 | T15: =IF(B15="","",Jan!S15) | V15: =U15*10 -> 0 | W15: =IF(B15="","",Jan!V15) | AB15: =F15-G15 -> 0 | AD15: =(R15/F15)/175 -> #DIV/0!
A16: =IF(B16="","",A15) | H16: =IF((F16>G16),((F16-G16)/G16),"") | J16: =I16*10 -> 0 | K16: =IF(B16="","",Jan!J16) | M16: =L16/2 -> 0 | N16: =IF(B16="","",Jan!M16) | P16: =O16 -> 0 | Q16: =IF(B16="","",Jan!P16) | S16: =R16/500 -> 0 | T16: =IF(B16="","",Jan!S16) | V16: =U16*10 -> 0 | W16: =IF(B16="","",Jan!V16) | AB16: =F16-G16 -> 0 | AD16: =(R16/F16)/175 -> #DIV/0!
A17: =IF(B17="","",A16) | H17: =IF((F17>G17),((F17-G17)/G17),"") | J17: =I17*10 -> 0 | K17: =IF(B17="","",Jan!J17) | M17: =L17/2 -> 0 | N17: =IF(B17="","",Jan!M17) | P17: =O17 -> 0 | Q17: =IF(B17="","",Jan!P17) | S17: =R17/500 -> 0 | T17: =IF(B17="","",Jan!S17) | V17: =U17*10 -> 0 | W17: =IF(B17="","",Jan!V17) | AB17: =F17-G17 -> 0 | AD17: =(R17/F17)/175 -> #DIV/0!
A18: =IF(B18="","",A17) | H18: =IF((F18>G18),((F18-G18)/G18),"") | J18: =I18*10 -> 0 | K18: =IF(B18="","",Jan!J18) | M18: =L18/2 -> 0 | N18: =IF(B18="","",Jan!M18) | P18: =O18 -> 0 | Q18: =IF(B18="","",Jan!P18) | S18: =R18/500 -> 0 | T18: =IF(B18="","",Jan!S18) | V18: =U18*10 -> 0 | W18: =IF(B18="","",Jan!V18) | AB18: =F18-G18 -> 0 | AD18: =(R18/F18)/175 -> #DIV/0!
A19: =IF(B19="","",A18) | H19: =IF((F19>G19),((F19-G19)/G19),"") | J19: =I19*10 -> 0 | K19: =IF(B19="","",Jan!J19) | M19: =L19/2 -> 0 | N19: =IF(B19="","",Jan!M19) | P19: =O19 -> 0 | Q19: =IF(B19="","",Jan!P19) | S19: =R19/500 -> 0 | T19: =IF(B19="","",Jan!S19) | V19: =U19*10 -> 0 | W19: =IF(B19="","",Jan!V19) | AB19: =F19-G19 -> 0 | AD19: =(R19/F19)/175 -> #DIV/0!
A20: =IF(B20="","",A19) | H20: =IF((F20>G20),((F20-G20)/G20),"") | J20: =I20*10 -> 0 | K20: =IF(B20="","",Jan!J20) | M20: =L20/2 -> 0 | N20: =IF(B20="","",Jan!M20) | P20: =O20 -> 0 | Q20: =IF(B20="","",Jan!P20) | S20: =R20/500 -> 0 | T20: =IF(B20="","",Jan!S20) | V20: =U20*10 -> 0 | W20: =IF(B20="","",Jan!V20) | AB20: =F20-G20 -> 0 | AD20: =(R20/F20)/175 -> #DIV/0!

Sheet Feb
B2: =CONCATENATE('GENERAL GUIDELINES & SITE INFO'!E27," - monthly returns of biomass and anti-parasitic usage") -> Scottish Seafarms Ltd - monthly returns of biomass and anti-parasitic usage
B4: =CONCATENATE("Please complete and return by ",'GENERAL GUIDELINES & SITE INFO'!F32) -> Please complete and return by 13 Apr 2012;
AA5: Please Note
B6: Site Name | C6: Site ID | D6: Licence | E6: SEPA Team Area | F6: Enter the maximum biomass held on site during the month (tonnes) | G6: Licensed Biomass (tonnes) | H6: Biomass Exceedance (%) | I6: Enter the amount of chemical used NOT active ingredient. Entire treatment quantity should be entered in month treatment is initiated. | X6: Feed Used (kgs) | Y6: Mortalities | AA6: If Slice entry is highlighted in red please confirm value is correct here | AB6: Exceedance | AC6: Biomass Exceedance (tonnes)
I7: Excis (litres) containing 1% cypermethrin | J7: Cyp (grams) | K7: Total | L7: Salmosan (grams) containing 50% azamethiphos | M7: Aza (grams) | N7: Total | O7: Calicide (grams) containing 100% teflubenzuron | P7: TFBZ (grams) | Q7: Total | R7: Slice (grams) containing 0.2% emamectin benzoate | S7: Ema (grams) | T7: Total | U7: AMX (litres) containing 1% deltamethrin | V7: Delt (grams) | W7: Total | Y7: Number | Z7: Total weight (kgs)
A8: =Jan!A8 -> Scottish Sea Farms Ltd | B8: =IF(Jan!B8="","",Jan!B8) -> Bring Head | C8: =IF(Jan!B8="","",Jan!C8) -> SCAP1 | D8: =IF(B8="","",Jan!D8) -> CAR/L/1015854 | E8: =IF(Jan!B8="","",Jan!E8) -> ORK | F8: 510 | G8: =IF(B8="","",Jan!G8) -> 968 | H8: =IF((F8>G8),((F8-G8)/G8),"") | J8: =I8*10 -> 0 | K8: =IF(B8="","",IF(Jan!K8="",Feb!J8,Jan!K8+Feb!J8)) -> 0 | M8: =L8/2 -> 0 | N8: =IF(B8="","",IF(Jan!N8="",Feb!M8,Jan!N8+Feb!M8)) -> 0 | P8: =O8 -> 0 | Q8: =IF(B8="","",IF(Jan!Q8="",Feb!P8,Jan!Q8+Feb!P8)) -> 0 | S8: =R8/500 -> 0 | T8: =IF(B8="","",IF(Jan!T8="",Feb!S8,Jan!T8+Feb!S8)) -> 0 | V8: =U8*10 -> 0 | W8: =IF(B8="","",IF(Jan!W8="",Feb!V8,Jan!W8+Feb!V8)) -> 0 | X8: 58700 | Y8: 297 | Z8: 1977 | AB8: =F8-G8 -> -458 | AC8: =IF(AB8<0.0001,"",AB8) | AD8: =(R8/F8)/175 -> 0
A9: =IF(B9="","",A8) -> Scottish Sea Farms Ltd | B9: =IF(Jan!B9="","",Jan!B9) -> Eday Sound | C9: =IF(Jan!B9="","",Jan!C9) -> EDA1 | D9: =IF(B9="","",Jan!D9) -> CAR/L/1003956 | E9: =IF(Jan!B9="","",Jan!E9) -> ORK | G9: =IF(B9="","",Jan!G9) -> 800 | H9: =IF((F9>G9),((F9-G9)/G9),"") | J9: =I9*10 -> 0 | K9: =IF(B9="","",IF(Jan!K9="",Feb!J9,Jan!K9+Feb!J9)) -> 0 | M9: =L9/2 -> 0 | N9: =IF(B9="","",IF(Jan!N9="",Feb!M9,Jan!N9+Feb!M9)) -> 0 | P9: =O9 -> 0 | Q9: =IF(B9="","",IF(Jan!Q9="",Feb!P9,Jan!Q9+Feb!P9)) -> 0 | S9: =R9/500 -> 0 | T9: =IF(B9="","",IF(Jan!T9="",Feb!S9,Jan!T9+Feb!S9)) -> 0 | V9: =U9*10 -> 0 | W9: =IF(B9="","",IF(Jan!W9="",Feb!V9,Jan!W9+Feb!V9)) -> 0 | AB9: =F9-G9 -> -800 | AC9: =IF(AB9<0.0001,"",AB9) | AD9: =(R9/F9)/175 -> #DIV/0!
A10: =IF(B10="","",A9) -> Scottish Sea Farms Ltd | B10: =IF(Jan!B10="","",Jan!B10) -> Kirk Taing | C10: =IF(Jan!B10="","",Jan!C10) -> MILL1 | D10: =IF(B10="","",Jan!D10) -> CAR/L/1003952 | E10: =IF(Jan!B10="","",Jan!E10) -> ORK | G10: =IF(B10="","",Jan!G10) -> 800 | H10: =IF((F10>G10),((F10-G10)/G10),"") | J10: =I10*10 -> 0 | K10: =IF(B10="","",IF(Jan!K10="",Feb!J10,Jan!K10+Feb!J10)) -> 0 | M10: =L10/2 -> 0 | N10: =IF(B10="","",IF(Jan!N10="",Feb!M10,Jan!N10+Feb!M10)) -> 0 | P10: =O10 -> 0 | Q10: =IF(B10="","",IF(Jan!Q10="",Feb!P10,Jan!Q10+Feb!P10)) -> 0 | S10: =R10/500 -> 0 | T10: =IF(B10="","",IF(Jan!T10="",Feb!S10,Jan!T10+Feb!S10)) -> 0 | V10: =U10*10 -> 0 | W10: =IF(B10="","",IF(Jan!W10="",Feb!V10,Jan!W10+Feb!V10)) -> 0 | AB10: =F10-G10 -> -800 | AC10: =IF(AB10<0.0001,"",AB10) | AD10: =(R10/F10)/175 -> #DIV/0!
A11: =IF(B11="","",A10) -> Scottish Sea Farms Ltd | B11: =IF(Jan!B11="","",Jan!B11) -> Mill Bay, Stronsay | C11: =IF(Jan!B11="","",Jan!C11) -> MIL1 | D11: =IF(B11="","",Jan!D11) -> CAR/L/1034607 | E11: =IF(Jan!B11="","",Jan!E11) -> ORK | G11: =IF(B11="","",Jan!G11) -> 750 | H11: =IF((F11>G11),((F11-G11)/G11),"") | J11: =I11*10 -> 0 | K11: =IF(B11="","",IF(Jan!K11="",Feb!J11,Jan!K11+Feb!J11)) -> 0 | M11: =L11/2 -> 0 | N11: =IF(B11="","",IF(Jan!N11="",Feb!M11,Jan!N11+Feb!M11)) -> 0 | P11: =O11 -> 0 | Q11: =IF(B11="","",IF(Jan!Q11="",Feb!P11,Jan!Q11+Feb!P11)) -> 0 | S11: =R11/500 -> 0 | T11: =IF(B11="","",IF(Jan!T11="",Feb!S11,Jan!T11+Feb!S11)) -> 0 | V11: =U11*10 -> 0 | W11: =IF(B11="","",IF(Jan!W11="",Feb!V11,Jan!W11+Feb!V11)) -> 0 | AB11: =F11-G11 -> -750 | AC11: =IF(AB11<0.0001,"",AB11) | AD11: =(R11/F11)/175 -> #DIV/0!
A12: =IF(B12="","",A11) -> Scottish Sea Farms Ltd | B12: =IF(Jan!B12="","",Jan!B12) -> Puldrite Bay | C12: =IF(Jan!B12="","",Jan!C12) -> PUL1 | D12: =IF(B12="","",Jan!D12) -> CAR/L/1003954 | E12: =IF(Jan!B12="","",Jan!E12) -> ORK | F12: 572 | G12: =IF(B12="","",Jan!G12) -> 980 | H12: =IF((F12>G12),((F12-G12)/G12),"") | J12: =I12*10 -> 0 | K12: =IF(B12="","",IF(Jan!K12="",Feb!J12,Jan!K12+Feb!J12)) -> 0 | M12: =L12/2 -> 0 | N12: =IF(B12="","",IF(Jan!N12="",Feb!M12,Jan!N12+Feb!M12)) -> 0 | P12: =O12 -> 0 | Q12: =IF(B12="","",IF(Jan!Q12="",Feb!P12,Jan!Q12+Feb!P12)) -> 0 | S12: =R12/500 -> 0 | T12: =IF(B12="","",IF(Jan!T12="",Feb!S12,Jan!T12+Feb!S12)) -> 0 | V12: =U12*10 -> 0 | W12: =IF(B12="","",IF(Jan!W12="",Feb!V12,Jan!W12+Feb!V12)) -> 0 | X12: 70701 | Y12: 55 | Z12: 109 | AB12: =F12-G12 -> -408 | AC12: =IF(AB12<0.0001,"",AB12) | AD12: =(R12/F12)/175 -> 0
A13: =IF(B13="","",A12) -> Scottish Sea Farms Ltd | B13: =IF(Jan!B13="","",Jan!B13) -> Toy Ness | C13: =IF(Jan!B13="","",Jan!C13) -> TOYN1 | D13: =IF(B13="","",Jan!D13) -> CAR/L/1015855 | E13: =IF(Jan!B13="","",Jan!E13) -> ORK | F13: 196 | G13: =IF(B13="","",Jan!G13) -> 650 | H13: =IF((F13>G13),((F13-G13)/G13),"") | J13: =I13*10 -> 0 | K13: =IF(B13="","",IF(Jan!K13="",Feb!J13,Jan!K13+Feb!J13)) -> 0 | M13: =L13/2 -> 0 | N13: =IF(B13="","",IF(Jan!N13="",Feb!M13,Jan!N13+Feb!M13)) -> 0 | P13: =O13 -> 0 | Q13: =IF(B13="","",IF(Jan!Q13="",Feb!P13,Jan!Q13+Feb!P13)) -> 0 | S13: =R13/500 -> 0 | T13: =IF(B13="","",IF(Jan!T13="",Feb!S13,Jan!T13+Feb!S13)) -> 0 | V13: =U13*10 -> 0 | W13: =IF(B13="","",IF(Jan!W13="",Feb!V13,Jan!W13+Feb!V13)) -> 0 | X13: 1500 | Y13: 0 | Z13: 0 | AB13: =F13-G13 -> -454 | AC13: =IF(AB13<0.0001,"",AB13) | AD13: =(R13/F13)/175 -> 0
A14: =IF(B14="","",A13) -> Scottish Sea Farms Ltd | B14: =IF(Jan!B14="","",Jan!B14) -> Veantrow Bay | C14: =IF(Jan!B14="","",Jan!C14) -> VEA1 | D14: =IF(B14="","",Jan!D14) -> CAR/L/1003931 | E14: =IF(Jan!B14="","",Jan!E14) -> ORK | F14: 1122 | G14: =IF(B14="","",Jan!G14) -> 1264 | H14: =IF((F14>G14),((F14-G14)/G14),"") | J14: =I14*10 -> 0 | K14: =IF(B14="","",IF(Jan!K14="",Feb!J14,Jan!K14+Feb!J14)) -> 0 | M14: =L14/2 -> 0 | N14: =IF(B14="","",IF(Jan!N14="",Feb!M14,Jan!N14+Feb!M14)) -> 0 | P14: =O14 -> 0 | Q14: =IF(B14="","",IF(Jan!Q14="",Feb!P14,Jan!Q14+Feb!P14)) -> 0 | S14: =R14/500 -> 0 | T14: =IF(B14="","",IF(Jan!T14="",Feb!S14,Jan!T14+Feb!S14)) -> 0 | V14: =U14*10 -> 0 | W14: =IF(B14="","",IF(Jan!W14="",Feb!V14,Jan!W14+Feb!V14)) -> 0 | X14: 210109 | Y14: 5806 | Z14: 9969 | AB14: =F14-G14 -> -142 | AC14: =IF(AB14<0.0001,"",AB14) | AD14: =(R14/F14)/175 -> 0
A15: =IF(B15="","",A14) | B15: =IF(Jan!B15="","",Jan!B15) | C15: =IF(Jan!B15="","",Jan!C15) | D15: =IF(B15="","",Jan!D15) | E15: =IF(Jan!B15="","",Jan!E15) | G15: =IF(B15="","",Jan!G15) | H15: =IF((F15>G15),((F15-G15)/G15),"") | J15: =I15*10 -> 0 | K15: =IF(B15="","",IF(Jan!K15="",Feb!J15,Jan!K15+Feb!J15)) | M15: =L15/2 -> 0 | N15: =IF(B15="","",IF(Jan!N15="",Feb!M15,Jan!N15+Feb!M15)) | P15: =O15 -> 0 | Q15: =IF(B15="","",IF(Jan!Q15="",Feb!P15,Jan!Q15+Feb!P15)) | S15: =R15/500 -> 0 | T15: =IF(B15="","",IF(Jan!T15="",Feb!S15,Jan!T15+Feb!S15)) | V15: =U15*10 -> 0 | W15: =IF(B15="","",IF(Jan!W15="",Feb!V15,Jan!W15+Feb!V15)) | AB15: =F15-G15 -> #VALUE! | AD15: =(R15/F15)/175 -> #DIV/0!
A16: =IF(B16="","",A15) | B16: =IF(Jan!B16="","",Jan!B16) | C16: =IF(Jan!B16="","",Jan!C16) | D16: =IF(B16="","",Jan!D16) | E16: =IF(Jan!B16="","",Jan!E16) | G16: =IF(B16="","",Jan!G16) | H16: =IF((F16>G16),((F16-G16)/G16),"") | J16: =I16*10 -> 0 | K16: =IF(B16="","",IF(Jan!K16="",Feb!J16,Jan!K16+Feb!J16)) | M16: =L16/2 -> 0 | N16: =IF(B16="","",IF(Jan!N16="",Feb!M16,Jan!N16+Feb!M16)) | P16: =O16 -> 0 | Q16: =IF(B16="","",IF(Jan!Q16="",Feb!P16,Jan!Q16+Feb!P16)) | S16: =R16/500 -> 0 | T16: =IF(B16="","",IF(Jan!T16="",Feb!S16,Jan!T16+Feb!S16)) | V16: =U16*10 -> 0 | W16: =IF(B16="","",IF(Jan!W16="",Feb!V16,Jan!W16+Feb!V16)) | AB16: =F16-G16 -> #VALUE! | AD16: =(R16/F16)/175 -> #DIV/0!
A17: =IF(B17="","",A16) | B17: =IF(Jan!B17="","",Jan!B17) | C17: =IF(Jan!B17="","",Jan!C17) | D17: =IF(B17="","",Jan!D17) | E17: =IF(Jan!B17="","",Jan!E17) | G17: =IF(B17="","",Jan!G17) | H17: =IF((F17>G17),((F17-G17)/G17),"") | J17: =I17*10 -> 0 | K17: =IF(B17="","",IF(Jan!K17="",Feb!J17,Jan!K17+Feb!J17)) | M17: =L17/2 -> 0 | N17: =IF(B17="","",IF(Jan!N17="",Feb!M17,Jan!N17+Feb!M17)) | P17: =O17 -> 0 | Q17: =IF(B17="","",IF(Jan!Q17="",Feb!P17,Jan!Q17+Feb!P17)) | S17: =R17/500 -> 0 | T17: =IF(B17="","",IF(Jan!T17="",Feb!S17,Jan!T17+Feb!S17)) | V17: =U17*10 -> 0 | W17: =IF(B17="","",IF(Jan!W17="",Feb!V17,Jan!W17+Feb!V17)) | AB17: =F17-G17 -> #VALUE! | AD17: =(R17/F17)/175 -> #DIV/0!
A18: =IF(B18="","",A17) | B18: =IF(Jan!B18="","",Jan!B18) | C18: =IF(Jan!B18="","",Jan!C18) | D18: =IF(B18="","",Jan!D18) | E18: =IF(Jan!B18="","",Jan!E18) | G18: =IF(B18="","",Jan!G18) | H18: =IF((F18>G18),((F18-G18)/G18),"") | J18: =I18*10 -> 0 | K18: =IF(B18="","",IF(Jan!K18="",Feb!J18,Jan!K18+Feb!J18)) | M18: =L18/2 -> 0 | N18: =IF(B18="","",IF(Jan!N18="",Feb!M18,Jan!N18+Feb!M18)) | P18: =O18 -> 0 | Q18: =IF(B18="","",IF(Jan!Q18="",Feb!P18,Jan!Q18+Feb!P18)) | S18: =R18/500 -> 0 | T18: =IF(B18="","",IF(Jan!T18="",Feb!S18,Jan!T18+Feb!S18)) | V18: =U18*10 -> 0 | W18: =IF(B18="","",IF(Jan!W18="",Feb!V18,Jan!W18+Feb!V18)) | AB18: =F18-G18 -> #VALUE! | AD18: =(R18/F18)/175 -> #DIV/0!
A19: =IF(B19="","",A18) | B19: =IF(Jan!B19="","",Jan!B19) | C19: =IF(Jan!B19="","",Jan!C19) | D19: =IF(B19="","",Jan!D19) | E19: =IF(Jan!B19="","",Jan!E19) | G19: =IF(B19="","",Jan!G19) | H19: =IF((F19>G19),((F19-G19)/G19),"") | J19: =I19*10 -> 0 | K19: =IF(B19="","",IF(Jan!K19="",Feb!J19,Jan!K19+Feb!J19)) | M19: =L19/2 -> 0 | N19: =IF(B19="","",IF(Jan!N19="",Feb!M19,Jan!N19+Feb!M19)) | P19: =O19 -> 0 | Q19: =IF(B19="","",IF(Jan!Q19="",Feb!P19,Jan!Q19+Feb!P19)) | S19: =R19/500 -> 0 | T19: =IF(B19="","",IF(Jan!T19="",Feb!S19,Jan!T19+Feb!S19)) | V19: =U19*10 -> 0 | W19: =IF(B19="","",IF(Jan!W19="",Feb!V19,Jan!W19+Feb!V19)) | AB19: =F19-G19 -> #VALUE! | AD19: =(R19/F19)/175 -> #DIV/0!
A20: =IF(B20="","",A19) | B20: =IF(Jan!B20="","",Jan!B20) | C20: =IF(Jan!B20="","",Jan!C20) | D20: =IF(B20="","",Jan!D20) | E20: =IF(Jan!B20="","",Jan!E20) | G20: =IF(B20="","",Jan!G20) | H20: =IF((F20>G20),((F20-G20)/G20),"") | J20: =I20*10 -> 0 | K20: =IF(B20="","",IF(Jan!K20="",Feb!J20,Jan!K20+Feb!J20)) | M20: =L20/2 -> 0 | N20: =IF(B20="","",IF(Jan!N20="",Feb!M20,Jan!N20+Feb!M20)) | P20: =O20 -> 0 | Q20: =IF(B20="","",IF(Jan!Q20="",Feb!P20,Jan!Q20+Feb!P20)) | S20: =R20/500 -> 0 | T20: =IF(B20="","",IF(Jan!T20="",Feb!S20,Jan!T20+Feb!S20)) | V20: =U20*10 -> 0 | W20: =IF(B20="","",IF(Jan!W20="",Feb!V20,Jan!W20+Feb!V20)) | AB20: =F20-G20 -> #VALUE! | AD20: =(R20/F20)/175 -> #DIV/0!

Sheet Mar
B2: =CONCATENATE('GENERAL GUIDELINES & SITE INFO'!E27," - monthly returns of biomass and anti-parasitic usage") -> Scottish Seafarms Ltd - monthly returns of biomass and anti-parasitic usage
B4: =CONCATENATE("Please complete and return by ",'GENERAL GUIDELINES & SITE INFO'!F32) -> Please complete and return by 13 Apr 2012;
AA5: Please Note
B6: Site Name | C6: Site ID | D6: Licence | E6: SEPA Team Area | F6: Enter the maximum biomass held on site during the month (tonnes) | G6: Licensed Biomass (tonnes) | H6: Biomass Exceedance (%) | I6: Enter the amount of chemical used NOT active ingredient. Entire treatment quantity should be entered in month treatment is initiated. | X6: Feed Used (kgs) | Y6: Mortalities | AA6: If Slice entry is highlighted in red please confirm value is correct here | AB6: Exceedance | AC6: Biomass Exceedance (tonnes)
I7: Excis (litres) containing 1% cypermethrin | J7: Cyp (grams) | K7: Total | L7: Salmosan (grams) containing 50% azamethiphos | M7: Aza (grams) | N7: Total | O7: Calicide (grams) containing 100% teflubenzuron | P7: TFBZ (grams) | Q7: Total | R7: Slice (grams) containing 0.2% emamectin benzoate | S7: Ema (grams) | T7: Total | U7: AMX (litres) containing 1% deltamethrin | V7: Delt (grams) | W7: Total | Y7: Number | Z7: Total weight (kgs)
A8: =Jan!A8 -> Scottish Sea Farms Ltd | B8: =IF(Feb!B8="","",Feb!B8) -> Bring Head | C8: =IF(Feb!C8="","",Feb!C8) -> SCAP1 | D8: =IF(Feb!D8="","",Feb!D8) -> CAR/L/1015854 | E8: =IF(Feb!E8="","",Feb!E8) -> ORK | F8: 510 | G8: =IF(B8="","",Feb!G8) -> 968 | H8: =IF((F8>G8),((F8-G8)/G8),"") | J8: =I8*10 -> 0 | K8: =IF(B8="","",IF(Feb!K8="",Mar!J8,Feb!K8+Mar!J8)) -> 0 | M8: =L8/2 -> 0 | N8: =IF(B8="","",IF(Feb!N8="",Mar!M8,Feb!N8+Mar!M8)) -> 0 | P8: =O8 -> 0 | Q8: =IF(B8="","",IF(Feb!Q8="",Mar!P8,Feb!Q8+Mar!P8)) -> 0 | S8: =R8/500 -> 0 | T8: =IF(B8="","",IF(Feb!T8="",Mar!S8,Feb!T8+Mar!S8)) -> 0 | V8: =U8*10 -> 0 | W8: =IF(B8="","",IF(Feb!W8="",Mar!V8,Feb!W8+Mar!V8)) -> 0 | X8: 26000 | Y8: 2493 | Z8: 18717 | AB8: =F8-G8 -> -458 | AC8: =IF(AB8<0.0001,"",AB8) | AD8: =(R8/F8)/175 -> 0
A9: =IF(B9="","",A8) -> Scottish Sea Farms Ltd | B9: =IF(Feb!B9="","",Feb!B9) -> Eday Sound | C9: =IF(Feb!C9="","",Feb!C9) -> EDA1 | D9: =IF(Feb!D9="","",Feb!D9) -> CAR/L/1003956 | E9: =IF(Feb!E9="","",Feb!E9) -> ORK | G9: =IF(B9="","",Feb!G9) -> 800 | H9: =IF((F9>G9),((F9-G9)/G9),"") | J9: =I9*10 -> 0 | K9: =IF(B9="","",IF(Feb!K9="",Mar!J9,Feb!K9+Mar!J9)) -> 0 | M9: =L9/2 -> 0 | N9: =IF(B9="","",IF(Feb!N9="",Mar!M9,Feb!N9+Mar!M9)) -> 0 | P9: =O9 -> 0 | Q9: =IF(B9="","",IF(Feb!Q9="",Mar!P9,Feb!Q9+Mar!P9)) -> 0 | S9: =R9/500 -> 0 | T9: =IF(B9="","",IF(Feb!T9="",Mar!S9,Feb!T9+Mar!S9)) -> 0 | V9: =U9*10 -> 0 | W9: =IF(B9="","",IF(Feb!W9="",Mar!V9,Feb!W9+Mar!V9)) -> 0 | AB9: =F9-G9 -> -800 | AC9: =IF(AB9<0.0001,"",AB9) | AD9: =(R9/F9)/175 -> #DIV/0!
A10: =IF(B10="","",A9) -> Scottish Sea Farms Ltd | B10: =IF(Feb!B10="","",Feb!B10) -> Kirk Taing | C10: =IF(Feb!C10="","",Feb!C10) -> MILL1 | D10: =IF(Feb!D10="","",Feb!D10) -> CAR/L/1003952 | E10: =IF(Feb!E10="","",Feb!E10) -> ORK | G10: =IF(B10="","",Feb!G10) -> 800 | H10: =IF((F10>G10),((F10-G10)/G10),"") | J10: =I10*10 -> 0 | K10: =IF(B10="","",IF(Feb!K10="",Mar!J10,Feb!K10+Mar!J10)) -> 0 | M10: =L10/2 -> 0 | N10: =IF(B10="","",IF(Feb!N10="",Mar!M10,Feb!N10+Mar!M10)) -> 0 | P10: =O10 -> 0 | Q10: =IF(B10="","",IF(Feb!Q10="",Mar!P10,Feb!Q10+Mar!P10)) -> 0 | S10: =R10/500 -> 0 | T10: =IF(B10="","",IF(Feb!T10="",Mar!S10,Feb!T10+Mar!S10)) -> 0 | V10: =U10*10 -> 0 | W10: =IF(B10="","",IF(Feb!W10="",Mar!V10,Feb!W10+Mar!V10)) -> 0 | AB10: =F10-G10 -> -800 | AC10: =IF(AB10<0.0001,"",AB10) | AD10: =(R10/F10)/175 -> #DIV/0!
A11: =IF(B11="","",A10) -> Scottish Sea Farms Ltd | B11: =IF(Feb!B11="","",Feb!B11) -> Mill Bay, Stronsay | C11: =IF(Feb!C11="","",Feb!C11) -> MIL1 | D11: =IF(Feb!D11="","",Feb!D11) -> CAR/L/1034607 | E11: =IF(Feb!E11="","",Feb!E11) -> ORK | G11: =IF(B11="","",Feb!G11) -> 750 | H11: =IF((F11>G11),((F11-G11)/G11),"") | J11: =I11*10 -> 0 | K11: =IF(B11="","",IF(Feb!K11="",Mar!J11,Feb!K11+Mar!J11)) -> 0 | M11: =L11/2 -> 0 | N11: =IF(B11="","",IF(Feb!N11="",Mar!M11,Feb!N11+Mar!M11)) -> 0 | P11: =O11 -> 0 | Q11: =IF(B11="","",IF(Feb!Q11="",Mar!P11,Feb!Q11+Mar!P11)) -> 0 | S11: =R11/500 -> 0 | T11: =IF(B11="","",IF(Feb!T11="",Mar!S11,Feb!T11+Mar!S11)) -> 0 | V11: =U11*10 -> 0 | W11: =IF(B11="","",IF(Feb!W11="",Mar!V11,Feb!W11+Mar!V11)) -> 0 | AB11: =F11-G11 -> -750 | AC11: =IF(AB11<0.0001,"",AB11) | AD11: =(R11/F11)/175 -> #DIV/0!
A12: =IF(B12="","",A11) -> Scottish Sea Farms Ltd | B12: =IF(Feb!B12="","",Feb!B12) -> Puldrite Bay | C12: =IF(Feb!C12="","",Feb!C12) -> PUL1 | D12: =IF(Feb!D12="","",Feb!D12) -> CAR/L/1003954 | E12: =IF(Feb!E12="","",Feb!E12) -> ORK | F12: 603 | G12: =IF(B12="","",Feb!G12) -> 980 | H12: =IF((F12>G12),((F12-G12)/G12),"") | J12: =I12*10 -> 0 | K12: =IF(B12="","",IF(Feb!K12="",Mar!J12,Feb!K12+Mar!J12)) -> 0 | M12: =L12/2 -> 0 | N12: =IF(B12="","",IF(Feb!N12="",Mar!M12,Feb!N12+Mar!M12)) -> 0 | P12: =O12 -> 0 | Q12: =IF(B12="","",IF(Feb!Q12="",Mar!P12,Feb!Q12+Mar!P12)) -> 0 | S12: =R12/500 -> 0 | T12: =IF(B12="","",IF(Feb!T12="",Mar!S12,Feb!T12+Mar!S12)) -> 0 | V12: =U12*10 -> 0 | W12: =IF(B12="","",IF(Feb!W12="",Mar!V12,Feb!W12+Mar!V12)) -> 0 | X12: 114971 | Y12: 193 | Z12: 395 | AB12: =F12-G12 -> -377 | AC12: =IF(AB12<0.0001,"",AB12) | AD12: =(R12/F12)/175 -> 0
A13: =IF(B13="","",A12) -> Scottish Sea Farms Ltd | B13: =IF(Feb!B13="","",Feb!B13) -> Toy Ness | C13: =IF(Feb!C13="","",Feb!C13) -> TOYN1 | D13: =IF(Feb!D13="","",Feb!D13) -> CAR/L/1015855 | E13: =IF(Feb!E13="","",Feb!E13) -> ORK | F13: 0 | G13: =IF(B13="","",Feb!G13) -> 650 | H13: =IF((F13>G13),((F13-G13)/G13),"") | J13: =I13*10 -> 0 | K13: =IF(B13="","",IF(Feb!K13="",Mar!J13,Feb!K13+Mar!J13)) -> 0 | M13: =L13/2 -> 0 | N13: =IF(B13="","",IF(Feb!N13="",Mar!M13,Feb!N13+Mar!M13)) -> 0 | P13: =O13 -> 0 | Q13: =IF(B13="","",IF(Feb!Q13="",Mar!P13,Feb!Q13+Mar!P13)) -> 0 | S13: =R13/500 -> 0 | T13: =IF(B13="","",IF(Feb!T13="",Mar!S13,Feb!T13+Mar!S13)) -> 0 | V13: =U13*10 -> 0 | W13: =IF(B13="","",IF(Feb!W13="",Mar!V13,Feb!W13+Mar!V13)) -> 0 | X13: 0 | Y13: 0 | Z13: 0 | AB13: =F13-G13 -> -650 | AC13: =IF(AB13<0.0001,"",AB13) | AD13: =(R13/F13)/175 -> #DIV/0!
A14: =IF(B14="","",A13) -> Scottish Sea Farms Ltd | B14: =IF(Feb!B14="","",Feb!B14) -> Veantrow Bay | C14: =IF(Feb!C14="","",Feb!C14) -> VEA1 | D14: =IF(Feb!D14="","",Feb!D14) -> CAR/L/1003931 | E14: =IF(Feb!E14="","",Feb!E14) -> ORK | F14: 1145 | G14: =IF(B14="","",Feb!G14) -> 1264 | H14: =IF((F14>G14),((F14-G14)/G14),"") | J14: =I14*10 -> 0 | K14: =IF(B14="","",IF(Feb!K14="",Mar!J14,Feb!K14+Mar!J14)) -> 0 | M14: =L14/2 -> 0 | N14: =IF(B14="","",IF(Feb!N14="",Mar!M14,Feb!N14+Mar!M14)) -> 0 | P14: =O14 -> 0 | Q14: =IF(B14="","",IF(Feb!Q14="",Mar!P14,Feb!Q14+Mar!P14)) -> 0 | S14: =R14/500 -> 0 | T14: =IF(B14="","",IF(Feb!T14="",Mar!S14,Feb!T14+Mar!S14)) -> 0 | V14: =U14*10 -> 0 | W14: =IF(B14="","",IF(Feb!W14="",Mar!V14,Feb!W14+Mar!V14)) -> 0 | X14: 264965 | Y14: 4182 | Z14: 10808 | AB14: =F14-G14 -> -119 | AC14: =IF(AB14<0.0001,"",AB14) | AD14: =(R14/F14)/175 -> 0
A15: =IF(B15="","",A14) | B15: =IF(Feb!B15="","",Feb!B15) | C15: =IF(Feb!C15="","",Feb!C15) | D15: =IF(Feb!D15="","",Feb!D15) | E15: =IF(Feb!E15="","",Feb!E15) | G15: =IF(B15="","",Feb!G15) | H15: =IF((F15>G15),((F15-G15)/G15),"") | J15: =I15*10 -> 0 | K15: =IF(B15="","",IF(Feb!K15="",Mar!J15,Feb!K15+Mar!J15)) | M15: =L15/2 -> 0 | N15: =IF(B15="","",IF(Feb!N15="",Mar!M15,Feb!N15+Mar!M15)) | P15: =O15 -> 0 | Q15: =IF(B15="","",IF(Feb!Q15="",Mar!P15,Feb!Q15+Mar!P15)) | S15: =R15/500 -> 0 | T15: =IF(B15="","",IF(Feb!T15="",Mar!S15,Feb!T15+Mar!S15)) | V15: =U15*10 -> 0 | W15: =IF(B15="","",IF(Feb!W15="",Mar!V15,Feb!W15+Mar!V15)) | AB15: =F15-G15 -> #VALUE! | AD15: =(R15/F15)/175 -> #DIV/0!
A16: =IF(B16="","",A15) | B16: =IF(Feb!B16="","",Feb!B16) | C16: =IF(Feb!C16="","",Feb!C16) | D16: =IF(Feb!D16="","",Feb!D16) | E16: =IF(Feb!E16="","",Feb!E16) | G16: =IF(B16="","",Feb!G16) | H16: =IF((F16>G16),((F16-G16)/G16),"") | J16: =I16*10 -> 0 | K16: =IF(B16="","",IF(Feb!K16="",Mar!J16,Feb!K16+Mar!J16)) | M16: =L16/2 -> 0 | N16: =IF(B16="","",IF(Feb!N16="",Mar!M16,Feb!N16+Mar!M16)) | P16: =O16 -> 0 | Q16: =IF(B16="","",IF(Feb!Q16="",Mar!P16,Feb!Q16+Mar!P16)) | S16: =R16/500 -> 0 | T16: =IF(B16="","",IF(Feb!T16="",Mar!S16,Feb!T16+Mar!S16)) | V16: =U16*10 -> 0 | W16: =IF(B16="","",IF(Feb!W16="",Mar!V16,Feb!W16+Mar!V16)) | AB16: =F16-G16 -> #VALUE! | AD16: =(R16/F16)/175 -> #DIV/0!
A17: =IF(B17="","",A16) | B17: =IF(Feb!B17="","",Feb!B17) | C17: =IF(Feb!C17="","",Feb!C17) | D17: =IF(Feb!D17="","",Feb!D17) | E17: =IF(Feb!E17="","",Feb!E17) | G17: =IF(B17="","",Feb!G17) | H17: =IF((F17>G17),((F17-G17)/G17),"") | J17: =I17*10 -> 0 | K17: =IF(B17="","",IF(Feb!K17="",Mar!J17,Feb!K17+Mar!J17)) | M17: =L17/2 -> 0 | N17: =IF(B17="","",IF(Feb!N17="",Mar!M17,Feb!N17+Mar!M17)) | P17: =O17 -> 0 | Q17: =IF(B17="","",IF(Feb!Q17="",Mar!P17,Feb!Q17+Mar!P17)) | S17: =R17/500 -> 0 | T17: =IF(B17="","",IF(Feb!T17="",Mar!S17,Feb!T17+Mar!S17)) | V17: =U17*10 -> 0 | W17: =IF(B17="","",IF(Feb!W17="",Mar!V17,Feb!W17+Mar!V17)) | AB17: =F17-G17 -> #VALUE! | AD17: =(R17/F17)/175 -> #DIV/0!
A18: =IF(B18="","",A17) | B18: =IF(Feb!B18="","",Feb!B18) | C18: =IF(Feb!C18="","",Feb!C18) | D18: =IF(Feb!D18="","",Feb!D18) | E18: =IF(Feb!E18="","",Feb!E18) | G18: =IF(B18="","",Feb!G18) | H18: =IF((F18>G18),((F18-G18)/G18),"") | J18: =I18*10 -> 0 | K18: =IF(B18="","",IF(Feb!K18="",Mar!J18,Feb!K18+Mar!J18)) | M18: =L18/2 -> 0 | N18: =IF(B18="","",IF(Feb!N18="",Mar!M18,Feb!N18+Mar!M18)) | P18: =O18 -> 0 | Q18: =IF(B18="","",IF(Feb!Q18="",Mar!P18,Feb!Q18+Mar!P18)) | S18: =R18/500 -> 0 | T18: =IF(B18="","",IF(Feb!T18="",Mar!S18,Feb!T18+Mar!S18)) | V18: =U18*10 -> 0 | W18: =IF(B18="","",IF(Feb!W18="",Mar!V18,Feb!W18+Mar!V18)) | AB18: =F18-G18 -> #VALUE! | AD18: =(R18/F18)/175 -> #DIV/0!
A19: =IF(B19="","",A18) | B19: =IF(Feb!B19="","",Feb!B19) | C19: =IF(Feb!C19="","",Feb!C19) | D19: =IF(Feb!D19="","",Feb!D19) | E19: =IF(Feb!E19="","",Feb!E19) | G19: =IF(B19="","",Feb!G19) | H19: =IF((F19>G19),((F19-G19)/G19),"") | J19: =I19*10 -> 0 | K19: =IF(B19="","",IF(Feb!K19="",Mar!J19,Feb!K19+Mar!J19)) | M19: =L19/2 -> 0 | N19: =IF(B19="","",IF(Feb!N19="",Mar!M19,Feb!N19+Mar!M19)) | P19: =O19 -> 0 | Q19: =IF(B19="","",IF(Feb!Q19="",Mar!P19,Feb!Q19+Mar!P19)) | S19: =R19/500 -> 0 | T19: =IF(B19="","",IF(Feb!T19="",Mar!S19,Feb!T19+Mar!S19)) | V19: =U19*10 -> 0 | W19: =IF(B19="","",IF(Feb!W19="",Mar!V19,Feb!W19+Mar!V19)) | AB19: =F19-G19 -> #VALUE! | AD19: =(R19/F19)/175 -> #DIV/0!
A20: =IF(B20="","",A19) | B20: =IF(Feb!B20="","",Feb!B20) | C20: =IF(Feb!C20="","",Feb!C20) | D20: =IF(Feb!D20="","",Feb!D20) | E20: =IF(Feb!E20="","",Feb!E20) | G20: =IF(B20="","",Feb!G20) | H20: =IF((F20>G20),((F20-G20)/G20),"") | J20: =I20*10 -> 0 | K20: =IF(B20="","",IF(Feb!K20="",Mar!J20,Feb!K20+Mar!J20)) | M20: =L20/2 -> 0 | N20: =IF(B20="","",IF(Feb!N20="",Mar!M20,Feb!N20+Mar!M20)) | P20: =O20 -> 0 | Q20: =IF(B20="","",IF(Feb!Q20="",Mar!P20,Feb!Q20+Mar!P20)) | S20: =R20/500 -> 0 | T20: =IF(B20="","",IF(Feb!T20="",Mar!S20,Feb!T20+Mar!S20)) | V20: =U20*10 -> 0 | W20: =IF(B20="","",IF(Feb!W20="",Mar!V20,Feb!W20+Mar!V20)) | AB20: =F20-G20 -> #VALUE! | AD20: =(R20/F20)/175 -> #DIV/0!

Sheet Apr
B2: =CONCATENATE('GENERAL GUIDELINES & SITE INFO'!E27," - monthly returns of biomass and anti-parasitic usage") -> Scottish Seafarms Ltd - monthly returns of biomass and anti-parasitic usage
B4: =CONCATENATE("Please complete and return by ",'GENERAL GUIDELINES & SITE INFO'!G32) -> Please complete and return by 13 July 2012;
AA5: Please Note
B6: Site Name | C6: Site ID | D6: Licence | E6: SEPA Team Area | F6: Enter the maximum biomass held on site during the month (tonnes) | G6: Licensed Biomass (tonnes) | H6: Biomass Exceedance (%) | I6: Enter the amount of chemical used NOT active ingredient. Entire treatment quantity should be entered in month treatment is initiated. | X6: Feed Used (kgs) | Y6: Mortalities | AA6: If Slice entry is highlighted in red please confirm value is correct here | AB6: Exceedance | AC6: Biomass Exceedance (tonnes)
I7: Excis (litres) containing 1% cypermethrin | J7: Cyp (grams) | K7: Total | L7: Salmosan (grams) containing 50% azamethiphos | M7: Aza (grams) | N7: Total | O7: Calicide (grams) containing 100% teflubenzuron | P7: TFBZ (grams) | Q7: Total | R7: Slice (grams) containing 0.2% emamectin benzoate | S7: Ema (grams) | T7: Total | U7: AMX (litres) containing 1% deltamethrin | V7: Delt (grams) | W7: Total | Y7: Number | Z7: Total weight (kgs)
